BEGIN:VCALENDAR
VERSION:2.0
PRODID:-//Gemeinde Petting - ECPv6.15.20//NONSGML v1.0//EN
CALSCALE:GREGORIAN
METHOD:PUBLISH
X-WR-CALNAME:Gemeinde Petting
X-ORIGINAL-URL:https://www.gemeinde-petting.de
X-WR-CALDESC:Veranstaltungen für Gemeinde Petting
REFRESH-INTERVAL;VALUE=DURATION:PT1H
X-Robots-Tag:noindex
X-PUBLISHED-TTL:PT1H
BEGIN:VTIMEZONE
TZID:Europe/Paris
BEGIN:DAYLIGHT
TZOFFSETFROM:+0100
TZOFFSETTO:+0200
TZNAME:CEST
DTSTART:20240331T010000
END:DAYLIGHT
BEGIN:STANDARD
TZOFFSETFROM:+0200
TZOFFSETTO:+0100
TZNAME:CET
DTSTART:20241027T010000
END:STANDARD
BEGIN:DAYLIGHT
TZOFFSETFROM:+0100
TZOFFSETTO:+0200
TZNAME:CEST
DTSTART:20250330T010000
END:DAYLIGHT
BEGIN:STANDARD
TZOFFSETFROM:+0200
TZOFFSETTO:+0100
TZNAME:CET
DTSTART:20251026T010000
END:STANDARD
BEGIN:DAYLIGHT
TZOFFSETFROM:+0100
TZOFFSETTO:+0200
TZNAME:CEST
DTSTART:20260329T010000
END:DAYLIGHT
BEGIN:STANDARD
TZOFFSETFROM:+0200
TZOFFSETTO:+0100
TZNAME:CET
DTSTART:20261025T010000
END:STANDARD
BEGIN:DAYLIGHT
TZOFFSETFROM:+0100
TZOFFSETTO:+0200
TZNAME:CEST
DTSTART:20270328T010000
END:DAYLIGHT
BEGIN:STANDARD
TZOFFSETFROM:+0200
TZOFFSETTO:+0100
TZNAME:CET
DTSTART:20271031T010000
END:STANDARD
END:VTIMEZONE
BEGIN:VTIMEZONE
TZID:Europe/Berlin
BEGIN:DAYLIGHT
TZOFFSETFROM:+0100
TZOFFSETTO:+0200
TZNAME:CEST
DTSTART:20250330T010000
END:DAYLIGHT
BEGIN:STANDARD
TZOFFSETFROM:+0200
TZOFFSETTO:+0100
TZNAME:CET
DTSTART:20251026T010000
END:STANDARD
BEGIN:DAYLIGHT
TZOFFSETFROM:+0100
TZOFFSETTO:+0200
TZNAME:CEST
DTSTART:20260329T010000
END:DAYLIGHT
BEGIN:STANDARD
TZOFFSETFROM:+0200
TZOFFSETTO:+0100
TZNAME:CET
DTSTART:20261025T010000
END:STANDARD
BEGIN:DAYLIGHT
TZOFFSETFROM:+0100
TZOFFSETTO:+0200
TZNAME:CEST
DTSTART:20270328T010000
END:DAYLIGHT
BEGIN:STANDARD
TZOFFSETFROM:+0200
TZOFFSETTO:+0100
TZNAME:CET
DTSTART:20271031T010000
END:STANDARD
END:VTIMEZONE
BEGIN:VEVENT
DTSTART;VALUE=DATE:20250217
DTEND;VALUE=DATE:20270101
DTSTAMP:20260422T102147
CREATED:20250117T094539Z
LAST-MODIFIED:20251014T070542Z
UID:6119-1739750400-1798761599@www.gemeinde-petting.de
SUMMARY:Kinderglück und Ponyzeit
DESCRIPTION:Kinderglück und Ponyzeit 🐴❤️🍀 auf dem Höglerhof \nAlles rund ums Pony. \nWechselnde Programme z.B. geführtes Ponyreiten\, Bildersuchritte\, Pacours Einheiten mit pädagogischen Förderungen wie Motorische\, Kognitive \, Kreative\, Soziale Kompetenzen. Bastelspaß \nZeiten und Programme bitte erfragen unter 0160 / 476 52 59 Sabine \n0173 / 636 92 70 Isabel \n  \nWir freuen uns auf Euch🌿🌸 \nSabine und Isabel mit \nCarlos und Felino🐴 \n 
URL:https://www.gemeinde-petting.de/veranstaltung/kinderglueck-und-ponyzeit/
LOCATION:Höglerhof\, Brandhofen 4\, Petting\, Deutschland\, 83367
CATEGORIES:Veranstaltung
END:VEVENT
BEGIN:VEVENT
DTSTART;TZID=Europe/Berlin:20261203T133000
DTEND;TZID=Europe/Berlin:20261203T160000
DTSTAMP:20260422T102147
CREATED:20251029T103316Z
LAST-MODIFIED:20251029T103316Z
UID:7189-1796304600-1796313600@www.gemeinde-petting.de
SUMMARY:Pfarrcafe mit Hausgottesdienst
DESCRIPTION:Wir laden herzlich ein zum geselligen beisammensein bei Kaffee und Kuchen für Jung und Alt.
URL:https://www.gemeinde-petting.de/veranstaltung/pfarrcafe-mit-hausgottesdienst/
LOCATION:Pfarrheim\, Haupstr. 5\, Pertting\, 83367
CATEGORIES:Veranstaltung
END:VEVENT
BEGIN:VEVENT
DTSTART;TZID=Europe/Berlin:20261203T190000
DTEND;TZID=Europe/Berlin:20261203T190000
DTSTAMP:20260422T102147
CREATED:20251104T103836Z
LAST-MODIFIED:20251104T103836Z
UID:7394-1796324400-1796324400@www.gemeinde-petting.de
SUMMARY:Strick- und Häkeltreff
DESCRIPTION:
URL:https://www.gemeinde-petting.de/veranstaltung/strick-und-haekeltreff-8/
LOCATION:Raum Bürgerhilfe
CATEGORIES:Bürgerhilfe,Veranstaltung
END:VEVENT
BEGIN:VEVENT
DTSTART;VALUE=DATE:20261204
DTEND;VALUE=DATE:20261205
DTSTAMP:20260422T102147
CREATED:20251107T081012Z
LAST-MODIFIED:20251107T081012Z
UID:7532-1796342400-1796428799@www.gemeinde-petting.de
SUMMARY:Weihnachtsfeier Fischereiverein
DESCRIPTION:Ort und Uhrzeit noch nicht bekannt
URL:https://www.gemeinde-petting.de/veranstaltung/weihnachtsfeier-fischereiverein/
CATEGORIES:Veranstaltung
ORGANIZER;CN="Fischereiverein":MAILTO:fischereivereinpetting@t-online.de
END:VEVENT
BEGIN:VEVENT
DTSTART;TZID=Europe/Berlin:20261204T140000
DTEND;TZID=Europe/Berlin:20261204T170000
DTSTAMP:20260422T102147
CREATED:20251104T104008Z
LAST-MODIFIED:20251118T101614Z
UID:7396-1796392800-1796403600@www.gemeinde-petting.de
SUMMARY:Spielenachmittag für Erwachsene
DESCRIPTION:Mit Trixi Stadler. Wir spielen miteinander und gegeneinander. \nKeine Anmeldung erforderlich. \nAuf euer Kommen freut sich Trixi 🤗
URL:https://www.gemeinde-petting.de/veranstaltung/spielenachmittag-fuer-erwachsene-30/
LOCATION:Raum Bürgerhilfe
CATEGORIES:Bürgerhilfe,Veranstaltung
END:VEVENT
BEGIN:VEVENT
DTSTART;TZID=Europe/Berlin:20261205T090000
DTEND;TZID=Europe/Berlin:20261205T120000
DTSTAMP:20260422T102147
CREATED:20251103T103143Z
LAST-MODIFIED:20251103T103217Z
UID:7272-1796461200-1796472000@www.gemeinde-petting.de
SUMMARY:Aktion "Junge Leute helfen"
DESCRIPTION:
URL:https://www.gemeinde-petting.de/veranstaltung/akion-junge-leute-helfen/
LOCATION:Pfarrheim\, Haupstr. 5\, Pertting\, 83367
CATEGORIES:Veranstaltung
END:VEVENT
BEGIN:VEVENT
DTSTART;TZID=Europe/Berlin:20261206T140000
DTEND;TZID=Europe/Berlin:20261206T140000
DTSTAMP:20260422T102147
CREATED:20251107T083001Z
LAST-MODIFIED:20251107T083001Z
UID:7546-1796565600-1796565600@www.gemeinde-petting.de
SUMMARY:VdK Weihnachtsfeier
DESCRIPTION:
URL:https://www.gemeinde-petting.de/veranstaltung/vdk-weihnachtsfeier-2/
LOCATION:Café Götzinger\, Seestr. 43\, Petting\, 83367\, Deutschland
CATEGORIES:Veranstaltung
END:VEVENT
BEGIN:VEVENT
DTSTART;TZID=Europe/Berlin:20261208T143000
DTEND;TZID=Europe/Berlin:20261208T163000
DTSTAMP:20260422T102147
CREATED:20251104T104131Z
LAST-MODIFIED:20251118T092741Z
UID:7398-1796740200-1796747400@www.gemeinde-petting.de
SUMMARY:Basteln für die Großen 6-8 Jahre
DESCRIPTION:mit Vroni Allerberger\, Martina Öllerer & Karin Breinbauer \nTeilnehmerzahl: 8 -15 Kinder \nAnmeldung: Vroni Allerberger Tel: 0176-72911923 \nWir gestalten je nach Jahreszeit passende\, krative Kunstwerke. \nFür den kleinen Hunger zwischendurch wird gesorgt. \nBitte Malkittel mitnehmen oder Kleidung anziehen\, die bunt werden darf. \nWir freuen uns auf Euch 🤗
URL:https://www.gemeinde-petting.de/veranstaltung/basteln-fuer-die-grossen-6-8-jahre-3/
LOCATION:Raum Bürgerhilfe
CATEGORIES:Bürgerhilfe,Veranstaltung
END:VEVENT
BEGIN:VEVENT
DTSTART;TZID=Europe/Berlin:20261209T193000
DTEND;TZID=Europe/Berlin:20261209T203000
DTSTAMP:20260422T102147
CREATED:20251103T105632Z
LAST-MODIFIED:20251103T105632Z
UID:7294-1796844600-1796848200@www.gemeinde-petting.de
SUMMARY:Einladung zum Lobpreisabend
DESCRIPTION:ein jeder ist willkommen zum gemeinsamen Singen.
URL:https://www.gemeinde-petting.de/veranstaltung/einladung-zum-lobpreisabend-8/
LOCATION:Grundschule\, Schulstraße 6\, Petting\, Bayern\, 83367\, Deutschland
CATEGORIES:Veranstaltung
ORGANIZER;CN="Hans Steinma%C3%9Fl":MAILTO:st.hans@live.de
END:VEVENT
BEGIN:VEVENT
DTSTART;TZID=Europe/Berlin:20261212T093000
DTEND;TZID=Europe/Berlin:20261212T133000
DTSTAMP:20260422T102147
CREATED:20251105T084855Z
LAST-MODIFIED:20251119T085241Z
UID:7432-1797067800-1797082200@www.gemeinde-petting.de
SUMMARY:Plätzchen backen Kinder 6-14 Jahre
DESCRIPTION:Mit Sigrid Hinterreiter \nTeilnehmerzahl: max. 12 Kinder \nUnkostenbeitrag für Zutaten: 3\,–€ \nPlätzchen sind aus der Weihnachtszeit nur schwer wegzudenken- warum auch? \nSie schmecken nicht nur hervorragend\, sie gehören zur vorweihnachtlichen Gemütlichkeit einfach dazu. \nWir backen und naschen gemeinsam und bereiten uns auf die Weihnachtszeit vor. \nIch freue mich auf euch. \nAnmeldung unter: regina.junger@gmeinde-petting.de
URL:https://www.gemeinde-petting.de/veranstaltung/plaetzchen-backen-kinder-6-14-jahre/
LOCATION:Kinderkrippe Petting\, Haupstr. 2a\, Petting\, 83367
CATEGORIES:Bürgerhilfe,Veranstaltung
ORGANIZER;CN="Sigrid Hinterreiter":MAILTO:Sigrid@labella-gmbh.de
END:VEVENT
BEGIN:VEVENT
DTSTART;TZID=Europe/Berlin:20261212T170000
DTEND;TZID=Europe/Berlin:20261212T170000
DTSTAMP:20260422T102147
CREATED:20251107T082145Z
LAST-MODIFIED:20251107T082145Z
UID:7542-1797094800-1797094800@www.gemeinde-petting.de
SUMMARY:Christbaumtauchen Wasserwacht Kühnhausen
DESCRIPTION:Um 18 Uhr und um 19.30 Uhr steigt Neptun aus den Tiefen des Waginger Sees mit kleinen Geschenken für Kinder. \nFür das leibliche Wohl wird gesorgt. \nEintritt: ein Holzscheit oder freiwillige Spende. \nFindet bei jeder Witterung statt.
URL:https://www.gemeinde-petting.de/veranstaltung/christbaumtauchen-wasserwacht-kuehnhausen/
LOCATION:Campingplatz Stadler\, Strandbadstr. 11\, Petting\, 83367\, Deutschland
CATEGORIES:Veranstaltung
END:VEVENT
BEGIN:VEVENT
DTSTART;TZID=Europe/Berlin:20261216T190000
DTEND;TZID=Europe/Berlin:20261216T190000
DTSTAMP:20260422T102147
CREATED:20251103T103330Z
LAST-MODIFIED:20251103T103330Z
UID:7276-1797447600-1797447600@www.gemeinde-petting.de
SUMMARY:Bußgottesdienst
DESCRIPTION:
URL:https://www.gemeinde-petting.de/veranstaltung/bussgottesdienst-6/
LOCATION:Pfarrkirche
CATEGORIES:Veranstaltung
END:VEVENT
BEGIN:VEVENT
DTSTART;TZID=Europe/Berlin:20261219T200000
DTEND;TZID=Europe/Berlin:20261219T200000
DTSTAMP:20260422T102147
CREATED:20251106T105657Z
LAST-MODIFIED:20251106T105657Z
UID:7485-1797710400-1797710400@www.gemeinde-petting.de
SUMMARY:Weihnachtsfeier Schützengesellschaft
DESCRIPTION:
URL:https://www.gemeinde-petting.de/veranstaltung/weihnachtsfeier-schuetzengesellschaft-2/
LOCATION:Schönram\, Schönram\, 83367\, Deutschland
CATEGORIES:Veranstaltung
END:VEVENT
BEGIN:VEVENT
DTSTART;TZID=Europe/Berlin:20261220T083000
DTEND;TZID=Europe/Berlin:20261220T110000
DTSTAMP:20260422T102147
CREATED:20251016T085412Z
LAST-MODIFIED:20251016T085412Z
UID:7096-1797755400-1797764400@www.gemeinde-petting.de
SUMMARY:Kleintiermarkt
DESCRIPTION:Für den An- und Verkauf von Geflügel und Kleintieren veranstalten wir jeden 3. Sonntag im Monat von 8:30 Uhr bis 11:00 Uhr einen Markt in Schönram direkt neben der Brauerei. \nZum Verkauf stehen Hasen\, Kaninchen und andere Kleintiere\, Tauben\, Hühner\, Enten\, Gänse\, Wachteln und Ziervögel. \nIn den Sommermonaten ist bei den Märkten auch ein gewerblicher Tierhändler vor Ort\, der von Eintagsküken über Legehennen bis hin zu Enten verschiedene Geflügel im Angebot hat.
URL:https://www.gemeinde-petting.de/veranstaltung/kleintiermarkt-34/
LOCATION:Kellerhaus Schönram\, Salzburger Str.\, Petting\, Deutschland\, 83367
CATEGORIES:Veranstaltung
ORGANIZER;CN="Rassegefl%C3%BCgelzuchtverein":MAILTO:vorstand@rgzv-petting.de
END:VEVENT
BEGIN:VEVENT
DTSTART;TZID=Europe/Berlin:20261224T123000
DTEND;TZID=Europe/Berlin:20261224T141500
DTSTAMP:20260422T102147
CREATED:20251103T103752Z
LAST-MODIFIED:20251103T103752Z
UID:7278-1798115400-1798121700@www.gemeinde-petting.de
SUMMARY:Wir warten auf´s Christkind
DESCRIPTION:
URL:https://www.gemeinde-petting.de/veranstaltung/wir-warten-aufs-christkind-3/
LOCATION:Pfarrheim\, Haupstr. 5\, Pertting\, 83367
CATEGORIES:Veranstaltung
END:VEVENT
BEGIN:VEVENT
DTSTART;TZID=Europe/Berlin:20261224T143000
DTEND;TZID=Europe/Berlin:20261224T143000
DTSTAMP:20260422T102147
CREATED:20251103T103940Z
LAST-MODIFIED:20251103T103940Z
UID:7280-1798122600-1798122600@www.gemeinde-petting.de
SUMMARY:Kinderchristfeier
DESCRIPTION:
URL:https://www.gemeinde-petting.de/veranstaltung/kinderchristfeier-4/
LOCATION:Pfarrkirche
CATEGORIES:Veranstaltung
END:VEVENT
BEGIN:VEVENT
DTSTART;TZID=Europe/Berlin:20261224T200000
DTEND;TZID=Europe/Berlin:20261224T200000
DTSTAMP:20260422T102147
CREATED:20251103T104044Z
LAST-MODIFIED:20251103T104044Z
UID:7282-1798142400-1798142400@www.gemeinde-petting.de
SUMMARY:Christmette
DESCRIPTION:
URL:https://www.gemeinde-petting.de/veranstaltung/christmette-4/
LOCATION:Pfarrkirche
CATEGORIES:Veranstaltung
END:VEVENT
BEGIN:VEVENT
DTSTART;TZID=Europe/Berlin:20261228T200000
DTEND;TZID=Europe/Berlin:20261228T200000
DTSTAMP:20260422T102147
CREATED:20251107T075924Z
LAST-MODIFIED:20251107T075924Z
UID:7522-1798488000-1798488000@www.gemeinde-petting.de
SUMMARY:Weihnachtsfeier Trachtenverein
DESCRIPTION:
URL:https://www.gemeinde-petting.de/veranstaltung/weihnachtsfeier-trachtenverein-4/
LOCATION:Schönram\, Schönram\, 83367\, Deutschland
CATEGORIES:Veranstaltung
END:VEVENT
BEGIN:VEVENT
DTSTART;TZID=Europe/Berlin:20261231T080000
DTEND;TZID=Europe/Berlin:20261231T170000
DTSTAMP:20260422T102147
CREATED:20251106T105942Z
LAST-MODIFIED:20251106T105942Z
UID:7487-1798704000-1798736400@www.gemeinde-petting.de
SUMMARY:Neujahrsanspielen
DESCRIPTION:Die Musikkapelle Rinham-Petting geht von Haus zu Haus und überbringt einen musikalischen Neujahrsgruß.
URL:https://www.gemeinde-petting.de/veranstaltung/neujahrsanspielen-3/
LOCATION:Gemeinde Petting\, Hauptstr. 34\, Petting\, 83367\, Deutschland
CATEGORIES:Veranstaltung
ORGANIZER;CN="Musikkapelle Ringham-Petting":MAILTO:Mk-ringham-petting@web.de
END:VEVENT
END:VCALENDAR