BEGIN:VCALENDAR
VERSION:2.0
PRODID:-//Gemeinde Petting - ECPv6.15.20//NONSGML v1.0//EN
CALSCALE:GREGORIAN
METHOD:PUBLISH
X-ORIGINAL-URL:https://www.gemeinde-petting.de
X-WR-CALDESC:Veranstaltungen für Gemeinde Petting
REFRESH-INTERVAL;VALUE=DURATION:PT1H
X-Robots-Tag:noindex
X-PUBLISHED-TTL:PT1H
BEGIN:VTIMEZONE
TZID:Europe/Paris
BEGIN:DAYLIGHT
TZOFFSETFROM:+0100
TZOFFSETTO:+0200
TZNAME:CEST
DTSTART:20240331T010000
END:DAYLIGHT
BEGIN:STANDARD
TZOFFSETFROM:+0200
TZOFFSETTO:+0100
TZNAME:CET
DTSTART:20241027T010000
END:STANDARD
BEGIN:DAYLIGHT
TZOFFSETFROM:+0100
TZOFFSETTO:+0200
TZNAME:CEST
DTSTART:20250330T010000
END:DAYLIGHT
BEGIN:STANDARD
TZOFFSETFROM:+0200
TZOFFSETTO:+0100
TZNAME:CET
DTSTART:20251026T010000
END:STANDARD
BEGIN:DAYLIGHT
TZOFFSETFROM:+0100
TZOFFSETTO:+0200
TZNAME:CEST
DTSTART:20260329T010000
END:DAYLIGHT
BEGIN:STANDARD
TZOFFSETFROM:+0200
TZOFFSETTO:+0100
TZNAME:CET
DTSTART:20261025T010000
END:STANDARD
BEGIN:DAYLIGHT
TZOFFSETFROM:+0100
TZOFFSETTO:+0200
TZNAME:CEST
DTSTART:20270328T010000
END:DAYLIGHT
BEGIN:STANDARD
TZOFFSETFROM:+0200
TZOFFSETTO:+0100
TZNAME:CET
DTSTART:20271031T010000
END:STANDARD
END:VTIMEZONE
BEGIN:VTIMEZONE
TZID:Europe/Berlin
BEGIN:DAYLIGHT
TZOFFSETFROM:+0100
TZOFFSETTO:+0200
TZNAME:CEST
DTSTART:20250330T010000
END:DAYLIGHT
BEGIN:STANDARD
TZOFFSETFROM:+0200
TZOFFSETTO:+0100
TZNAME:CET
DTSTART:20251026T010000
END:STANDARD
BEGIN:DAYLIGHT
TZOFFSETFROM:+0100
TZOFFSETTO:+0200
TZNAME:CEST
DTSTART:20260329T010000
END:DAYLIGHT
BEGIN:STANDARD
TZOFFSETFROM:+0200
TZOFFSETTO:+0100
TZNAME:CET
DTSTART:20261025T010000
END:STANDARD
BEGIN:DAYLIGHT
TZOFFSETFROM:+0100
TZOFFSETTO:+0200
TZNAME:CEST
DTSTART:20270328T010000
END:DAYLIGHT
BEGIN:STANDARD
TZOFFSETFROM:+0200
TZOFFSETTO:+0100
TZNAME:CET
DTSTART:20271031T010000
END:STANDARD
END:VTIMEZONE
BEGIN:VEVENT
DTSTART;VALUE=DATE:20250217
DTEND;VALUE=DATE:20270101
DTSTAMP:20260422T084858
CREATED:20250117T094539Z
LAST-MODIFIED:20251014T070542Z
UID:6119-1739750400-1798761599@www.gemeinde-petting.de
SUMMARY:Kinderglück und Ponyzeit
DESCRIPTION:Kinderglück und Ponyzeit 🐴❤️🍀 auf dem Höglerhof \nAlles rund ums Pony. \nWechselnde Programme z.B. geführtes Ponyreiten\, Bildersuchritte\, Pacours Einheiten mit pädagogischen Förderungen wie Motorische\, Kognitive \, Kreative\, Soziale Kompetenzen. Bastelspaß \nZeiten und Programme bitte erfragen unter 0160 / 476 52 59 Sabine \n0173 / 636 92 70 Isabel \n  \nWir freuen uns auf Euch🌿🌸 \nSabine und Isabel mit \nCarlos und Felino🐴 \n 
URL:https://www.gemeinde-petting.de/veranstaltung/kinderglueck-und-ponyzeit/
LOCATION:Höglerhof\, Brandhofen 4\, Petting\, Deutschland\, 83367
CATEGORIES:Veranstaltung
END:VEVENT
BEGIN:VEVENT
DTSTART;TZID=Europe/Berlin:20261101T084500
DTEND;TZID=Europe/Berlin:20261101T084500
DTSTAMP:20260422T084858
CREATED:20251103T102604Z
LAST-MODIFIED:20251103T102604Z
UID:7266-1793522700-1793522700@www.gemeinde-petting.de
SUMMARY:Festgottesdienst Allerheiligen
DESCRIPTION:
URL:https://www.gemeinde-petting.de/veranstaltung/festgottesdienst-allerheiligen-5/
LOCATION:Pfarrkirche
CATEGORIES:Veranstaltung
END:VEVENT
BEGIN:VEVENT
DTSTART;TZID=Europe/Berlin:20261101T140000
DTEND;TZID=Europe/Berlin:20261101T140000
DTSTAMP:20260422T084858
CREATED:20251103T102746Z
LAST-MODIFIED:20251103T102746Z
UID:7268-1793541600-1793541600@www.gemeinde-petting.de
SUMMARY:Andacht und Gräbersegnung
DESCRIPTION:
URL:https://www.gemeinde-petting.de/veranstaltung/andacht-und-graebersegnung-2/
LOCATION:Pfarrkirche
CATEGORIES:Veranstaltung
END:VEVENT
BEGIN:VEVENT
DTSTART;TZID=Europe/Berlin:20261104T190000
DTEND;TZID=Europe/Berlin:20261104T203000
DTSTAMP:20260422T084858
CREATED:20251106T105259Z
LAST-MODIFIED:20260127T084716Z
UID:7481-1793818800-1793824200@www.gemeinde-petting.de
SUMMARY:Versammlung für alle Vereinsvorstände
DESCRIPTION:Wir laden alle Vereinsvorstände zur Besprechung und Planung des Veranstaltungskalender für 2027 ein\, um diesen aktiv mitzugestalten. \n 
URL:https://www.gemeinde-petting.de/veranstaltung/versammlung-alle-vereinsvorstaende/
LOCATION:Rathaus\, Hauptstr. 34\, Petting\, 83367\, Deutschland
CATEGORIES:Veranstaltung
END:VEVENT
BEGIN:VEVENT
DTSTART;TZID=Europe/Berlin:20261105T133000
DTEND;TZID=Europe/Berlin:20261105T160000
DTSTAMP:20260422T084858
CREATED:20251029T103148Z
LAST-MODIFIED:20251029T103148Z
UID:7187-1793885400-1793894400@www.gemeinde-petting.de
SUMMARY:Pfarrcafe
DESCRIPTION:Wir laden herzlich ein zum geselligen beisammensein bei Kaffee und Kuchen für Jung und Alt.
URL:https://www.gemeinde-petting.de/veranstaltung/pfarrcafe-18/
LOCATION:Pfarrheim\, Haupstr. 5\, Pertting\, 83367
CATEGORIES:Veranstaltung
END:VEVENT
BEGIN:VEVENT
DTSTART;TZID=Europe/Berlin:20261105T190000
DTEND;TZID=Europe/Berlin:20261105T190000
DTSTAMP:20260422T084858
CREATED:20251104T102353Z
LAST-MODIFIED:20251104T102353Z
UID:7384-1793905200-1793905200@www.gemeinde-petting.de
SUMMARY:Strick- und Häkeltreff
DESCRIPTION:
URL:https://www.gemeinde-petting.de/veranstaltung/strick-und-haekeltreff-7/
LOCATION:Raum Bürgerhilfe
CATEGORIES:Bürgerhilfe,Veranstaltung
END:VEVENT
BEGIN:VEVENT
DTSTART;TZID=Europe/Berlin:20261106T140000
DTEND;TZID=Europe/Berlin:20261106T170000
DTSTAMP:20260422T084858
CREATED:20251104T102509Z
LAST-MODIFIED:20251118T101432Z
UID:7386-1793973600-1793984400@www.gemeinde-petting.de
SUMMARY:Spielenachmittag für Erwachsene
DESCRIPTION:Mit Trixi Stadler. Wir spielen miteinander und gegeneinander. \nKeine Anmeldung erforderlich. \nAuf euer Kommen freut sich Trixi 🤗
URL:https://www.gemeinde-petting.de/veranstaltung/spielenachmittag-fuer-erwachsene-29/
LOCATION:Raum Bürgerhilfe
CATEGORIES:Bürgerhilfe,Veranstaltung
END:VEVENT
BEGIN:VEVENT
DTSTART;TZID=Europe/Berlin:20261107T200000
DTEND;TZID=Europe/Berlin:20261107T200000
DTSTAMP:20260422T084858
CREATED:20251106T105523Z
LAST-MODIFIED:20251106T105523Z
UID:7483-1794081600-1794081600@www.gemeinde-petting.de
SUMMARY:Herbstkonzert Musikkapelle Ringham-Petting
DESCRIPTION:
URL:https://www.gemeinde-petting.de/veranstaltung/herbstkonzert-musikkapelle-ringham-petting/
LOCATION:Turnhalle Petting
CATEGORIES:Veranstaltung
ORGANIZER;CN="Musikkapelle Ringham-Petting":MAILTO:Mk-ringham-petting@web.de
END:VEVENT
BEGIN:VEVENT
DTSTART;TZID=Europe/Berlin:20261111T180000
DTEND;TZID=Europe/Berlin:20261111T180000
DTSTAMP:20260422T084858
CREATED:20251107T073813Z
LAST-MODIFIED:20251107T082751Z
UID:7498-1794420000-1794420000@www.gemeinde-petting.de
SUMMARY:JHV Faschingsverein
DESCRIPTION:
URL:https://www.gemeinde-petting.de/veranstaltung/jhv-faschingsverein/
LOCATION:Sportheim
CATEGORIES:Veranstaltung
ORGANIZER;CN="Faschingsverein":MAILTO:sohaggepetting@gmail.com
END:VEVENT
BEGIN:VEVENT
DTSTART;TZID=Europe/Berlin:20261111T190000
DTEND;TZID=Europe/Berlin:20261111T190000
DTSTAMP:20260422T084858
CREATED:20251107T090109Z
LAST-MODIFIED:20251107T090109Z
UID:7575-1794423600-1794423600@www.gemeinde-petting.de
SUMMARY:Vortrag von "Friedbert Mühldorfer" Historischer Verein
DESCRIPTION:
URL:https://www.gemeinde-petting.de/veranstaltung/vortrag-von-friedbert-muehldorfer-historischer-verein/
LOCATION:Pfarrheim\, Haupstr. 5\, Pertting\, 83367
CATEGORIES:Veranstaltung
ORGANIZER;CN="Historischer Verein":MAILTO:st.hans@live.de
END:VEVENT
BEGIN:VEVENT
DTSTART;TZID=Europe/Berlin:20261112T080000
DTEND;TZID=Europe/Berlin:20261112T170000
DTSTAMP:20260422T084858
CREATED:20251203T090421Z
LAST-MODIFIED:20251203T090421Z
UID:7790-1794470400-1794502800@www.gemeinde-petting.de
SUMMARY:Schafkopfrunde
DESCRIPTION:Es sind alle herzlich eingeladen. \nDie Grundregeln sollten bekannt sein. \nOrganisiert wird das Ganze über unsere WhatsApp Gruppe. \nFragen gerne an Karin Strohmeyer unter Tel. 0151-12151041
URL:https://www.gemeinde-petting.de/veranstaltung/schafkopfrunde-22/
LOCATION:Raum Bürgerhilfe
CATEGORIES:Bürgerhilfe,Veranstaltung
END:VEVENT
BEGIN:VEVENT
DTSTART;TZID=Europe/Berlin:20261115T083000
DTEND;TZID=Europe/Berlin:20261115T110000
DTSTAMP:20260422T084858
CREATED:20251016T085323Z
LAST-MODIFIED:20251016T085323Z
UID:7094-1794731400-1794740400@www.gemeinde-petting.de
SUMMARY:Kleintiermarkt
DESCRIPTION:Für den An- und Verkauf von Geflügel und Kleintieren veranstalten wir jeden 3. Sonntag im Monat von 8:30 Uhr bis 11:00 Uhr einen Markt in Schönram direkt neben der Brauerei. \nZum Verkauf stehen Hasen\, Kaninchen und andere Kleintiere\, Tauben\, Hühner\, Enten\, Gänse\, Wachteln und Ziervögel. \nIn den Sommermonaten ist bei den Märkten auch ein gewerblicher Tierhändler vor Ort\, der von Eintagsküken über Legehennen bis hin zu Enten verschiedene Geflügel im Angebot hat.
URL:https://www.gemeinde-petting.de/veranstaltung/kleintiermarkt-33/
LOCATION:Kellerhaus Schönram\, Salzburger Str.\, Petting\, Deutschland\, 83367
CATEGORIES:Veranstaltung
ORGANIZER;CN="Rassegefl%C3%BCgelzuchtverein":MAILTO:vorstand@rgzv-petting.de
END:VEVENT
BEGIN:VEVENT
DTSTART;TZID=Europe/Berlin:20261115T084500
DTEND;TZID=Europe/Berlin:20261115T100000
DTSTAMP:20260422T084858
CREATED:20251103T102947Z
LAST-MODIFIED:20251106T073732Z
UID:7270-1794732300-1794736800@www.gemeinde-petting.de
SUMMARY:Sonntagsgottesdienst mit Totengedenken Kriegerdenkmal
DESCRIPTION:mit Kirchenzug zum Gasthaus Riedler
URL:https://www.gemeinde-petting.de/veranstaltung/sonntagsgottesdienst-mit-totengedenken-kriegerdenkmal/
LOCATION:Pfarrkirche
CATEGORIES:Veranstaltung
END:VEVENT
BEGIN:VEVENT
DTSTART;TZID=Europe/Berlin:20261117T143000
DTEND;TZID=Europe/Berlin:20261117T163000
DTSTAMP:20260422T084858
CREATED:20251104T103625Z
LAST-MODIFIED:20260113T093500Z
UID:7392-1794925800-1794933000@www.gemeinde-petting.de
SUMMARY:Lebkuchen backen 4-6 Jahre
DESCRIPTION:Einladung zum Lebkuchen backen für Kinder von 4-6 Jahre mit Anna Resch. \nAn diesem Nachmittag werden wir zusammen Lebkuchen 🍪 ausstechen\, formen\, backen und anschließend nach Lust und Laune verzieren. \n\nBitte den Unkostenbeitrag passend mitbringen. \n\nTeilnehmerzahl: max. 8 Kinder \nWir freuen uns auf Euer kommen 🤗.
URL:https://www.gemeinde-petting.de/veranstaltung/lebkuchen-backen-5-7-jahre/
LOCATION:Raum Bürgerhilfe
CATEGORIES:Bürgerhilfe,Veranstaltung
END:VEVENT
BEGIN:VEVENT
DTSTART;TZID=Europe/Berlin:20261120T150000
DTEND;TZID=Europe/Berlin:20261120T170000
DTSTAMP:20260422T084858
CREATED:20251104T102846Z
LAST-MODIFIED:20251118T104418Z
UID:7390-1795186800-1795194000@www.gemeinde-petting.de
SUMMARY:Spielenachmittag für Kinder
DESCRIPTION:Mit Trixi Stadler. \nKeine Anmeldung erforderlich. \nHier kommt der Spaß garantiert nicht zu kurz. \nLieblingsspiele können gern mitgebracht werden. \nWir freuen uns auf Euch 🤗
URL:https://www.gemeinde-petting.de/veranstaltung/spielenachmittag-fuer-kinder-17/
LOCATION:Raum Bürgerhilfe
CATEGORIES:Bürgerhilfe,Veranstaltung
END:VEVENT
BEGIN:VEVENT
DTSTART;VALUE=DATE:20261127
DTEND;VALUE=DATE:20261129
DTSTAMP:20260422T084858
CREATED:20251107T090223Z
LAST-MODIFIED:20251107T090223Z
UID:7577-1795737600-1795910399@www.gemeinde-petting.de
SUMMARY:Adventzauber in Petting
DESCRIPTION:
URL:https://www.gemeinde-petting.de/veranstaltung/adventzauber-in-petting/
LOCATION:Dorfplatz/Schule\, Schulstr. 2\, Petting\, 83367\, Deutschland
CATEGORIES:Veranstaltung
ORGANIZER;CN="Historischer Verein":MAILTO:st.hans@live.de
END:VEVENT
END:VCALENDAR