BEGIN:VCALENDAR
VERSION:2.0
PRODID:-//Gemeinde Petting - ECPv6.15.20//NONSGML v1.0//EN
CALSCALE:GREGORIAN
METHOD:PUBLISH
X-WR-CALNAME:Gemeinde Petting
X-ORIGINAL-URL:https://www.gemeinde-petting.de
X-WR-CALDESC:Veranstaltungen für Gemeinde Petting
REFRESH-INTERVAL;VALUE=DURATION:PT1H
X-Robots-Tag:noindex
X-PUBLISHED-TTL:PT1H
BEGIN:VTIMEZONE
TZID:Europe/Paris
BEGIN:DAYLIGHT
TZOFFSETFROM:+0100
TZOFFSETTO:+0200
TZNAME:CEST
DTSTART:20240331T010000
END:DAYLIGHT
BEGIN:STANDARD
TZOFFSETFROM:+0200
TZOFFSETTO:+0100
TZNAME:CET
DTSTART:20241027T010000
END:STANDARD
BEGIN:DAYLIGHT
TZOFFSETFROM:+0100
TZOFFSETTO:+0200
TZNAME:CEST
DTSTART:20250330T010000
END:DAYLIGHT
BEGIN:STANDARD
TZOFFSETFROM:+0200
TZOFFSETTO:+0100
TZNAME:CET
DTSTART:20251026T010000
END:STANDARD
BEGIN:DAYLIGHT
TZOFFSETFROM:+0100
TZOFFSETTO:+0200
TZNAME:CEST
DTSTART:20260329T010000
END:DAYLIGHT
BEGIN:STANDARD
TZOFFSETFROM:+0200
TZOFFSETTO:+0100
TZNAME:CET
DTSTART:20261025T010000
END:STANDARD
BEGIN:DAYLIGHT
TZOFFSETFROM:+0100
TZOFFSETTO:+0200
TZNAME:CEST
DTSTART:20270328T010000
END:DAYLIGHT
BEGIN:STANDARD
TZOFFSETFROM:+0200
TZOFFSETTO:+0100
TZNAME:CET
DTSTART:20271031T010000
END:STANDARD
END:VTIMEZONE
BEGIN:VTIMEZONE
TZID:Europe/Berlin
BEGIN:DAYLIGHT
TZOFFSETFROM:+0100
TZOFFSETTO:+0200
TZNAME:CEST
DTSTART:20250330T010000
END:DAYLIGHT
BEGIN:STANDARD
TZOFFSETFROM:+0200
TZOFFSETTO:+0100
TZNAME:CET
DTSTART:20251026T010000
END:STANDARD
BEGIN:DAYLIGHT
TZOFFSETFROM:+0100
TZOFFSETTO:+0200
TZNAME:CEST
DTSTART:20260329T010000
END:DAYLIGHT
BEGIN:STANDARD
TZOFFSETFROM:+0200
TZOFFSETTO:+0100
TZNAME:CET
DTSTART:20261025T010000
END:STANDARD
BEGIN:DAYLIGHT
TZOFFSETFROM:+0100
TZOFFSETTO:+0200
TZNAME:CEST
DTSTART:20270328T010000
END:DAYLIGHT
BEGIN:STANDARD
TZOFFSETFROM:+0200
TZOFFSETTO:+0100
TZNAME:CET
DTSTART:20271031T010000
END:STANDARD
END:VTIMEZONE
BEGIN:VEVENT
DTSTART;VALUE=DATE:20250217
DTEND;VALUE=DATE:20270101
DTSTAMP:20260422T071426
CREATED:20250117T094539Z
LAST-MODIFIED:20251014T070542Z
UID:6119-1739750400-1798761599@www.gemeinde-petting.de
SUMMARY:Kinderglück und Ponyzeit
DESCRIPTION:Kinderglück und Ponyzeit 🐴❤️🍀 auf dem Höglerhof \nAlles rund ums Pony. \nWechselnde Programme z.B. geführtes Ponyreiten\, Bildersuchritte\, Pacours Einheiten mit pädagogischen Förderungen wie Motorische\, Kognitive \, Kreative\, Soziale Kompetenzen. Bastelspaß \nZeiten und Programme bitte erfragen unter 0160 / 476 52 59 Sabine \n0173 / 636 92 70 Isabel \n  \nWir freuen uns auf Euch🌿🌸 \nSabine und Isabel mit \nCarlos und Felino🐴 \n 
URL:https://www.gemeinde-petting.de/veranstaltung/kinderglueck-und-ponyzeit/
LOCATION:Höglerhof\, Brandhofen 4\, Petting\, Deutschland\, 83367
CATEGORIES:Veranstaltung
END:VEVENT
BEGIN:VEVENT
DTSTART;TZID=Europe/Berlin:20261001T133000
DTEND;TZID=Europe/Berlin:20261001T160000
DTSTAMP:20260422T071426
CREATED:20251029T102843Z
LAST-MODIFIED:20251029T102843Z
UID:7185-1790861400-1790870400@www.gemeinde-petting.de
SUMMARY:Pfarrcafe
DESCRIPTION:Wir laden herzlich ein zum geselligen beisammensein bei Kaffee und Kuchen für Jung und Alt.
URL:https://www.gemeinde-petting.de/veranstaltung/pfarrcafe-17/
LOCATION:Pfarrheim\, Haupstr. 5\, Pertting\, 83367
CATEGORIES:Veranstaltung
END:VEVENT
BEGIN:VEVENT
DTSTART;TZID=Europe/Berlin:20261001T190000
DTEND;TZID=Europe/Berlin:20261001T190000
DTSTAMP:20260422T071426
CREATED:20251104T100859Z
LAST-MODIFIED:20251104T100859Z
UID:7368-1790881200-1790881200@www.gemeinde-petting.de
SUMMARY:Strick- und Häkeltreff
DESCRIPTION:
URL:https://www.gemeinde-petting.de/veranstaltung/strick-und-haekeltreff-6/
LOCATION:Raum Bürgerhilfe
CATEGORIES:Bürgerhilfe,Veranstaltung
END:VEVENT
BEGIN:VEVENT
DTSTART;TZID=Europe/Berlin:20261003T140000
DTEND;TZID=Europe/Berlin:20261003T170000
DTSTAMP:20260422T071426
CREATED:20251028T095610Z
LAST-MODIFIED:20251028T095610Z
UID:7154-1791036000-1791046800@www.gemeinde-petting.de
SUMMARY:Lebenshof Kuhtopia kostenlose Besuchstage
DESCRIPTION:Wir wollen in einer Welt leben\, in der alle Tiere ein Recht auf ein freies Leben haben\, und versuchen auf unserem Hof diese Utopie Wirklichkeit werden zu lassen. Auf unserem Hof leben 13 Rinder und 22 Hühner. Sie sind keine Nutztiere\, das heißt sie müssen weder Eier\, noch Milch oder Fleisch produzieren. Sie dürfen einfach leben. \nEs gibt eine Hofführung und im Anschluss ein veganes Mitbringbuffet und Getränke. Beiträge zum Buffet erbeten – egal ob süß oder herzhaft: Hauptsache vegan! \nDie Teilnahme ist kostenlos\,Spenden für die Tiere werden erbeten. \nANMELDUNG unter: kontakt@kuhtopia.de
URL:https://www.gemeinde-petting.de/veranstaltung/lebenshof-kuhtopia-kostenlose-besuchstage-6/
LOCATION:Kuhtopia e.V.\, Kirchberg 2\, Petting\, Deutschland\, 83367
CATEGORIES:Veranstaltung
ORGANIZER;CN="Kuhtopia e.V.":MAILTO:kontakt@kuhtopia.de
END:VEVENT
BEGIN:VEVENT
DTSTART;TZID=Europe/Berlin:20261006T143000
DTEND;TZID=Europe/Berlin:20261006T170000
DTSTAMP:20260422T071426
CREATED:20251104T101011Z
LAST-MODIFIED:20251118T093748Z
UID:7370-1791297000-1791306000@www.gemeinde-petting.de
SUMMARY:"Naturerlebnis Wald" für Kinder 4-8 Jahre
DESCRIPTION:mit Martina Öllerer\, Karin Breinbauer & Vroni Allerberger. \nTeilnehmerzahl: max. 15 Kinder \nAnmeldung unter: Vroni Allerberger Tel. 0176-72911923 \nIm Wald gibt es viel zu entdecken. Wir erkunden versteckte Wege\, bauen einen Unterschlupf aus Ästen und vieles mehr. \nBitte witterungsgerechte Kleidung anziehen. \nBei starken Wind und Regen entfällt das Programm. \nBitte mitzubringen Brotzeit und Trinken. \nWir freuen uns auf Euch 🤗
URL:https://www.gemeinde-petting.de/veranstaltung/naturerlebnis-wald-2/
CATEGORIES:Bürgerhilfe,Veranstaltung
END:VEVENT
BEGIN:VEVENT
DTSTART;TZID=Europe/Berlin:20261007T190000
DTEND;TZID=Europe/Berlin:20261007T190000
DTSTAMP:20260422T071426
CREATED:20251107T085914Z
LAST-MODIFIED:20251107T085914Z
UID:7573-1791399600-1791399600@www.gemeinde-petting.de
SUMMARY:Monatsstammtisch Historischer Verein
DESCRIPTION:
URL:https://www.gemeinde-petting.de/veranstaltung/monatsstammtisch-historischer-verein-2/
LOCATION:Gasthaus Riedler\, Haupstr. 36\, Petting\, 83367
CATEGORIES:Veranstaltung
END:VEVENT
BEGIN:VEVENT
DTSTART;TZID=Europe/Berlin:20261009T140000
DTEND;TZID=Europe/Berlin:20261009T170000
DTSTAMP:20260422T071426
CREATED:20251104T101133Z
LAST-MODIFIED:20251118T101353Z
UID:7372-1791554400-1791565200@www.gemeinde-petting.de
SUMMARY:Spielenachmittag für Erwachsene
DESCRIPTION:Mit Trixi Stadler. Wir spielen miteinander und gegeneinander. \nKeine Anmeldung erforderlich. \nAuf euer Kommen freut sich Trixi 🤗
URL:https://www.gemeinde-petting.de/veranstaltung/spielenachmittag-fuer-erwachsene-27/
LOCATION:Raum Bürgerhilfe
CATEGORIES:Bürgerhilfe,Veranstaltung
END:VEVENT
BEGIN:VEVENT
DTSTART;TZID=Europe/Berlin:20261013T180000
DTEND;TZID=Europe/Berlin:20261013T210000
DTSTAMP:20260422T071426
CREATED:20251104T101327Z
LAST-MODIFIED:20251119T084500Z
UID:7374-1791914400-1791925200@www.gemeinde-petting.de
SUMMARY:Erste Hilfe Kurs Teil 1- auch für Führerscheine
DESCRIPTION:Wir wünschen uns alle\, dass wir nie in die Situation kommen\, dass wir ihn brauchen\, \naber wenn doch\, ist es beruhigend\, ihn zu haben\, den Erste Hilfe Kurs. \nRegina Biffar vom Roten Kreuz Traunstein ist Expertin auf diesem Gebiet und zeigt uns alles Wichtige zu diesem Thema. Und das Beste: Der Kurs gilt auch für den Führerschein! \nGesamtkosten: 65\,00 Euro \n Anmeldung in der Gemeinde Petting bei Regina Junger \nE-Mail: regina.junger@gmeinde-petting.de
URL:https://www.gemeinde-petting.de/veranstaltung/erste-hilfe-kurs-teil-1-2/
LOCATION:Raum Bürgerhilfe
CATEGORIES:Bürgerhilfe,Veranstaltung
END:VEVENT
BEGIN:VEVENT
DTSTART;TZID=Europe/Berlin:20261014T191500
DTEND;TZID=Europe/Berlin:20261014T220000
DTSTAMP:20260422T071426
CREATED:20251203T090325Z
LAST-MODIFIED:20251203T090325Z
UID:7788-1792005300-1792015200@www.gemeinde-petting.de
SUMMARY:Schafkopfrunde
DESCRIPTION:Es sind alle herzlich eingeladen. \nDie Grundregeln sollten bekannt sein. \nOrganisiert wird das Ganze über unsere WhatsApp Gruppe. \nFragen gerne an Karin Strohmeyer unter Tel. 0151-12151041
URL:https://www.gemeinde-petting.de/veranstaltung/schafkopfrunde-21/
LOCATION:Raum Bürgerhilfe
CATEGORIES:Bürgerhilfe,Veranstaltung
END:VEVENT
BEGIN:VEVENT
DTSTART;TZID=Europe/Berlin:20261016T143000
DTEND;TZID=Europe/Berlin:20261016T170000
DTSTAMP:20260422T071426
CREATED:20251104T101631Z
LAST-MODIFIED:20251119T084823Z
UID:7376-1792161000-1792170000@www.gemeinde-petting.de
SUMMARY:Basteln für "Weihnachten im Schukarton"
DESCRIPTION:Für Erwachsene und Kinder ab 10 Jahren \n Unter Anleitung von Elke Schwangler basteln wir aus Schuhkartons hübsche Schmuckkästchen und füllen sie anschließend für die Aktion \n „Weihnachten im Schuhkarton“. \n Mützen\, Schals u. a. stellt die Bürgerhilfe bereit – kleine Geschenke (z. B. Kuscheltiere\, Stifte\, Zahnpasta …) dürfen gerne mitgebracht werden. \n Komm vorbei\, bastle mit und verbringe einen kreativen Nachmittag in netter Gesellschaft! \nMaterial ist vorhanden\, eigenes Bastelzubehör darf gerne mitgebracht werden.
URL:https://www.gemeinde-petting.de/veranstaltung/basteln-fuer-weihnachten-im-schukarton/
LOCATION:Raum Bürgerhilfe
CATEGORIES:Bürgerhilfe,Veranstaltung
END:VEVENT
BEGIN:VEVENT
DTSTART;TZID=Europe/Berlin:20261018T083000
DTEND;TZID=Europe/Berlin:20261018T110000
DTSTAMP:20260422T071426
CREATED:20251016T085236Z
LAST-MODIFIED:20251016T085236Z
UID:7092-1792312200-1792321200@www.gemeinde-petting.de
SUMMARY:Kleintiermarkt
DESCRIPTION:Für den An- und Verkauf von Geflügel und Kleintieren veranstalten wir jeden 3. Sonntag im Monat von 8:30 Uhr bis 11:00 Uhr einen Markt in Schönram direkt neben der Brauerei. \nZum Verkauf stehen Hasen\, Kaninchen und andere Kleintiere\, Tauben\, Hühner\, Enten\, Gänse\, Wachteln und Ziervögel. \nIn den Sommermonaten ist bei den Märkten auch ein gewerblicher Tierhändler vor Ort\, der von Eintagsküken über Legehennen bis hin zu Enten verschiedene Geflügel im Angebot hat.
URL:https://www.gemeinde-petting.de/veranstaltung/kleintiermarkt-32/
LOCATION:Kellerhaus Schönram\, Salzburger Str.\, Petting\, Deutschland\, 83367
CATEGORIES:Veranstaltung
ORGANIZER;CN="Rassegefl%C3%BCgelzuchtverein":MAILTO:vorstand@rgzv-petting.de
END:VEVENT
BEGIN:VEVENT
DTSTART;TZID=Europe/Berlin:20261018T084500
DTEND;TZID=Europe/Berlin:20261018T084500
DTSTAMP:20260422T071426
CREATED:20251103T102458Z
LAST-MODIFIED:20251103T102458Z
UID:7264-1792313100-1792313100@www.gemeinde-petting.de
SUMMARY:Festgottesdienst zu Kirchweih
DESCRIPTION:
URL:https://www.gemeinde-petting.de/veranstaltung/festgottesdienst-zu-kirchweih-2/
LOCATION:Pfarrkirche
CATEGORIES:Veranstaltung
END:VEVENT
BEGIN:VEVENT
DTSTART;TZID=Europe/Berlin:20261020T180000
DTEND;TZID=Europe/Berlin:20261020T210000
DTSTAMP:20260422T071426
CREATED:20251104T101749Z
LAST-MODIFIED:20251119T084635Z
UID:7378-1792519200-1792530000@www.gemeinde-petting.de
SUMMARY:Erste Hilfe Kurs Teil 2-auch für Führerscheine
DESCRIPTION:Wir wünschen uns alle\, dass wir nie in die Situation kommen\, dass wir ihn brauchen\, \naber wenn doch\, ist es beruhigend\, ihn zu haben\, den Erste Hilfe Kurs. \nRegina Biffar vom Roten Kreuz Traunstein ist Expertin auf diesem Gebiet und zeigt uns alles Wichtige zu diesem Thema. Und das Beste: Der Kurs gilt auch für den Führerschein! \nGesamtkosten: 65\,00 Euro \n Anmeldung in der Gemeinde Petting bei Regina Junger \nE-Mail: regina.junger@gmeinde-petting.de
URL:https://www.gemeinde-petting.de/veranstaltung/erste-hilfe-kurs-teil-2-2/
LOCATION:Raum Bürgerhilfe
CATEGORIES:Bürgerhilfe,Veranstaltung
END:VEVENT
BEGIN:VEVENT
DTSTART;TZID=Europe/Berlin:20261023T150000
DTEND;TZID=Europe/Berlin:20261023T170000
DTSTAMP:20260422T071426
CREATED:20251104T102054Z
LAST-MODIFIED:20251118T104326Z
UID:7380-1792767600-1792774800@www.gemeinde-petting.de
SUMMARY:Spielenachmittag für Kinder
DESCRIPTION:Mit Trixi Stadler. \nKeine Anmeldung erforderlich. \nHier kommt der Spaß garantiert nicht zu kurz. \nLieblingsspiele können gern mitgebracht werden. \nWir freuen uns auf Euch 🤗
URL:https://www.gemeinde-petting.de/veranstaltung/spielenachmittag-fuer-erwachsene-28/
LOCATION:Raum Bürgerhilfe
CATEGORIES:Bürgerhilfe,Veranstaltung
END:VEVENT
BEGIN:VEVENT
DTSTART;TZID=Europe/Berlin:20261024T180000
DTEND;TZID=Europe/Berlin:20261024T180000
DTSTAMP:20260422T071426
CREATED:20251105T091906Z
LAST-MODIFIED:20251105T091906Z
UID:7436-1792864800-1792864800@www.gemeinde-petting.de
SUMMARY:Vereinsschießen KSK
DESCRIPTION:
URL:https://www.gemeinde-petting.de/veranstaltung/vereinsschiessen-ksk/
LOCATION:Haus der Vereine Schönram
CATEGORIES:Veranstaltung
END:VEVENT
BEGIN:VEVENT
DTSTART;TZID=Europe/Berlin:20261025T193000
DTEND;TZID=Europe/Berlin:20261025T193000
DTSTAMP:20260422T071426
CREATED:20251107T075540Z
LAST-MODIFIED:20251107T075540Z
UID:7518-1792956600-1792956600@www.gemeinde-petting.de
SUMMARY:JHV Trachtenverein
DESCRIPTION:
URL:https://www.gemeinde-petting.de/veranstaltung/jhv-trachtenverein-4/
LOCATION:Haus der Vereine Schönram
CATEGORIES:Veranstaltung
END:VEVENT
BEGIN:VEVENT
DTSTART;TZID=Europe/Berlin:20261027T143000
DTEND;TZID=Europe/Berlin:20261027T163000
DTSTAMP:20260422T071426
CREATED:20251104T102225Z
LAST-MODIFIED:20251118T092343Z
UID:7382-1793111400-1793118600@www.gemeinde-petting.de
SUMMARY:Basteln für die Kleinen 4-5 Jahre
DESCRIPTION:mit Vroni Allerberger\, Martina Öllerer & Karin Breinbauer \nTeilnehmerzahl: 6 -15 Kinder \nAnmeldung: Vroni Allerberger Tel: 0176-72911923 \nWir gestalten je nach Jahreszeit passende\, krative Kunstwerke. \nFür den kleinen Hunger zwischendurch wird gesorgt. \nBitte Malkittel mitnehmen oder Kleidung anziehen\, die bunt werden darf. \nWir freuen uns auf Euch 🤗
URL:https://www.gemeinde-petting.de/veranstaltung/basteln-fuer-die-kleinen-4-5-jahre-6/
LOCATION:Raum Bürgerhilfe
CATEGORIES:Bürgerhilfe,Veranstaltung
END:VEVENT
BEGIN:VEVENT
DTSTART;TZID=Europe/Berlin:20261031T193000
DTEND;TZID=Europe/Berlin:20261031T193000
DTSTAMP:20260422T071426
CREATED:20251107T075813Z
LAST-MODIFIED:20251107T075813Z
UID:7520-1793475000-1793475000@www.gemeinde-petting.de
SUMMARY:Preiswattn in Schönram
DESCRIPTION:
URL:https://www.gemeinde-petting.de/veranstaltung/preiswattn-in-schoenram/
LOCATION:Haus der Vereine Schönram
CATEGORIES:Veranstaltung
END:VEVENT
END:VCALENDAR