BEGIN:VCALENDAR
VERSION:2.0
PRODID:-//Gemeinde Petting - ECPv6.15.20//NONSGML v1.0//EN
CALSCALE:GREGORIAN
METHOD:PUBLISH
X-ORIGINAL-URL:https://www.gemeinde-petting.de
X-WR-CALDESC:Veranstaltungen für Gemeinde Petting
REFRESH-INTERVAL;VALUE=DURATION:PT1H
X-Robots-Tag:noindex
X-PUBLISHED-TTL:PT1H
BEGIN:VTIMEZONE
TZID:Europe/Paris
BEGIN:DAYLIGHT
TZOFFSETFROM:+0100
TZOFFSETTO:+0200
TZNAME:CEST
DTSTART:20240331T010000
END:DAYLIGHT
BEGIN:STANDARD
TZOFFSETFROM:+0200
TZOFFSETTO:+0100
TZNAME:CET
DTSTART:20241027T010000
END:STANDARD
BEGIN:DAYLIGHT
TZOFFSETFROM:+0100
TZOFFSETTO:+0200
TZNAME:CEST
DTSTART:20250330T010000
END:DAYLIGHT
BEGIN:STANDARD
TZOFFSETFROM:+0200
TZOFFSETTO:+0100
TZNAME:CET
DTSTART:20251026T010000
END:STANDARD
BEGIN:DAYLIGHT
TZOFFSETFROM:+0100
TZOFFSETTO:+0200
TZNAME:CEST
DTSTART:20260329T010000
END:DAYLIGHT
BEGIN:STANDARD
TZOFFSETFROM:+0200
TZOFFSETTO:+0100
TZNAME:CET
DTSTART:20261025T010000
END:STANDARD
BEGIN:DAYLIGHT
TZOFFSETFROM:+0100
TZOFFSETTO:+0200
TZNAME:CEST
DTSTART:20270328T010000
END:DAYLIGHT
BEGIN:STANDARD
TZOFFSETFROM:+0200
TZOFFSETTO:+0100
TZNAME:CET
DTSTART:20271031T010000
END:STANDARD
END:VTIMEZONE
BEGIN:VTIMEZONE
TZID:Europe/Berlin
BEGIN:DAYLIGHT
TZOFFSETFROM:+0100
TZOFFSETTO:+0200
TZNAME:CEST
DTSTART:20250330T010000
END:DAYLIGHT
BEGIN:STANDARD
TZOFFSETFROM:+0200
TZOFFSETTO:+0100
TZNAME:CET
DTSTART:20251026T010000
END:STANDARD
BEGIN:DAYLIGHT
TZOFFSETFROM:+0100
TZOFFSETTO:+0200
TZNAME:CEST
DTSTART:20260329T010000
END:DAYLIGHT
BEGIN:STANDARD
TZOFFSETFROM:+0200
TZOFFSETTO:+0100
TZNAME:CET
DTSTART:20261025T010000
END:STANDARD
BEGIN:DAYLIGHT
TZOFFSETFROM:+0100
TZOFFSETTO:+0200
TZNAME:CEST
DTSTART:20270328T010000
END:DAYLIGHT
BEGIN:STANDARD
TZOFFSETFROM:+0200
TZOFFSETTO:+0100
TZNAME:CET
DTSTART:20271031T010000
END:STANDARD
END:VTIMEZONE
BEGIN:VEVENT
DTSTART;VALUE=DATE:20250217
DTEND;VALUE=DATE:20270101
DTSTAMP:20260422T055652
CREATED:20250117T094539Z
LAST-MODIFIED:20251014T070542Z
UID:6119-1739750400-1798761599@www.gemeinde-petting.de
SUMMARY:Kinderglück und Ponyzeit
DESCRIPTION:Kinderglück und Ponyzeit 🐴❤️🍀 auf dem Höglerhof \nAlles rund ums Pony. \nWechselnde Programme z.B. geführtes Ponyreiten\, Bildersuchritte\, Pacours Einheiten mit pädagogischen Förderungen wie Motorische\, Kognitive \, Kreative\, Soziale Kompetenzen. Bastelspaß \nZeiten und Programme bitte erfragen unter 0160 / 476 52 59 Sabine \n0173 / 636 92 70 Isabel \n  \nWir freuen uns auf Euch🌿🌸 \nSabine und Isabel mit \nCarlos und Felino🐴 \n 
URL:https://www.gemeinde-petting.de/veranstaltung/kinderglueck-und-ponyzeit/
LOCATION:Höglerhof\, Brandhofen 4\, Petting\, Deutschland\, 83367
CATEGORIES:Veranstaltung
END:VEVENT
BEGIN:VEVENT
DTSTART;TZID=Europe/Berlin:20260902T133000
DTEND;TZID=Europe/Berlin:20260902T160000
DTSTAMP:20260422T055652
CREATED:20260330T084217Z
LAST-MODIFIED:20260330T084217Z
UID:8255-1788355800-1788364800@www.gemeinde-petting.de
SUMMARY:Ferienprogramm Raiffeisenbank Rupertiwinkel eG
DESCRIPTION:
URL:https://www.gemeinde-petting.de/veranstaltung/ferienprogramm-raiffeisenbank-rupertiwinkel-eg-3/
LOCATION:Raiffeisenbank Rupertiwinkel eG\, Hauptstr. 21\, Petting\, Bayern\, 83367\, Deutschland
CATEGORIES:Veranstaltung
END:VEVENT
BEGIN:VEVENT
DTSTART;TZID=Europe/Berlin:20260903T123000
DTEND;TZID=Europe/Berlin:20260903T190000
DTSTAMP:20260422T055652
CREATED:20251104T100407Z
LAST-MODIFIED:20251104T100407Z
UID:7362-1788438600-1788462000@www.gemeinde-petting.de
SUMMARY:Strick- und Häkeltreff
DESCRIPTION:
URL:https://www.gemeinde-petting.de/veranstaltung/strick-und-haekeltreff-5/
LOCATION:Raum Bürgerhilfe
CATEGORIES:Bürgerhilfe,Veranstaltung
END:VEVENT
BEGIN:VEVENT
DTSTART;TZID=Europe/Berlin:20260904T140000
DTEND;TZID=Europe/Berlin:20260904T170000
DTSTAMP:20260422T055652
CREATED:20251104T100626Z
LAST-MODIFIED:20251118T101255Z
UID:7364-1788530400-1788541200@www.gemeinde-petting.de
SUMMARY:Spielenachmittag für Erwachsene
DESCRIPTION:Mit Trixi Stadler. Wir spielen miteinander und gegeneinander. \nKeine Anmeldung erforderlich. \nAuf euer Kommen freut sich Trixi 🤗
URL:https://www.gemeinde-petting.de/veranstaltung/spielenachmittag-fuer-erwachsene-26/
LOCATION:Raum Bürgerhilfe
CATEGORIES:Bürgerhilfe,Veranstaltung
END:VEVENT
BEGIN:VEVENT
DTSTART;TZID=Europe/Berlin:20260905T140000
DTEND;TZID=Europe/Berlin:20260905T170000
DTSTAMP:20260422T055652
CREATED:20251028T095442Z
LAST-MODIFIED:20251028T095442Z
UID:7152-1788616800-1788627600@www.gemeinde-petting.de
SUMMARY:Lebenshof Kuhtopia kostenlose Besuchstage
DESCRIPTION:Wir wollen in einer Welt leben\, in der alle Tiere ein Recht auf ein freies Leben haben\, und versuchen auf unserem Hof diese Utopie Wirklichkeit werden zu lassen. Auf unserem Hof leben 13 Rinder und 22 Hühner. Sie sind keine Nutztiere\, das heißt sie müssen weder Eier\, noch Milch oder Fleisch produzieren. Sie dürfen einfach leben. \nEs gibt eine Hofführung und im Anschluss ein veganes Mitbringbuffet und Getränke. Beiträge zum Buffet erbeten – egal ob süß oder herzhaft: Hauptsache vegan! \nDie Teilnahme ist kostenlos\,Spenden für die Tiere werden erbeten. \nANMELDUNG unter: kontakt@kuhtopia.de
URL:https://www.gemeinde-petting.de/veranstaltung/lebenshof-kuhtopia-kostenlose-besuchstage-5/
LOCATION:Kuhtopia e.V.\, Kirchberg 2\, Petting\, Deutschland\, 83367
CATEGORIES:Veranstaltung
ORGANIZER;CN="Kuhtopia e.V.":MAILTO:kontakt@kuhtopia.de
END:VEVENT
BEGIN:VEVENT
DTSTART;TZID=Europe/Berlin:20260907T190000
DTEND;TZID=Europe/Berlin:20260907T190000
DTSTAMP:20260422T055652
CREATED:20251107T084414Z
LAST-MODIFIED:20251107T084414Z
UID:7563-1788807600-1788807600@www.gemeinde-petting.de
SUMMARY:Stammtisch "Imker"
DESCRIPTION:
URL:https://www.gemeinde-petting.de/veranstaltung/stammtisch-imker-15/
LOCATION:Lehrbienenstand Eisgraben\, Petting\, 83367\, Deutschland
CATEGORIES:Veranstaltung
END:VEVENT
BEGIN:VEVENT
DTSTART;TZID=Europe/Berlin:20260909T193000
DTEND;TZID=Europe/Berlin:20260909T203000
DTSTAMP:20260422T055652
CREATED:20251103T105457Z
LAST-MODIFIED:20251103T105457Z
UID:7292-1788982200-1788985800@www.gemeinde-petting.de
SUMMARY:Einladung zum Lobpreisabend
DESCRIPTION:ein jeder ist willkommen zum gemeinsamen Singen.
URL:https://www.gemeinde-petting.de/veranstaltung/einladung-zum-lobpreisabend-7/
LOCATION:Grundschule\, Schulstraße 6\, Petting\, Bayern\, 83367\, Deutschland
CATEGORIES:Veranstaltung
ORGANIZER;CN="Hans Steinma%C3%9Fl":MAILTO:st.hans@live.de
END:VEVENT
BEGIN:VEVENT
DTSTART;TZID=Europe/Berlin:20260911T190000
DTEND;TZID=Europe/Berlin:20260911T220000
DTSTAMP:20260422T055652
CREATED:20260402T071524Z
LAST-MODIFIED:20260402T071524Z
UID:8263-1789153200-1789164000@www.gemeinde-petting.de
SUMMARY:Ferienprogramm CSU Ortsverband Petting
DESCRIPTION:Die CSU Petting lädt Euch zu einer nächtlichen Wanderung mit „echten“ Gespenstern im Schönramer Filz ein. \nGeschicklichkeitsspiele\,eine Brotzeit und eine wahre Gruselgeschichte sorgen für Gänsehaut! \nAlter: ab 6 Jahren \nTeilnehmerzahl: unbegrenzt \nNicht vergessen: Taschenlampe oder Stirnlampe\, feste Schuhe \nTreffpunkt: Parkplatz Sondershausen \nAuskunft unter: Hans Mayer Tel. 0152-21656056
URL:https://www.gemeinde-petting.de/veranstaltung/ferienprogramm-csu-ortsverband-petting/
LOCATION:Parkplatz Sondershausen
CATEGORIES:Veranstaltung
END:VEVENT
BEGIN:VEVENT
DTSTART;TZID=Europe/Berlin:20260918T150000
DTEND;TZID=Europe/Berlin:20260918T170000
DTSTAMP:20260422T055652
CREATED:20251104T100743Z
LAST-MODIFIED:20251118T103847Z
UID:7366-1789743600-1789750800@www.gemeinde-petting.de
SUMMARY:Spielenachmittag für Kinder
DESCRIPTION:Mit Trixi Stadler. \nKeine Anmeldung erforderlich. \nHier kommt der Spaß garantiert nicht zu kurz. \nLieblingsspiele können gern mitgebracht werden. \nWir freuen uns auf Euch 🤗
URL:https://www.gemeinde-petting.de/veranstaltung/spielenachmittag-fuer-kinder-16/
LOCATION:Raum Bürgerhilfe
CATEGORIES:Bürgerhilfe,Veranstaltung
END:VEVENT
BEGIN:VEVENT
DTSTART;TZID=Europe/Berlin:20260918T190000
DTEND;TZID=Europe/Berlin:20260918T210000
DTSTAMP:20260422T055652
CREATED:20251017T083622Z
LAST-MODIFIED:20251017T083622Z
UID:7110-1789758000-1789765200@www.gemeinde-petting.de
SUMMARY:Musikantenstammtisch
DESCRIPTION:jeden 3. Freitag im Monat von März bis September lädt das Gasthaus „Riedler“ beim Unterwirt herzlich zu einem Musikantenstammtisch ein. \nAuf Euer kommen freut sich Familie Zettl.
URL:https://www.gemeinde-petting.de/veranstaltung/musikantenstammtisch-20/
LOCATION:Gasthaus Riedler\, Haupstr. 36\, Petting\, 83367
CATEGORIES:Veranstaltung
END:VEVENT
BEGIN:VEVENT
DTSTART;TZID=Europe/Berlin:20260920T083000
DTEND;TZID=Europe/Berlin:20260920T110000
DTSTAMP:20260422T055652
CREATED:20251016T085120Z
LAST-MODIFIED:20251016T085120Z
UID:7090-1789893000-1789902000@www.gemeinde-petting.de
SUMMARY:Kleintiermarkt
DESCRIPTION:Für den An- und Verkauf von Geflügel und Kleintieren veranstalten wir jeden 3. Sonntag im Monat von 8:30 Uhr bis 11:00 Uhr einen Markt in Schönram direkt neben der Brauerei. \nZum Verkauf stehen Hasen\, Kaninchen und andere Kleintiere\, Tauben\, Hühner\, Enten\, Gänse\, Wachteln und Ziervögel. \nIn den Sommermonaten ist bei den Märkten auch ein gewerblicher Tierhändler vor Ort\, der von Eintagsküken über Legehennen bis hin zu Enten verschiedene Geflügel im Angebot hat. \n 
URL:https://www.gemeinde-petting.de/veranstaltung/kleintiermarkt-31/
LOCATION:Kellerhaus Schönram\, Salzburger Str.\, Petting\, Deutschland\, 83367
CATEGORIES:Veranstaltung
ORGANIZER;CN="Rassegefl%C3%BCgelzuchtverein":MAILTO:vorstand@rgzv-petting.de
END:VEVENT
BEGIN:VEVENT
DTSTART;TZID=Europe/Berlin:20260921T191500
DTEND;TZID=Europe/Berlin:20260921T220000
DTSTAMP:20260422T055652
CREATED:20251203T090215Z
LAST-MODIFIED:20251203T090215Z
UID:7786-1790018100-1790028000@www.gemeinde-petting.de
SUMMARY:Schafkopfrunde
DESCRIPTION:Es sind alle herzlich eingeladen. \nDie Grundregeln sollten bekannt sein. \nOrganisiert wird das Ganze über unsere WhatsApp Gruppe. \nFragen gerne an Karin Strohmeyer unter Tel. 0151-12151041
URL:https://www.gemeinde-petting.de/veranstaltung/schafkopfrunde-20/
LOCATION:Raum Bürgerhilfe
CATEGORIES:Bürgerhilfe,Veranstaltung
END:VEVENT
BEGIN:VEVENT
DTSTART;TZID=Europe/Berlin:20260924T093000
DTEND;TZID=Europe/Berlin:20260924T123000
DTSTAMP:20260422T055652
CREATED:20260127T103902Z
LAST-MODIFIED:20260127T103902Z
UID:7956-1790242200-1790253000@www.gemeinde-petting.de
SUMMARY:Moor & Pilzwanderung
DESCRIPTION:
URL:https://www.gemeinde-petting.de/veranstaltung/moor-pilzwanderung/
LOCATION:Parkplatz Schönramer Filz
CATEGORIES:Veranstaltung
END:VEVENT
BEGIN:VEVENT
DTSTART;TZID=Europe/Berlin:20260926T093000
DTEND;TZID=Europe/Berlin:20260926T133000
DTSTAMP:20260422T055652
CREATED:20251105T084756Z
LAST-MODIFIED:20251119T084301Z
UID:7430-1790415000-1790429400@www.gemeinde-petting.de
SUMMARY:Pizza backen für Erwachsene
DESCRIPTION:Du liebst Pizza und möchtest wissen\, wie sie auch zuhause perfekt gelingt? \nIn diesem Kurs lernst du alles rund um den italienischen Grundteig\, die richtige Teigführung\, eine aromatische Tomatensoße und kreative Beläge. Schritt für Schritt zeigen wir dir\, wie du mit einfachen Zutaten köstliche\, knusprige Pizzen zauberst. \nZum Abschluss genießen wir unsere frisch gebackenen Pizzen gemeinsam mit einem knackigen Salat – wie in Italien! \nZielgruppe:  Anfänger und Pizza-Liebhaber \nTeilnehmerzahl: max. 12 Personen \nAnmeldung unter:  Sigrid@labella-gmbh.de    oder          Mobil: 0171 2680955
URL:https://www.gemeinde-petting.de/veranstaltung/pizza-backen-fuer-erwachsene/
LOCATION:Kinderkrippe Petting\, Haupstr. 2a\, Petting\, 83367
CATEGORIES:Bürgerhilfe,Veranstaltung
ORGANIZER;CN="Sigrid Hinterreiter":MAILTO:Sigrid@labella-gmbh.de
END:VEVENT
BEGIN:VEVENT
DTSTART;TZID=Europe/Berlin:20260927T101500
DTEND;TZID=Europe/Berlin:20260927T101500
DTSTAMP:20260422T055652
CREATED:20251103T102328Z
LAST-MODIFIED:20251103T102328Z
UID:7262-1790504100-1790504100@www.gemeinde-petting.de
SUMMARY:Erntedank mit Prozession
DESCRIPTION:im Anschluß laden wir zum Weißwurstfrühstück im Pfarrheim ein.
URL:https://www.gemeinde-petting.de/veranstaltung/erntedank-mit-prozession-3/
LOCATION:Pfarrkirche
CATEGORIES:Veranstaltung
END:VEVENT
END:VCALENDAR