BEGIN:VCALENDAR
VERSION:2.0
PRODID:-//Gemeinde Petting - ECPv6.15.20//NONSGML v1.0//EN
CALSCALE:GREGORIAN
METHOD:PUBLISH
X-WR-CALNAME:Gemeinde Petting
X-ORIGINAL-URL:https://www.gemeinde-petting.de
X-WR-CALDESC:Veranstaltungen für Gemeinde Petting
REFRESH-INTERVAL;VALUE=DURATION:PT1H
X-Robots-Tag:noindex
X-PUBLISHED-TTL:PT1H
BEGIN:VTIMEZONE
TZID:Europe/Paris
BEGIN:DAYLIGHT
TZOFFSETFROM:+0100
TZOFFSETTO:+0200
TZNAME:CEST
DTSTART:20240331T010000
END:DAYLIGHT
BEGIN:STANDARD
TZOFFSETFROM:+0200
TZOFFSETTO:+0100
TZNAME:CET
DTSTART:20241027T010000
END:STANDARD
BEGIN:DAYLIGHT
TZOFFSETFROM:+0100
TZOFFSETTO:+0200
TZNAME:CEST
DTSTART:20250330T010000
END:DAYLIGHT
BEGIN:STANDARD
TZOFFSETFROM:+0200
TZOFFSETTO:+0100
TZNAME:CET
DTSTART:20251026T010000
END:STANDARD
BEGIN:DAYLIGHT
TZOFFSETFROM:+0100
TZOFFSETTO:+0200
TZNAME:CEST
DTSTART:20260329T010000
END:DAYLIGHT
BEGIN:STANDARD
TZOFFSETFROM:+0200
TZOFFSETTO:+0100
TZNAME:CET
DTSTART:20261025T010000
END:STANDARD
BEGIN:DAYLIGHT
TZOFFSETFROM:+0100
TZOFFSETTO:+0200
TZNAME:CEST
DTSTART:20270328T010000
END:DAYLIGHT
BEGIN:STANDARD
TZOFFSETFROM:+0200
TZOFFSETTO:+0100
TZNAME:CET
DTSTART:20271031T010000
END:STANDARD
END:VTIMEZONE
BEGIN:VTIMEZONE
TZID:Europe/Berlin
BEGIN:DAYLIGHT
TZOFFSETFROM:+0100
TZOFFSETTO:+0200
TZNAME:CEST
DTSTART:20250330T010000
END:DAYLIGHT
BEGIN:STANDARD
TZOFFSETFROM:+0200
TZOFFSETTO:+0100
TZNAME:CET
DTSTART:20251026T010000
END:STANDARD
BEGIN:DAYLIGHT
TZOFFSETFROM:+0100
TZOFFSETTO:+0200
TZNAME:CEST
DTSTART:20260329T010000
END:DAYLIGHT
BEGIN:STANDARD
TZOFFSETFROM:+0200
TZOFFSETTO:+0100
TZNAME:CET
DTSTART:20261025T010000
END:STANDARD
BEGIN:DAYLIGHT
TZOFFSETFROM:+0100
TZOFFSETTO:+0200
TZNAME:CEST
DTSTART:20270328T010000
END:DAYLIGHT
BEGIN:STANDARD
TZOFFSETFROM:+0200
TZOFFSETTO:+0100
TZNAME:CET
DTSTART:20271031T010000
END:STANDARD
END:VTIMEZONE
BEGIN:VEVENT
DTSTART;VALUE=DATE:20250217
DTEND;VALUE=DATE:20270101
DTSTAMP:20260422T031227
CREATED:20250117T094539Z
LAST-MODIFIED:20251014T070542Z
UID:6119-1739750400-1798761599@www.gemeinde-petting.de
SUMMARY:Kinderglück und Ponyzeit
DESCRIPTION:Kinderglück und Ponyzeit 🐴❤️🍀 auf dem Höglerhof \nAlles rund ums Pony. \nWechselnde Programme z.B. geführtes Ponyreiten\, Bildersuchritte\, Pacours Einheiten mit pädagogischen Förderungen wie Motorische\, Kognitive \, Kreative\, Soziale Kompetenzen. Bastelspaß \nZeiten und Programme bitte erfragen unter 0160 / 476 52 59 Sabine \n0173 / 636 92 70 Isabel \n  \nWir freuen uns auf Euch🌿🌸 \nSabine und Isabel mit \nCarlos und Felino🐴 \n 
URL:https://www.gemeinde-petting.de/veranstaltung/kinderglueck-und-ponyzeit/
LOCATION:Höglerhof\, Brandhofen 4\, Petting\, Deutschland\, 83367
CATEGORIES:Veranstaltung
END:VEVENT
BEGIN:VEVENT
DTSTART;TZID=Europe/Berlin:20260704T140000
DTEND;TZID=Europe/Berlin:20260704T170000
DTSTAMP:20260422T031227
CREATED:20251028T094919Z
LAST-MODIFIED:20251028T094919Z
UID:7148-1783173600-1783184400@www.gemeinde-petting.de
SUMMARY:Lebenshof Kuhtopia kostenlose Besuchstage
DESCRIPTION:Wir wollen in einer Welt leben\, in der alle Tiere ein Recht auf ein freies Leben haben\, und versuchen auf unserem Hof diese Utopie Wirklichkeit werden zu lassen. Auf unserem Hof leben 13 Rinder und 22 Hühner. Sie sind keine Nutztiere\, das heißt sie müssen weder Eier\, noch Milch oder Fleisch produzieren. Sie dürfen einfach leben. \nEs gibt eine Hofführung und im Anschluss ein veganes Mitbringbuffet und Getränke. Beiträge zum Buffet erbeten – egal ob süß oder herzhaft: Hauptsache vegan! \nDie Teilnahme ist kostenlos\,Spenden für die Tiere werden erbeten. \nANMELDUNG unter: kontakt@kuhtopia.de
URL:https://www.gemeinde-petting.de/veranstaltung/lebenshof-kuhtopia-kostenlose-besuchstage-3/
LOCATION:Kuhtopia e.V.\, Kirchberg 2\, Petting\, Deutschland\, 83367
CATEGORIES:Veranstaltung
ORGANIZER;CN="Kuhtopia e.V.":MAILTO:kontakt@kuhtopia.de
END:VEVENT
BEGIN:VEVENT
DTSTART;TZID=Europe/Berlin:20260706T190000
DTEND;TZID=Europe/Berlin:20260706T190000
DTSTAMP:20260422T031227
CREATED:20251107T084242Z
LAST-MODIFIED:20251107T084242Z
UID:7559-1783364400-1783364400@www.gemeinde-petting.de
SUMMARY:Stammtisch "Imker"
DESCRIPTION:
URL:https://www.gemeinde-petting.de/veranstaltung/stammtisch-imker-13/
LOCATION:Lehrbienenstand Eisgraben\, Petting\, 83367\, Deutschland
CATEGORIES:Veranstaltung
END:VEVENT
BEGIN:VEVENT
DTSTART;TZID=Europe/Berlin:20260710T140000
DTEND;TZID=Europe/Berlin:20260710T170000
DTSTAMP:20260422T031227
CREATED:20251104T095822Z
LAST-MODIFIED:20251118T101147Z
UID:7354-1783692000-1783702800@www.gemeinde-petting.de
SUMMARY:Spielenachmittag für Erwachsene
DESCRIPTION:Mit Trixi Stadler. Wir spielen miteinander und gegeneinander. \nKeine Anmeldung erforderlich. \nAuf euer Kommen freut sich Trixi 🤗
URL:https://www.gemeinde-petting.de/veranstaltung/spielenachmittag-fuer-erwachsene-25/
LOCATION:Raum Bürgerhilfe
CATEGORIES:Bürgerhilfe,Veranstaltung
END:VEVENT
BEGIN:VEVENT
DTSTART;TZID=Europe/Berlin:20260714T190000
DTEND;TZID=Europe/Berlin:20260714T190000
DTSTAMP:20260422T031227
CREATED:20251103T102019Z
LAST-MODIFIED:20251103T102019Z
UID:7260-1784055600-1784055600@www.gemeinde-petting.de
SUMMARY:Musikalische Andacht
DESCRIPTION:
URL:https://www.gemeinde-petting.de/veranstaltung/musikalische-andacht-11/
LOCATION:Pfarrkirche
CATEGORIES:Veranstaltung
END:VEVENT
BEGIN:VEVENT
DTSTART;TZID=Europe/Berlin:20260715T191500
DTEND;TZID=Europe/Berlin:20260715T220000
DTSTAMP:20260422T031227
CREATED:20251203T075621Z
LAST-MODIFIED:20251203T075621Z
UID:7765-1784142900-1784152800@www.gemeinde-petting.de
SUMMARY:Schafkopfrunde
DESCRIPTION:Es sind alle herzlich eingeladen. \nDie Grundregeln sollten bekannt sein. \nOrganisiert wird das Ganze über unsere WhatsApp Gruppe. \nFragen gerne an Karin Strohmeyer unter Tel. 0151-12151041
URL:https://www.gemeinde-petting.de/veranstaltung/schafkopfrunde-17/
LOCATION:Raum Bürgerhilfe
CATEGORIES:Bürgerhilfe,Veranstaltung
END:VEVENT
BEGIN:VEVENT
DTSTART;TZID=Europe/Berlin:20260717T080000
DTEND;TZID=Europe/Berlin:20260719T180000
DTSTAMP:20260422T031227
CREATED:20260224T074823Z
LAST-MODIFIED:20260224T074823Z
UID:8110-1784275200-1784484000@www.gemeinde-petting.de
SUMMARY:Dressur und Springturnier Seehof
DESCRIPTION:Der RV Seehof am Waginger See lädt herzlich zum Dressur und Springturnier von 17.07. bis 19.07.2026 ein. \nParkmöglichkeiten auf dem Hof. \n 
URL:https://www.gemeinde-petting.de/veranstaltung/dressur-und-springturnier-seehof/
LOCATION:Seehof\, Seehof 1\, Petting\, 83367
CATEGORIES:Veranstaltung
END:VEVENT
BEGIN:VEVENT
DTSTART;TZID=Europe/Berlin:20260717T190000
DTEND;TZID=Europe/Berlin:20260717T210000
DTSTAMP:20260422T031227
CREATED:20251017T083058Z
LAST-MODIFIED:20251017T083058Z
UID:7106-1784314800-1784322000@www.gemeinde-petting.de
SUMMARY:Musikantenstammtisch
DESCRIPTION:jeden 3. Freitag im Monat von März bis September lädt das Gasthaus „Riedler“ beim Unterwirt herzlich zu einem Musikantenstammtisch ein. \nAuf Euer kommen freut sich Familie Zettl.
URL:https://www.gemeinde-petting.de/veranstaltung/musikantenstammtisch-18/
LOCATION:Gasthaus Riedler\, Haupstr. 36\, Petting\, 83367
CATEGORIES:Veranstaltung
END:VEVENT
BEGIN:VEVENT
DTSTART;TZID=Europe/Berlin:20260719T080000
DTEND;TZID=Europe/Berlin:20260719T170000
DTSTAMP:20260422T031227
CREATED:20251016T084913Z
LAST-MODIFIED:20251016T084913Z
UID:7086-1784448000-1784480400@www.gemeinde-petting.de
SUMMARY:Kleintiermarkt
DESCRIPTION:Für den An- und Verkauf von Geflügel und Kleintieren veranstalten wir jeden 3. Sonntag im Monat von 8:30 Uhr bis 11:00 Uhr einen Markt in Schönram direkt neben der Brauerei. \nZum Verkauf stehen Hasen\, Kaninchen und andere Kleintiere\, Tauben\, Hühner\, Enten\, Gänse\, Wachteln und Ziervögel. \nIn den Sommermonaten ist bei den Märkten auch ein gewerblicher Tierhändler vor Ort\, der von Eintagsküken über Legehennen bis hin zu Enten verschiedene Geflügel im Angebot hat. \n 
URL:https://www.gemeinde-petting.de/veranstaltung/kleintiermarkt-29/
LOCATION:Kellerhaus Schönram\, Salzburger Str.\, Petting\, Deutschland\, 83367
CATEGORIES:Veranstaltung
ORGANIZER;CN="Rassegefl%C3%BCgelzuchtverein":MAILTO:vorstand@rgzv-petting.de
END:VEVENT
BEGIN:VEVENT
DTSTART;TZID=Europe/Berlin:20260719T093000
DTEND;TZID=Europe/Berlin:20260719T163000
DTSTAMP:20260422T031227
CREATED:20251107T075418Z
LAST-MODIFIED:20260324T062805Z
UID:7516-1784453400-1784478600@www.gemeinde-petting.de
SUMMARY:Schoaramer Brucknfest
DESCRIPTION:
URL:https://www.gemeinde-petting.de/veranstaltung/gartenfest-dahoam-in-schoenram/
LOCATION:Schönram\, Schönram\, 83367\, Deutschland
CATEGORIES:Veranstaltung
END:VEVENT
BEGIN:VEVENT
DTSTART;TZID=Europe/Berlin:20260722T193000
DTEND;TZID=Europe/Berlin:20260722T203000
DTSTAMP:20260422T031227
CREATED:20251103T105307Z
LAST-MODIFIED:20251103T105307Z
UID:7290-1784748600-1784752200@www.gemeinde-petting.de
SUMMARY:Einladung zum Lobpreisabend
DESCRIPTION:
URL:https://www.gemeinde-petting.de/veranstaltung/einladung-zum-lobpreisabend-6/
LOCATION:Grundschule\, Schulstraße 6\, Petting\, Bayern\, 83367\, Deutschland
CATEGORIES:Veranstaltung
ORGANIZER;CN="Hans Steinma%C3%9Fl":MAILTO:st.hans@live.de
END:VEVENT
BEGIN:VEVENT
DTSTART;TZID=Europe/Berlin:20260724T150000
DTEND;TZID=Europe/Berlin:20260724T170000
DTSTAMP:20260422T031227
CREATED:20251104T095955Z
LAST-MODIFIED:20251118T103812Z
UID:7356-1784905200-1784912400@www.gemeinde-petting.de
SUMMARY:Spielenachmittag für Kinder
DESCRIPTION:Mit Trixi Stadler. \nKeine Anmeldung erforderlich. \nHier kommt der Spaß garantiert nicht zu kurz. \nLieblingsspiele können gern mitgebracht werden. \nWir freuen uns auf Euch 🤗
URL:https://www.gemeinde-petting.de/veranstaltung/spielenachmittag-fuer-kinder-15/
LOCATION:Raum Bürgerhilfe
CATEGORIES:Bürgerhilfe,Veranstaltung
END:VEVENT
BEGIN:VEVENT
DTSTART;TZID=Europe/Berlin:20260725T150000
DTEND;TZID=Europe/Berlin:20260725T190000
DTSTAMP:20260422T031227
CREATED:20251104T100115Z
LAST-MODIFIED:20251119T082119Z
UID:7358-1784991600-1785006000@www.gemeinde-petting.de
SUMMARY:Kleidertauschparty
DESCRIPTION:Samstag den 25. Juli 2026 / 16.00 Uhr – 19.00 Uhr \nJe nach Wetterlage an\, oder in der Pettinger Turnhalle \nWarenannahme: 25.Juli ab 15.00 Uhr \nDer Rest der Kleidung wird an Bedürftige gespendet! \nFür Rückfragen: 0160 / 78 27 678 Marion Vordermayer \n Sprizz-Bar / Live-Musik / Snacks \n Voller Kleiderschrank und trotzdem nichts anzuziehen? \nDann komm vorbei\, bring deine Sachen mit und tausche gegen neue Lieblingsstücke! \nBitte bring saubere\, gute erhaltene Damen- und Herrenbekleidung\, \nSchuhe\, Taschen\,…. \nJeder darf bringen und nehmen so viel er will! \nDu sparst also Geld\, handelst nachhaltig\, bringst Fehlkäufe wieder los und machst anderen eine Freude!
URL:https://www.gemeinde-petting.de/veranstaltung/kleidertauschparty/
LOCATION:Turnhalle Petting
CATEGORIES:Bürgerhilfe,Veranstaltung
END:VEVENT
BEGIN:VEVENT
DTSTART;TZID=Europe/Berlin:20260726T090000
DTEND;TZID=Europe/Berlin:20260726T090000
DTSTAMP:20260422T031227
CREATED:20251105T091647Z
LAST-MODIFIED:20251105T091647Z
UID:7434-1785056400-1785056400@www.gemeinde-petting.de
SUMMARY:KSK Gelöbnisfest Weildorf
DESCRIPTION:
URL:https://www.gemeinde-petting.de/veranstaltung/ksk-geloebnisfest-weildorf/
CATEGORIES:Veranstaltung
END:VEVENT
BEGIN:VEVENT
DTSTART;TZID=Europe/Berlin:20260728T080000
DTEND;TZID=Europe/Berlin:20260728T170000
DTSTAMP:20260422T031227
CREATED:20251104T100217Z
LAST-MODIFIED:20251118T092708Z
UID:7360-1785225600-1785258000@www.gemeinde-petting.de
SUMMARY:Basteln für die Großen 6-8 Jahre
DESCRIPTION:mit Vroni Allerberger\, Martina Öllerer & Karin Breinbauer \nTeilnehmerzahl: 8 -15 Kinder \nAnmeldung: Vroni Allerberger Tel: 0176-72911923 \nWir gestalten je nach Jahreszeit passende\, krative Kunstwerke. \nFür den kleinen Hunger zwischendurch wird gesorgt. \nBitte Malkittel mitnehmen oder Kleidung anziehen\, die bunt werden darf. \nWir freuen uns auf Euch 🤗
URL:https://www.gemeinde-petting.de/veranstaltung/basteln-fuer-die-grossen-6-8-jahre-2/
LOCATION:Raum Bürgerhilfe
CATEGORIES:Bürgerhilfe,Veranstaltung
END:VEVENT
END:VCALENDAR