BEGIN:VCALENDAR
VERSION:2.0
PRODID:-//Gemeinde Petting - ECPv6.15.20//NONSGML v1.0//EN
CALSCALE:GREGORIAN
METHOD:PUBLISH
X-WR-CALNAME:Gemeinde Petting
X-ORIGINAL-URL:https://www.gemeinde-petting.de
X-WR-CALDESC:Veranstaltungen für Gemeinde Petting
REFRESH-INTERVAL;VALUE=DURATION:PT1H
X-Robots-Tag:noindex
X-PUBLISHED-TTL:PT1H
BEGIN:VTIMEZONE
TZID:Europe/Paris
BEGIN:DAYLIGHT
TZOFFSETFROM:+0100
TZOFFSETTO:+0200
TZNAME:CEST
DTSTART:20240331T010000
END:DAYLIGHT
BEGIN:STANDARD
TZOFFSETFROM:+0200
TZOFFSETTO:+0100
TZNAME:CET
DTSTART:20241027T010000
END:STANDARD
BEGIN:DAYLIGHT
TZOFFSETFROM:+0100
TZOFFSETTO:+0200
TZNAME:CEST
DTSTART:20250330T010000
END:DAYLIGHT
BEGIN:STANDARD
TZOFFSETFROM:+0200
TZOFFSETTO:+0100
TZNAME:CET
DTSTART:20251026T010000
END:STANDARD
BEGIN:DAYLIGHT
TZOFFSETFROM:+0100
TZOFFSETTO:+0200
TZNAME:CEST
DTSTART:20260329T010000
END:DAYLIGHT
BEGIN:STANDARD
TZOFFSETFROM:+0200
TZOFFSETTO:+0100
TZNAME:CET
DTSTART:20261025T010000
END:STANDARD
BEGIN:DAYLIGHT
TZOFFSETFROM:+0100
TZOFFSETTO:+0200
TZNAME:CEST
DTSTART:20270328T010000
END:DAYLIGHT
BEGIN:STANDARD
TZOFFSETFROM:+0200
TZOFFSETTO:+0100
TZNAME:CET
DTSTART:20271031T010000
END:STANDARD
END:VTIMEZONE
BEGIN:VTIMEZONE
TZID:Europe/Berlin
BEGIN:DAYLIGHT
TZOFFSETFROM:+0100
TZOFFSETTO:+0200
TZNAME:CEST
DTSTART:20250330T010000
END:DAYLIGHT
BEGIN:STANDARD
TZOFFSETFROM:+0200
TZOFFSETTO:+0100
TZNAME:CET
DTSTART:20251026T010000
END:STANDARD
BEGIN:DAYLIGHT
TZOFFSETFROM:+0100
TZOFFSETTO:+0200
TZNAME:CEST
DTSTART:20260329T010000
END:DAYLIGHT
BEGIN:STANDARD
TZOFFSETFROM:+0200
TZOFFSETTO:+0100
TZNAME:CET
DTSTART:20261025T010000
END:STANDARD
BEGIN:DAYLIGHT
TZOFFSETFROM:+0100
TZOFFSETTO:+0200
TZNAME:CEST
DTSTART:20270328T010000
END:DAYLIGHT
BEGIN:STANDARD
TZOFFSETFROM:+0200
TZOFFSETTO:+0100
TZNAME:CET
DTSTART:20271031T010000
END:STANDARD
END:VTIMEZONE
BEGIN:VEVENT
DTSTART;VALUE=DATE:20250217
DTEND;VALUE=DATE:20270101
DTSTAMP:20260422T001552
CREATED:20250117T094539Z
LAST-MODIFIED:20251014T070542Z
UID:6119-1739750400-1798761599@www.gemeinde-petting.de
SUMMARY:Kinderglück und Ponyzeit
DESCRIPTION:Kinderglück und Ponyzeit 🐴❤️🍀 auf dem Höglerhof \nAlles rund ums Pony. \nWechselnde Programme z.B. geführtes Ponyreiten\, Bildersuchritte\, Pacours Einheiten mit pädagogischen Förderungen wie Motorische\, Kognitive \, Kreative\, Soziale Kompetenzen. Bastelspaß \nZeiten und Programme bitte erfragen unter 0160 / 476 52 59 Sabine \n0173 / 636 92 70 Isabel \n  \nWir freuen uns auf Euch🌿🌸 \nSabine und Isabel mit \nCarlos und Felino🐴 \n 
URL:https://www.gemeinde-petting.de/veranstaltung/kinderglueck-und-ponyzeit/
LOCATION:Höglerhof\, Brandhofen 4\, Petting\, Deutschland\, 83367
CATEGORIES:Veranstaltung
END:VEVENT
BEGIN:VEVENT
DTSTART;TZID=Europe/Berlin:20260502T140000
DTEND;TZID=Europe/Berlin:20260502T170000
DTSTAMP:20260422T001552
CREATED:20251028T094214Z
LAST-MODIFIED:20260113T101703Z
UID:7130-1777730400-1777741200@www.gemeinde-petting.de
SUMMARY:Lebenshof Kuhtopia kostenlose Besuchstage
DESCRIPTION:Wir wollen in einer Welt leben\, in der alle Tiere ein Recht auf ein freies Leben haben\, und versuchen auf unserem Hof diese Utopie Wirklichkeit werden zu lassen. Auf unserem Hof leben 13 Rinder und 22 Hühner und zwei Schweine. Sie sind keine Nutztiere\, das heißt sie müssen weder Eier\, noch Milch oder Fleisch produzieren. Sie dürfen einfach leben. \nEs gibt eine Hofführung und im Anschluss ein veganes Mitbringbuffet und Getränke. Beiträge zum Buffet erbeten – egal ob süß oder herzhaft: Hauptsache vegan! \nDie Teilnahme ist kostenlos\,Spenden für die Tiere werden erbeten. \nANMELDUNG unter: kontakt@kuhtopia.de \n \n 
URL:https://www.gemeinde-petting.de/veranstaltung/lebenshof-kuhtopia-kostenlose-besuchstage/
LOCATION:Kuhtopia e.V.\, Kirchberg 2\, Petting\, Deutschland\, 83367
CATEGORIES:Veranstaltung
ORGANIZER;CN="Kuhtopia e.V.":MAILTO:kontakt@kuhtopia.de
END:VEVENT
BEGIN:VEVENT
DTSTART;TZID=Europe/Berlin:20260507T133000
DTEND;TZID=Europe/Berlin:20260507T160000
DTSTAMP:20260422T001552
CREATED:20251029T102415Z
LAST-MODIFIED:20251029T102415Z
UID:7181-1778160600-1778169600@www.gemeinde-petting.de
SUMMARY:Pfarrcafe
DESCRIPTION:Wir laden herzlich ein zum geselligen beisammensein bei Kaffee und Kuchen für Jung und Alt.
URL:https://www.gemeinde-petting.de/veranstaltung/pfarrcafe-16/
LOCATION:Pfarrheim\, Haupstr. 5\, Pertting\, 83367
CATEGORIES:Veranstaltung
END:VEVENT
BEGIN:VEVENT
DTSTART;TZID=Europe/Berlin:20260507T190000
DTEND;TZID=Europe/Berlin:20260507T190000
DTSTAMP:20260422T001552
CREATED:20251104T092758Z
LAST-MODIFIED:20251104T092758Z
UID:7337-1778180400-1778180400@www.gemeinde-petting.de
SUMMARY:Strick- und Häkeltreff
DESCRIPTION:
URL:https://www.gemeinde-petting.de/veranstaltung/strick-und-haekeltreff-3/
LOCATION:Raum Bürgerhilfe
CATEGORIES:Bürgerhilfe,Veranstaltung
END:VEVENT
BEGIN:VEVENT
DTSTART;TZID=Europe/Berlin:20260508T140000
DTEND;TZID=Europe/Berlin:20260508T170000
DTSTAMP:20260422T001552
CREATED:20251104T093156Z
LAST-MODIFIED:20251118T100930Z
UID:7339-1778248800-1778259600@www.gemeinde-petting.de
SUMMARY:Spielenachmittag für Erwachsene
DESCRIPTION:Mit Trixi Stadler. Wir spielen miteinander und gegeneinander. \nKeine Anmeldung erforderlich. \nAuf euer Kommen freut sich Trixi 🤗
URL:https://www.gemeinde-petting.de/veranstaltung/spielenachmittag-fuer-erwachsene-23/
LOCATION:Raum Bürgerhilfe
CATEGORIES:Bürgerhilfe,Veranstaltung
END:VEVENT
BEGIN:VEVENT
DTSTART;TZID=Europe/Berlin:20260509T093000
DTEND;TZID=Europe/Berlin:20260509T133000
DTSTAMP:20260422T001552
CREATED:20251105T084623Z
LAST-MODIFIED:20251119T081046Z
UID:7426-1778319000-1778333400@www.gemeinde-petting.de
SUMMARY:Selbstgemachte Pasta für Erwachsene
DESCRIPTION:In diesem Kurs lernst du\, wie du aus einfachen Zutaten verschiedene Pasta -Teige zubereitest – vom klassischen Eiernudelteig bis zum Hartweizengrießteig. \nDu erfährst\, wie man den Teig richtig knetet\, ausrollt und zu Tagliatelle\, Ravioli oder Tortellini formt. Dazu kochen wir passende\, einfache Saucen und genießen unsere Kreationen anschließend gemeinsam bei einem Glas Wein oder einem erfrischenden Getränk. \n                                                 \nTeilnehmerzahl: max. 12 Personen \nKosten incl. Zutaten 30\,00 Euro \nAnmeldung unter: Sigrid@labella-gmbh.de  oder  Handy : 01712680955
URL:https://www.gemeinde-petting.de/veranstaltung/pasta-selbstgemacht-fuer-erwachsene/
LOCATION:Kinderkrippe Petting\, Haupstr. 2a\, Petting\, 83367
CATEGORIES:Bürgerhilfe,Veranstaltung
ORGANIZER;CN="Sigrid Hinterreiter":MAILTO:Sigrid@labella-gmbh.de
END:VEVENT
BEGIN:VEVENT
DTSTART;TZID=Europe/Berlin:20260509T200000
DTEND;TZID=Europe/Berlin:20260509T235900
DTSTAMP:20260422T001552
CREATED:20251106T104743Z
LAST-MODIFIED:20260223T085626Z
UID:7477-1778356800-1778371140@www.gemeinde-petting.de
SUMMARY:Spritzenhausparty
DESCRIPTION:
URL:https://www.gemeinde-petting.de/veranstaltung/spritzenhausparty-5/
LOCATION:Feuerwehrhaus Petting\, Seestr. 2f\, Petting\, 83367\, Deutschland
CATEGORIES:Veranstaltung
END:VEVENT
BEGIN:VEVENT
DTSTART;TZID=Europe/Berlin:20260510T093000
DTEND;TZID=Europe/Berlin:20260510T110000
DTSTAMP:20260422T001552
CREATED:20251029T102538Z
LAST-MODIFIED:20251029T102538Z
UID:7183-1778405400-1778410800@www.gemeinde-petting.de
SUMMARY:Erstkommunion
DESCRIPTION:
URL:https://www.gemeinde-petting.de/veranstaltung/erstkommunion-4/
LOCATION:Pfarrkirche
CATEGORIES:Veranstaltung
END:VEVENT
BEGIN:VEVENT
DTSTART;TZID=Europe/Berlin:20260511T181500
DTEND;TZID=Europe/Berlin:20260511T181500
DTSTAMP:20260422T001552
CREATED:20251103T100736Z
LAST-MODIFIED:20251103T100736Z
UID:7250-1778523300-1778523300@www.gemeinde-petting.de
SUMMARY:Sternbittgang nach Reichersdorf
DESCRIPTION:um 19 Uhr vor Ort Bittmesse
URL:https://www.gemeinde-petting.de/veranstaltung/sternbittgang-nach-reichersdorf-3/
LOCATION:Lagerhaus Petting\, Bürgermeister-Johann-Mayer-Str. 1\, Petting\, 83367\, Deutschland
CATEGORIES:Veranstaltung
END:VEVENT
BEGIN:VEVENT
DTSTART;TZID=Europe/Berlin:20260511T190000
DTEND;TZID=Europe/Berlin:20260511T210000
DTSTAMP:20260422T001552
CREATED:20260304T091245Z
LAST-MODIFIED:20260311T081901Z
UID:8133-1778526000-1778533200@www.gemeinde-petting.de
SUMMARY:Stammtisch Imker mit Vortrag
DESCRIPTION:Thema: Honig \nmit Herr Ammon Honigobmann aus Freilassing. \nEin jeder ist willkommen nicht nur Imker. \n  \n 
URL:https://www.gemeinde-petting.de/veranstaltung/vortrag-bienenzuchtverein/
LOCATION:Raum Bürgerhilfe
CATEGORIES:Veranstaltung
END:VEVENT
BEGIN:VEVENT
DTSTART;TZID=Europe/Berlin:20260513T183000
DTEND;TZID=Europe/Berlin:20260513T183000
DTSTAMP:20260422T001552
CREATED:20251103T100921Z
LAST-MODIFIED:20251103T100921Z
UID:7252-1778697000-1778697000@www.gemeinde-petting.de
SUMMARY:Bittgang nach Kirchhof
DESCRIPTION:um 19 Uhr vor Ort Vorabendgottesdienst
URL:https://www.gemeinde-petting.de/veranstaltung/bittgang-nach-kirchhof-3/
LOCATION:Pfarrkirche
CATEGORIES:Veranstaltung
END:VEVENT
BEGIN:VEVENT
DTSTART;TZID=Europe/Berlin:20260514T103000
DTEND;TZID=Europe/Berlin:20260514T210000
DTSTAMP:20260422T001552
CREATED:20251107T075211Z
LAST-MODIFIED:20260421T062923Z
UID:7514-1778754600-1778792400@www.gemeinde-petting.de
SUMMARY:Schoaramer Vatertagsfest
DESCRIPTION:
URL:https://www.gemeinde-petting.de/veranstaltung/3-vereine-fest/
LOCATION:Haus der Vereine Schönram
CATEGORIES:Veranstaltung
END:VEVENT
BEGIN:VEVENT
DTSTART;TZID=Europe/Berlin:20260515T190000
DTEND;TZID=Europe/Berlin:20260515T210000
DTSTAMP:20260422T001552
CREATED:20251017T082651Z
LAST-MODIFIED:20251017T082651Z
UID:7102-1778871600-1778878800@www.gemeinde-petting.de
SUMMARY:Musikantenstammtisch
DESCRIPTION:jeden 3. Freitag im Monat von März bis September lädt das Gasthaus „Riedler“ beim Unterwirt herzlich zu einem Musikantenstammtisch ein. \nAuf Euer kommen freut sich Familie Zettl.
URL:https://www.gemeinde-petting.de/veranstaltung/musikantenstammtisch-16/
LOCATION:Gasthaus Riedler\, Haupstr. 36\, Petting\, 83367
CATEGORIES:Veranstaltung
END:VEVENT
BEGIN:VEVENT
DTSTART;TZID=Europe/Berlin:20260517T083000
DTEND;TZID=Europe/Berlin:20260517T110000
DTSTAMP:20260422T001552
CREATED:20251016T084741Z
LAST-MODIFIED:20251016T084741Z
UID:7082-1779006600-1779015600@www.gemeinde-petting.de
SUMMARY:Kleintiermarkt
DESCRIPTION:Für den An- und Verkauf von Geflügel und Kleintieren veranstalten wir jeden 3. Sonntag im Monat von 8:30 Uhr bis 11:00 Uhr einen Markt in Schönram direkt neben der Brauerei. \nZum Verkauf stehen Hasen\, Kaninchen und andere Kleintiere\, Tauben\, Hühner\, Enten\, Gänse\, Wachteln und Ziervögel. \nIn den Sommermonaten ist bei den Märkten auch ein gewerblicher Tierhändler vor Ort\, der von Eintagsküken über Legehennen bis hin zu Enten verschiedene Geflügel im Angebot hat. \n 
URL:https://www.gemeinde-petting.de/veranstaltung/kleintiermarkt-27/
LOCATION:Kellerhaus Schönram\, Salzburger Str.\, Petting\, Deutschland\, 83367
CATEGORIES:Veranstaltung
ORGANIZER;CN="Rassegefl%C3%BCgelzuchtverein":MAILTO:vorstand@rgzv-petting.de
END:VEVENT
BEGIN:VEVENT
DTSTART;TZID=Europe/Berlin:20260519T143000
DTEND;TZID=Europe/Berlin:20260519T163000
DTSTAMP:20260422T001552
CREATED:20251104T093323Z
LAST-MODIFIED:20251118T092409Z
UID:7341-1779201000-1779208200@www.gemeinde-petting.de
SUMMARY:Basteln für die Kleinen 4-5 Jahre
DESCRIPTION:mit Vroni Allerberger\, Martina Öllerer & Karin Breinbauer \nTeilnehmerzahl: 6 -15 Kinder \nAnmeldung: Vroni Allerberger Tel: 0176-72911923 \nWir gestalten je nach Jahreszeit passende\, krative Kunstwerke. \nFür den kleinen Hunger zwischendurch wird gesorgt. \nBitte Malkittel mitnehmen oder Kleidung anziehen\, die bunt werden darf. \nWir freuen uns auf Euch 🤗
URL:https://www.gemeinde-petting.de/veranstaltung/basteln-fuer-die-kleinen-4-5-jahre-5/
LOCATION:Raum Bürgerhilfe
CATEGORIES:Bürgerhilfe,Veranstaltung
END:VEVENT
BEGIN:VEVENT
DTSTART;TZID=Europe/Berlin:20260521T191500
DTEND;TZID=Europe/Berlin:20260521T220000
DTSTAMP:20260422T001552
CREATED:20251203T075254Z
LAST-MODIFIED:20251203T075254Z
UID:7761-1779390900-1779400800@www.gemeinde-petting.de
SUMMARY:Schafkopfrunde
DESCRIPTION:Es sind alle herzlich eingeladen. \nDie Grundregeln sollten bekannt sein. \nOrganisiert wird das Ganze über unsere WhatsApp Gruppe. \nFragen gerne an Karin Strohmeyer unter Tel. 0151-12151041
URL:https://www.gemeinde-petting.de/veranstaltung/schafkopfrunde-15/
LOCATION:Raum Bürgerhilfe
CATEGORIES:Bürgerhilfe,Veranstaltung
END:VEVENT
BEGIN:VEVENT
DTSTART;TZID=Europe/Berlin:20260522T150000
DTEND;TZID=Europe/Berlin:20260522T170000
DTSTAMP:20260422T001552
CREATED:20251104T095248Z
LAST-MODIFIED:20251118T103711Z
UID:7344-1779462000-1779469200@www.gemeinde-petting.de
SUMMARY:Spielenachmittag für Kinder
DESCRIPTION:Mit Trixi Stadler. \nKeine Anmeldung erforderlich. \nHier kommt der Spaß garantiert nicht zu kurz. \nLieblingsspiele können gern mitgebracht werden. \nWir freuen uns auf Euch 🤗
URL:https://www.gemeinde-petting.de/veranstaltung/spielenachmittag-fuer-kinder-11/
LOCATION:Raum Bürgerhilfe
CATEGORIES:Bürgerhilfe,Veranstaltung
END:VEVENT
BEGIN:VEVENT
DTSTART;TZID=Europe/Berlin:20260527T193000
DTEND;TZID=Europe/Berlin:20260527T203000
DTSTAMP:20260422T001552
CREATED:20251103T105151Z
LAST-MODIFIED:20251103T105151Z
UID:7288-1779910200-1779913800@www.gemeinde-petting.de
SUMMARY:Einladung zum Lobpreisabend
DESCRIPTION:ein jeder ist willkommen zum gemeinsamen Singen.
URL:https://www.gemeinde-petting.de/veranstaltung/einladung-zum-lobpreisabend-5/
LOCATION:Grundschule\, Schulstraße 6\, Petting\, Bayern\, 83367\, Deutschland
CATEGORIES:Veranstaltung
ORGANIZER;CN="Hans Steinma%C3%9Fl":MAILTO:st.hans@live.de
END:VEVENT
BEGIN:VEVENT
DTSTART;TZID=Europe/Berlin:20260528T093000
DTEND;TZID=Europe/Berlin:20260528T123000
DTSTAMP:20260422T001552
CREATED:20260127T103034Z
LAST-MODIFIED:20260128T075557Z
UID:7953-1779960600-1779971400@www.gemeinde-petting.de
SUMMARY:Frühling im Moor
DESCRIPTION:
URL:https://www.gemeinde-petting.de/veranstaltung/fruehling-im-moor/
LOCATION:Parkplatz Schönramer Filz
END:VEVENT
END:VCALENDAR