BEGIN:VCALENDAR
VERSION:2.0
PRODID:-//Gemeinde Petting - ECPv6.15.20//NONSGML v1.0//EN
CALSCALE:GREGORIAN
METHOD:PUBLISH
X-ORIGINAL-URL:https://www.gemeinde-petting.de
X-WR-CALDESC:Veranstaltungen für Gemeinde Petting
REFRESH-INTERVAL;VALUE=DURATION:PT1H
X-Robots-Tag:noindex
X-PUBLISHED-TTL:PT1H
BEGIN:VTIMEZONE
TZID:Europe/Paris
BEGIN:DAYLIGHT
TZOFFSETFROM:+0100
TZOFFSETTO:+0200
TZNAME:CEST
DTSTART:20240331T010000
END:DAYLIGHT
BEGIN:STANDARD
TZOFFSETFROM:+0200
TZOFFSETTO:+0100
TZNAME:CET
DTSTART:20241027T010000
END:STANDARD
BEGIN:DAYLIGHT
TZOFFSETFROM:+0100
TZOFFSETTO:+0200
TZNAME:CEST
DTSTART:20250330T010000
END:DAYLIGHT
BEGIN:STANDARD
TZOFFSETFROM:+0200
TZOFFSETTO:+0100
TZNAME:CET
DTSTART:20251026T010000
END:STANDARD
BEGIN:DAYLIGHT
TZOFFSETFROM:+0100
TZOFFSETTO:+0200
TZNAME:CEST
DTSTART:20260329T010000
END:DAYLIGHT
BEGIN:STANDARD
TZOFFSETFROM:+0200
TZOFFSETTO:+0100
TZNAME:CET
DTSTART:20261025T010000
END:STANDARD
BEGIN:DAYLIGHT
TZOFFSETFROM:+0100
TZOFFSETTO:+0200
TZNAME:CEST
DTSTART:20270328T010000
END:DAYLIGHT
BEGIN:STANDARD
TZOFFSETFROM:+0200
TZOFFSETTO:+0100
TZNAME:CET
DTSTART:20271031T010000
END:STANDARD
END:VTIMEZONE
BEGIN:VTIMEZONE
TZID:Europe/Berlin
BEGIN:DAYLIGHT
TZOFFSETFROM:+0100
TZOFFSETTO:+0200
TZNAME:CEST
DTSTART:20250330T010000
END:DAYLIGHT
BEGIN:STANDARD
TZOFFSETFROM:+0200
TZOFFSETTO:+0100
TZNAME:CET
DTSTART:20251026T010000
END:STANDARD
BEGIN:DAYLIGHT
TZOFFSETFROM:+0100
TZOFFSETTO:+0200
TZNAME:CEST
DTSTART:20260329T010000
END:DAYLIGHT
BEGIN:STANDARD
TZOFFSETFROM:+0200
TZOFFSETTO:+0100
TZNAME:CET
DTSTART:20261025T010000
END:STANDARD
BEGIN:DAYLIGHT
TZOFFSETFROM:+0100
TZOFFSETTO:+0200
TZNAME:CEST
DTSTART:20270328T010000
END:DAYLIGHT
BEGIN:STANDARD
TZOFFSETFROM:+0200
TZOFFSETTO:+0100
TZNAME:CET
DTSTART:20271031T010000
END:STANDARD
END:VTIMEZONE
BEGIN:VEVENT
DTSTART;VALUE=DATE:20250217
DTEND;VALUE=DATE:20270101
DTSTAMP:20260422T002302
CREATED:20250117T094539Z
LAST-MODIFIED:20251014T070542Z
UID:6119-1739750400-1798761599@www.gemeinde-petting.de
SUMMARY:Kinderglück und Ponyzeit
DESCRIPTION:Kinderglück und Ponyzeit 🐴❤️🍀 auf dem Höglerhof \nAlles rund ums Pony. \nWechselnde Programme z.B. geführtes Ponyreiten\, Bildersuchritte\, Pacours Einheiten mit pädagogischen Förderungen wie Motorische\, Kognitive \, Kreative\, Soziale Kompetenzen. Bastelspaß \nZeiten und Programme bitte erfragen unter 0160 / 476 52 59 Sabine \n0173 / 636 92 70 Isabel \n  \nWir freuen uns auf Euch🌿🌸 \nSabine und Isabel mit \nCarlos und Felino🐴 \n 
URL:https://www.gemeinde-petting.de/veranstaltung/kinderglueck-und-ponyzeit/
LOCATION:Höglerhof\, Brandhofen 4\, Petting\, Deutschland\, 83367
CATEGORIES:Veranstaltung
END:VEVENT
BEGIN:VEVENT
DTSTART;VALUE=DATE:20260301
DTEND;VALUE=DATE:20260302
DTSTAMP:20260422T002302
CREATED:20251103T093119Z
LAST-MODIFIED:20251103T093119Z
UID:7216-1772323200-1772409599@www.gemeinde-petting.de
SUMMARY:Pfarrgemeinderatswahl
DESCRIPTION:
URL:https://www.gemeinde-petting.de/veranstaltung/pfarrgemeinderatswahl/
LOCATION:Pfarrheim\, Haupstr. 5\, Pertting\, 83367
CATEGORIES:Veranstaltung
END:VEVENT
BEGIN:VEVENT
DTSTART;VALUE=DATE:20260302
DTEND;VALUE=DATE:20260325
DTSTAMP:20260422T002302
CREATED:20260218T080903Z
LAST-MODIFIED:20260218T080903Z
UID:8077-1772409600-1774396799@www.gemeinde-petting.de
SUMMARY:Palmbuschenaktion Trachtenverein
DESCRIPTION:
URL:https://www.gemeinde-petting.de/veranstaltung/palmbuschenaktion-trachtenverein-3/
LOCATION:Haus der Vereine Schönram
CATEGORIES:Veranstaltung
END:VEVENT
BEGIN:VEVENT
DTSTART;TZID=Europe/Berlin:20260303T180000
DTEND;TZID=Europe/Berlin:20260303T210000
DTSTAMP:20260422T002302
CREATED:20251104T085454Z
LAST-MODIFIED:20251119T074118Z
UID:7314-1772560800-1772571600@www.gemeinde-petting.de
SUMMARY:Erste Hilfe Kurs Teil 1 - auch für Führerschein
DESCRIPTION:Wir wünschen uns alle\, dass wir nie in die Situation kommen\, dass wir ihn brauchen\, \naber wenn doch\, ist es beruhigend\, ihn zu haben\, den Erste Hilfe Kurs. \nRegina Biffar vom Roten Kreuz Traunstein ist Expertin auf diesem Gebiet und zeigt uns alles Wichtige zu diesem Thema. Und das Beste: Der Kurs gilt auch für den Führerschein! \nGesamtkosten: 65\,00 Euro \nAnmeldung in der Gemeinde Petting bei Regina Junger \nE-Mail: regina.junger@gmeinde-petting.de
URL:https://www.gemeinde-petting.de/veranstaltung/erste-hilfe-kurs-teil-1/
LOCATION:Raum Bürgerhilfe
CATEGORIES:Bürgerhilfe,Veranstaltung
END:VEVENT
BEGIN:VEVENT
DTSTART;TZID=Europe/Berlin:20260304T153000
DTEND;TZID=Europe/Berlin:20260304T153000
DTSTAMP:20260422T002302
CREATED:20251103T093246Z
LAST-MODIFIED:20251103T093246Z
UID:7218-1772638200-1772638200@www.gemeinde-petting.de
SUMMARY:Beichte Erstkommunionkinder
DESCRIPTION:
URL:https://www.gemeinde-petting.de/veranstaltung/beichte-erstkommunionkinder-2/
LOCATION:Pfarrheim\, Haupstr. 5\, Pertting\, 83367
CATEGORIES:Veranstaltung
END:VEVENT
BEGIN:VEVENT
DTSTART;TZID=Europe/Berlin:20260304T193000
DTEND;TZID=Europe/Berlin:20260304T210000
DTSTAMP:20260422T002302
CREATED:20251103T093553Z
LAST-MODIFIED:20260223T100657Z
UID:7220-1772652600-1772658000@www.gemeinde-petting.de
SUMMARY:Vortrag "Open doors"
DESCRIPTION:
URL:https://www.gemeinde-petting.de/veranstaltung/vortrag-open-doors/
LOCATION:Pfarrheim\, Haupstr. 5\, Pertting\, 83367
CATEGORIES:Veranstaltung
END:VEVENT
BEGIN:VEVENT
DTSTART;TZID=Europe/Berlin:20260305T133000
DTEND;TZID=Europe/Berlin:20260305T160000
DTSTAMP:20260422T002302
CREATED:20251029T102106Z
LAST-MODIFIED:20251029T102106Z
UID:7177-1772717400-1772726400@www.gemeinde-petting.de
SUMMARY:Pfarrcafe
DESCRIPTION:Wir laden herzlich ein zum geselligen beisammensein bei Kaffee und Kuchen für Jung und Alt.
URL:https://www.gemeinde-petting.de/veranstaltung/pfarrcafe-14/
LOCATION:Pfarrheim\, Haupstr. 5\, Pertting\, 83367
CATEGORIES:Veranstaltung
END:VEVENT
BEGIN:VEVENT
DTSTART;TZID=Europe/Berlin:20260305T190000
DTEND;TZID=Europe/Berlin:20260305T190000
DTSTAMP:20260422T002302
CREATED:20251104T085615Z
LAST-MODIFIED:20251104T085626Z
UID:7316-1772737200-1772737200@www.gemeinde-petting.de
SUMMARY:Strick- und Häkeltreff
DESCRIPTION:
URL:https://www.gemeinde-petting.de/veranstaltung/strick-und-haekelstreff/
LOCATION:Raum Bürgerhilfe
CATEGORIES:Bürgerhilfe,Veranstaltung
END:VEVENT
BEGIN:VEVENT
DTSTART;TZID=Europe/Berlin:20260306T140000
DTEND;TZID=Europe/Berlin:20260306T140000
DTSTAMP:20260422T002302
CREATED:20251103T093659Z
LAST-MODIFIED:20251103T093659Z
UID:7222-1772805600-1772805600@www.gemeinde-petting.de
SUMMARY:Weltgebetstag der Frauen
DESCRIPTION:
URL:https://www.gemeinde-petting.de/veranstaltung/weltgebetstag-der-frauen-2/
LOCATION:Pfarrheim\, Haupstr. 5\, Pertting\, 83367
CATEGORIES:Veranstaltung
END:VEVENT
BEGIN:VEVENT
DTSTART;TZID=Europe/Berlin:20260306T140000
DTEND;TZID=Europe/Berlin:20260306T170000
DTSTAMP:20260422T002302
CREATED:20251104T085722Z
LAST-MODIFIED:20251118T100632Z
UID:7319-1772805600-1772816400@www.gemeinde-petting.de
SUMMARY:Spielenachmittag für Erwachsene
DESCRIPTION:Mit Trixi Stadler. Wir spielen miteinander und gegeneinander. \nKeine Anmeldung erforderlich. \nAuf euer Kommen freut sich Trixi 🤗
URL:https://www.gemeinde-petting.de/veranstaltung/spielenachmittag-fuer-erwachsene-21/
LOCATION:Raum Bürgerhilfe
CATEGORIES:Bürgerhilfe,Veranstaltung
END:VEVENT
BEGIN:VEVENT
DTSTART;TZID=Europe/Berlin:20260307T090000
DTEND;TZID=Europe/Berlin:20260307T090000
DTSTAMP:20260422T002302
CREATED:20251103T093807Z
LAST-MODIFIED:20251103T093807Z
UID:7224-1772874000-1772874000@www.gemeinde-petting.de
SUMMARY:Firmbeichttag
DESCRIPTION:
URL:https://www.gemeinde-petting.de/veranstaltung/firmbeichttag-5/
LOCATION:Pfarrheim\, Haupstr. 5\, Pertting\, 83367
CATEGORIES:Veranstaltung
END:VEVENT
BEGIN:VEVENT
DTSTART;TZID=Europe/Berlin:20260308T100000
DTEND;TZID=Europe/Berlin:20260308T150000
DTSTAMP:20260422T002302
CREATED:20251106T104618Z
LAST-MODIFIED:20251106T104618Z
UID:7475-1772964000-1772982000@www.gemeinde-petting.de
SUMMARY:Schützenverein Heimkämpfe Bayernliga
DESCRIPTION:
URL:https://www.gemeinde-petting.de/veranstaltung/schuetzenverein-heimkaempfe-bayernliga/
LOCATION:Haus der Vereine Schönram
CATEGORIES:Veranstaltung
END:VEVENT
BEGIN:VEVENT
DTSTART;TZID=Europe/Berlin:20260309T191500
DTEND;TZID=Europe/Berlin:20260309T220000
DTSTAMP:20260422T002302
CREATED:20251203T074930Z
LAST-MODIFIED:20251203T074930Z
UID:7757-1773083700-1773093600@www.gemeinde-petting.de
SUMMARY:Schafkopfrunde
DESCRIPTION:Es sind alle herzlich eingeladen. \nDie Grundregeln sollten bekannt sein. \nOrganisiert wird das Ganze über unsere WhatsApp Gruppe. \nFragen gerne an Karin Strohmeyer unter Tel. 0151-12151041
URL:https://www.gemeinde-petting.de/veranstaltung/schafkopfrunde-13/
LOCATION:Raum Bürgerhilfe
CATEGORIES:Bürgerhilfe,Veranstaltung
END:VEVENT
BEGIN:VEVENT
DTSTART;TZID=Europe/Berlin:20260310T180000
DTEND;TZID=Europe/Berlin:20260310T210000
DTSTAMP:20260422T002302
CREATED:20251104T085825Z
LAST-MODIFIED:20251119T074633Z
UID:7321-1773165600-1773176400@www.gemeinde-petting.de
SUMMARY:Erste Hilfe Kurs Teil 2- auch für Führerschein
DESCRIPTION:Wir wünschen uns alle\, dass wir nie in die Situation kommen\, dass wir ihn brauchen\, \naber wenn doch\, ist es beruhigend\, ihn zu haben\, den Erste Hilfe Kurs. \n  \nRegina Biffar vom Roten Kreuz Traunstein ist Expertin auf diesem Gebiet und zeigt uns alles Wichtige zu diesem Thema. Und das Beste: Der Kurs gilt auch für den Führerschein! \nGesamtkosten: 65\,00 Euro \nAnmeldung in der Gemeinde Petting bei Regina Junger \nE-Mail: regina.junger@gmeinde-petting.de
URL:https://www.gemeinde-petting.de/veranstaltung/erste-hilfe-kurs-teil-2/
LOCATION:Raum Bürgerhilfe
CATEGORIES:Bürgerhilfe,Veranstaltung
END:VEVENT
BEGIN:VEVENT
DTSTART;TZID=Europe/Berlin:20260313T193000
DTEND;TZID=Europe/Berlin:20260313T193000
DTSTAMP:20260422T002302
CREATED:20251105T081558Z
LAST-MODIFIED:20251105T081558Z
UID:7418-1773430200-1773430200@www.gemeinde-petting.de
SUMMARY:JHV TSV
DESCRIPTION:
URL:https://www.gemeinde-petting.de/veranstaltung/jhv-tsv/
LOCATION:Gasthaus Riedler\, Haupstr. 36\, Petting\, 83367
CATEGORIES:Veranstaltung
END:VEVENT
BEGIN:VEVENT
DTSTART;TZID=Europe/Berlin:20260314T093000
DTEND;TZID=Europe/Berlin:20260314T133000
DTSTAMP:20260422T002302
CREATED:20251105T084315Z
LAST-MODIFIED:20251118T091259Z
UID:7424-1773480600-1773495000@www.gemeinde-petting.de
SUMMARY:Pizza backen & Kekse gestalten 6-14 Jahre
DESCRIPTION:Mit Sigrid Hinterreiter für Kinder von 6 bis 14 Jahren \nTeilnehmerzahl: max. 8 Kinder \nWir backen gemeinsam eine Pizza mit verschiedenen Belägen. Während der Wartezeit gesalten wir liebevoll Kekse. \nIch freue mich auf Euch 🤗
URL:https://www.gemeinde-petting.de/veranstaltung/pizza-backen-kinder-6-14-jahre/
LOCATION:Kinderkrippe Petting\, Haupstr. 2a\, Petting\, 83367
CATEGORIES:Bürgerhilfe,Veranstaltung
END:VEVENT
BEGIN:VEVENT
DTSTART;TZID=Europe/Berlin:20260315T083000
DTEND;TZID=Europe/Berlin:20260315T110000
DTSTAMP:20260422T002302
CREATED:20251016T084030Z
LAST-MODIFIED:20251016T084030Z
UID:7078-1773563400-1773572400@www.gemeinde-petting.de
SUMMARY:Kleintiermarkt
DESCRIPTION:Für den An- und Verkauf von Geflügel und Kleintieren veranstalten wir jeden 3. Sonntag im Monat von 8:30 Uhr bis 11:00 Uhr einen Markt in Schönram direkt neben der Brauerei. \nZum Verkauf stehen Hasen\, Kaninchen und andere Kleintiere\, Tauben\, Hühner\, Enten\, Gänse\, Wachteln und Ziervögel. \nIn den Sommermonaten ist bei den Märkten auch ein gewerblicher Tierhändler vor Ort\, der von Eintagsküken über Legehennen bis hin zu Enten verschiedene Geflügel im Angebot hat. \n 
URL:https://www.gemeinde-petting.de/veranstaltung/kleintiermarkt-25/
LOCATION:Kellerhaus Schönram\, Salzburger Str.\, Petting\, Deutschland\, 83367
CATEGORIES:Veranstaltung
ORGANIZER;CN="Rassegefl%C3%BCgelzuchtverein":MAILTO:vorstand@rgzv-petting.de
END:VEVENT
BEGIN:VEVENT
DTSTART;TZID=Europe/Berlin:20260315T101500
DTEND;TZID=Europe/Berlin:20260315T101500
DTSTAMP:20260422T002302
CREATED:20251103T094009Z
LAST-MODIFIED:20251103T094009Z
UID:7226-1773569700-1773569700@www.gemeinde-petting.de
SUMMARY:Familiengottesdienst mit Fastenessen
DESCRIPTION:im Anschluss laden wir herzlichst zum Fastenessen im Pfarrheim ein.
URL:https://www.gemeinde-petting.de/veranstaltung/familiengottesdienst-mit-fastenessen-2/
LOCATION:Pfarrkirche
CATEGORIES:Veranstaltung
END:VEVENT
BEGIN:VEVENT
DTSTART;TZID=Europe/Berlin:20260315T103000
DTEND;TZID=Europe/Berlin:20260315T183000
DTSTAMP:20260422T002302
CREATED:20260304T092707Z
LAST-MODIFIED:20260304T092707Z
UID:8135-1773570600-1773599400@www.gemeinde-petting.de
SUMMARY:Schafkopfturnier in Schönram
DESCRIPTION:
URL:https://www.gemeinde-petting.de/veranstaltung/schafkopfturnier-in-schoenram-3/
LOCATION:Brauerei Schönram\, Salzburgerstr. 17\, Petting\, 83367\, Deutschland
CATEGORIES:Veranstaltung
END:VEVENT
BEGIN:VEVENT
DTSTART;TZID=Europe/Berlin:20260315T133000
DTEND;TZID=Europe/Berlin:20260315T140000
DTSTAMP:20260422T002302
CREATED:20260205T091535Z
LAST-MODIFIED:20260205T091535Z
UID:7997-1773581400-1773583200@www.gemeinde-petting.de
SUMMARY:Theater in Schönram
DESCRIPTION:
URL:https://www.gemeinde-petting.de/veranstaltung/theater-in-schoenram-8/
LOCATION:Haus der Vereine Schönram
CATEGORIES:Veranstaltung
END:VEVENT
BEGIN:VEVENT
DTSTART;TZID=Europe/Berlin:20260315T140000
DTEND;TZID=Europe/Berlin:20260315T140000
DTSTAMP:20260422T002302
CREATED:20251107T083728Z
LAST-MODIFIED:20251107T083728Z
UID:7551-1773583200-1773583200@www.gemeinde-petting.de
SUMMARY:JHV VdK
DESCRIPTION:
URL:https://www.gemeinde-petting.de/veranstaltung/jhv-vdk-3/
LOCATION:Café Götzinger\, Seestr. 43\, Petting\, 83367\, Deutschland
CATEGORIES:Veranstaltung
END:VEVENT
BEGIN:VEVENT
DTSTART;TZID=Europe/Berlin:20260317T190000
DTEND;TZID=Europe/Berlin:20260317T190000
DTSTAMP:20260422T002302
CREATED:20251103T094132Z
LAST-MODIFIED:20251103T094132Z
UID:7228-1773774000-1773774000@www.gemeinde-petting.de
SUMMARY:Musikalische Andacht
DESCRIPTION:
URL:https://www.gemeinde-petting.de/veranstaltung/musikalische-andacht-8/
LOCATION:Pfarrkirche
CATEGORIES:Veranstaltung
END:VEVENT
BEGIN:VEVENT
DTSTART;TZID=Europe/Berlin:20260317T200000
DTEND;TZID=Europe/Berlin:20260317T213000
DTSTAMP:20260422T002302
CREATED:20260205T091911Z
LAST-MODIFIED:20260205T091911Z
UID:8000-1773777600-1773783000@www.gemeinde-petting.de
SUMMARY:Theater in Schönram
DESCRIPTION:
URL:https://www.gemeinde-petting.de/veranstaltung/theater-in-schoenram-9/
LOCATION:Haus der Vereine Schönram
CATEGORIES:Veranstaltung
END:VEVENT
BEGIN:VEVENT
DTSTART;TZID=Europe/Berlin:20260318T090000
DTEND;TZID=Europe/Berlin:20260318T090000
DTSTAMP:20260422T002302
CREATED:20251103T104432Z
LAST-MODIFIED:20251103T104432Z
UID:7286-1773824400-1773824400@www.gemeinde-petting.de
SUMMARY:Storchenfrühstück im Pfarrheim
DESCRIPTION:
URL:https://www.gemeinde-petting.de/veranstaltung/storchenfruehstueck-im-pfarrheim/
LOCATION:Pfarrheim\, Haupstr. 5\, Pertting\, 83367
CATEGORIES:Veranstaltung
END:VEVENT
BEGIN:VEVENT
DTSTART;TZID=Europe/Berlin:20260320T150000
DTEND;TZID=Europe/Berlin:20260320T170000
DTSTAMP:20260422T002302
CREATED:20251104T085936Z
LAST-MODIFIED:20251118T103556Z
UID:7323-1774018800-1774026000@www.gemeinde-petting.de
SUMMARY:Spielenachmittag für Kinder
DESCRIPTION:Mit Trixi Stadler. \nKeine Anmeldung erforderlich. \nHier kommt der Spaß garantiert nicht zu kurz. \nLieblingsspiele können gern mitgebracht werden. \nWir freuen uns auf Euch 🤗
URL:https://www.gemeinde-petting.de/veranstaltung/spielenachmittag-fuer-kinder-12/
LOCATION:Raum Bürgerhilfe
CATEGORIES:Bürgerhilfe,Veranstaltung
END:VEVENT
BEGIN:VEVENT
DTSTART;TZID=Europe/Berlin:20260320T190000
DTEND;TZID=Europe/Berlin:20260320T190000
DTSTAMP:20260422T002302
CREATED:20251103T094250Z
LAST-MODIFIED:20251103T094302Z
UID:7230-1774033200-1774033200@www.gemeinde-petting.de
SUMMARY:Kreuzweg AndersArt
DESCRIPTION:
URL:https://www.gemeinde-petting.de/veranstaltung/kreuzweg-andersart/
LOCATION:Pfarrkirche
CATEGORIES:Veranstaltung
END:VEVENT
BEGIN:VEVENT
DTSTART;TZID=Europe/Berlin:20260320T190000
DTEND;TZID=Europe/Berlin:20260320T210000
DTSTAMP:20260422T002302
CREATED:20251017T082358Z
LAST-MODIFIED:20251017T082358Z
UID:7098-1774033200-1774040400@www.gemeinde-petting.de
SUMMARY:Musikantenstammtisch
DESCRIPTION:jeden 3. Freitag im Monat von März bis September lädt das Gasthaus „Riedler“ beim Unterwirt herzlich zu einem Musikantenstammtisch ein. \nAuf Euer kommen freut sich Familie Zettl. \n  \n 
URL:https://www.gemeinde-petting.de/veranstaltung/musikantenstammtisch-14/
LOCATION:Gasthaus Riedler\, Haupstr. 36\, Petting\, 83367
CATEGORIES:Veranstaltung
END:VEVENT
BEGIN:VEVENT
DTSTART;TZID=Europe/Berlin:20260320T200000
DTEND;TZID=Europe/Berlin:20260320T213000
DTSTAMP:20260422T002302
CREATED:20260205T092302Z
LAST-MODIFIED:20260205T092302Z
UID:8003-1774036800-1774042200@www.gemeinde-petting.de
SUMMARY:Theater in Schönram
DESCRIPTION:
URL:https://www.gemeinde-petting.de/veranstaltung/theater-in-schoenram-10/
LOCATION:Haus der Vereine Schönram
CATEGORIES:Veranstaltung
END:VEVENT
BEGIN:VEVENT
DTSTART;TZID=Europe/Berlin:20260321T200000
DTEND;TZID=Europe/Berlin:20260321T213000
DTSTAMP:20260422T002302
CREATED:20260205T092424Z
LAST-MODIFIED:20260205T092424Z
UID:8006-1774123200-1774128600@www.gemeinde-petting.de
SUMMARY:Theater in Schönram
DESCRIPTION:
URL:https://www.gemeinde-petting.de/veranstaltung/theater-in-schoenram-11/
LOCATION:Haus der Vereine Schönram
CATEGORIES:Veranstaltung
END:VEVENT
BEGIN:VEVENT
DTSTART;TZID=Europe/Berlin:20260322T090000
DTEND;TZID=Europe/Berlin:20260322T123000
DTSTAMP:20260422T002302
CREATED:20260205T092549Z
LAST-MODIFIED:20260205T094045Z
UID:8009-1774170000-1774182600@www.gemeinde-petting.de
SUMMARY:Theater in Schönram
DESCRIPTION:Ab 9 Uhr Frühschoppen im Haus der Vereine!
URL:https://www.gemeinde-petting.de/veranstaltung/theater-in-schoenram-12/
LOCATION:Haus der Vereine Schönram
CATEGORIES:Veranstaltung
END:VEVENT
END:VCALENDAR