BEGIN:VCALENDAR
VERSION:2.0
PRODID:-//Gemeinde Petting - ECPv6.15.20//NONSGML v1.0//EN
CALSCALE:GREGORIAN
METHOD:PUBLISH
X-WR-CALNAME:Gemeinde Petting
X-ORIGINAL-URL:https://www.gemeinde-petting.de
X-WR-CALDESC:Veranstaltungen für Gemeinde Petting
REFRESH-INTERVAL;VALUE=DURATION:PT1H
X-Robots-Tag:noindex
X-PUBLISHED-TTL:PT1H
BEGIN:VTIMEZONE
TZID:Europe/Paris
BEGIN:DAYLIGHT
TZOFFSETFROM:+0100
TZOFFSETTO:+0200
TZNAME:CEST
DTSTART:20240331T010000
END:DAYLIGHT
BEGIN:STANDARD
TZOFFSETFROM:+0200
TZOFFSETTO:+0100
TZNAME:CET
DTSTART:20241027T010000
END:STANDARD
BEGIN:DAYLIGHT
TZOFFSETFROM:+0100
TZOFFSETTO:+0200
TZNAME:CEST
DTSTART:20250330T010000
END:DAYLIGHT
BEGIN:STANDARD
TZOFFSETFROM:+0200
TZOFFSETTO:+0100
TZNAME:CET
DTSTART:20251026T010000
END:STANDARD
BEGIN:DAYLIGHT
TZOFFSETFROM:+0100
TZOFFSETTO:+0200
TZNAME:CEST
DTSTART:20260329T010000
END:DAYLIGHT
BEGIN:STANDARD
TZOFFSETFROM:+0200
TZOFFSETTO:+0100
TZNAME:CET
DTSTART:20261025T010000
END:STANDARD
BEGIN:DAYLIGHT
TZOFFSETFROM:+0100
TZOFFSETTO:+0200
TZNAME:CEST
DTSTART:20270328T010000
END:DAYLIGHT
BEGIN:STANDARD
TZOFFSETFROM:+0200
TZOFFSETTO:+0100
TZNAME:CET
DTSTART:20271031T010000
END:STANDARD
END:VTIMEZONE
BEGIN:VTIMEZONE
TZID:Europe/Berlin
BEGIN:DAYLIGHT
TZOFFSETFROM:+0100
TZOFFSETTO:+0200
TZNAME:CEST
DTSTART:20250330T010000
END:DAYLIGHT
BEGIN:STANDARD
TZOFFSETFROM:+0200
TZOFFSETTO:+0100
TZNAME:CET
DTSTART:20251026T010000
END:STANDARD
BEGIN:DAYLIGHT
TZOFFSETFROM:+0100
TZOFFSETTO:+0200
TZNAME:CEST
DTSTART:20260329T010000
END:DAYLIGHT
BEGIN:STANDARD
TZOFFSETFROM:+0200
TZOFFSETTO:+0100
TZNAME:CET
DTSTART:20261025T010000
END:STANDARD
BEGIN:DAYLIGHT
TZOFFSETFROM:+0100
TZOFFSETTO:+0200
TZNAME:CEST
DTSTART:20270328T010000
END:DAYLIGHT
BEGIN:STANDARD
TZOFFSETFROM:+0200
TZOFFSETTO:+0100
TZNAME:CET
DTSTART:20271031T010000
END:STANDARD
END:VTIMEZONE
BEGIN:VEVENT
DTSTART;VALUE=DATE:20250217
DTEND;VALUE=DATE:20270101
DTSTAMP:20260422T014449
CREATED:20250117T094539Z
LAST-MODIFIED:20251014T070542Z
UID:6119-1739750400-1798761599@www.gemeinde-petting.de
SUMMARY:Kinderglück und Ponyzeit
DESCRIPTION:Kinderglück und Ponyzeit 🐴❤️🍀 auf dem Höglerhof \nAlles rund ums Pony. \nWechselnde Programme z.B. geführtes Ponyreiten\, Bildersuchritte\, Pacours Einheiten mit pädagogischen Förderungen wie Motorische\, Kognitive \, Kreative\, Soziale Kompetenzen. Bastelspaß \nZeiten und Programme bitte erfragen unter 0160 / 476 52 59 Sabine \n0173 / 636 92 70 Isabel \n  \nWir freuen uns auf Euch🌿🌸 \nSabine und Isabel mit \nCarlos und Felino🐴 \n 
URL:https://www.gemeinde-petting.de/veranstaltung/kinderglueck-und-ponyzeit/
LOCATION:Höglerhof\, Brandhofen 4\, Petting\, Deutschland\, 83367
CATEGORIES:Veranstaltung
END:VEVENT
BEGIN:VEVENT
DTSTART;TZID=Europe/Berlin:20260117T080000
DTEND;TZID=Europe/Berlin:20260221T170000
DTSTAMP:20260422T014449
CREATED:20251029T103951Z
LAST-MODIFIED:20251029T103951Z
UID:7195-1768636800-1771693200@www.gemeinde-petting.de
SUMMARY:Bibelausstellung
DESCRIPTION:Ausstellung von 17.01.2026 bis 21.02.2026 im Pfarrheim Kirchanschöring
URL:https://www.gemeinde-petting.de/veranstaltung/bibelausstellung/
LOCATION:Pfarrheim Kirchanschöring\, Kirchplatz 6\, Kirchanschöring\, 83417\, Deutschland
CATEGORIES:Veranstaltung
END:VEVENT
BEGIN:VEVENT
DTSTART;TZID=Europe/Berlin:20260201T101500
DTEND;TZID=Europe/Berlin:20260201T111500
DTSTAMP:20260422T014449
CREATED:20251029T104438Z
LAST-MODIFIED:20251029T104438Z
UID:7199-1769940900-1769944500@www.gemeinde-petting.de
SUMMARY:Lichtmessgottesdienst
DESCRIPTION:
URL:https://www.gemeinde-petting.de/veranstaltung/lichtmessgottesdienst-3/
LOCATION:Pfarrkirche
CATEGORIES:Veranstaltung
END:VEVENT
BEGIN:VEVENT
DTSTART;TZID=Europe/Berlin:20260201T130000
DTEND;TZID=Europe/Berlin:20260201T130000
DTSTAMP:20260422T014449
CREATED:20251107T073949Z
LAST-MODIFIED:20251107T073949Z
UID:7500-1769950800-1769950800@www.gemeinde-petting.de
SUMMARY:Schnalzen Rund um den Waginger See
DESCRIPTION:
URL:https://www.gemeinde-petting.de/veranstaltung/schnalzen-rund-um-den-waginger-see/
CATEGORIES:Veranstaltung
END:VEVENT
BEGIN:VEVENT
DTSTART;TZID=Europe/Berlin:20260203T180000
DTEND;TZID=Europe/Berlin:20260203T210000
DTSTAMP:20260422T014449
CREATED:20251104T083652Z
LAST-MODIFIED:20251119T072605Z
UID:7304-1770141600-1770152400@www.gemeinde-petting.de
SUMMARY:Erste Hilfe Kurs am Kind Teil 1
DESCRIPTION:In diesem Kurs erlernen Sie\, welche Erste-Hilfe-Maßnahmen bei einem Kindernotfall \n\nvom Säugling bis zum Jugendlichen – anzuwenden sind.\n\nBeispiele hierfür sind u.a. Atem- und Kreislaufstillstand\, Vergiftungen\, Verbrennungen\, Fieber- und Infektionskrämpfe. \nAußerdem gibt´s wichtige Tipps zum Thema Wundversorgung. \nDer Kurs ist besonders geeignet für Eltern\, werdende Eltern\, Großeltern\, Erzieher*innen und Babysitter. \n  \nGesamtkosten: 65\,00 Euro \nAnmeldung in der Gemeinde Petting bei Regina Junger \nE-Mail: regina.junger@gmeinde-petting.de
URL:https://www.gemeinde-petting.de/veranstaltung/erste-hilfe-kurs-am-kind-teil-1/
LOCATION:Raum Bürgerhilfe
CATEGORIES:Bürgerhilfe,Veranstaltung
END:VEVENT
BEGIN:VEVENT
DTSTART;TZID=Europe/Berlin:20260205T133000
DTEND;TZID=Europe/Berlin:20260205T160000
DTSTAMP:20260422T014449
CREATED:20250922T092238Z
LAST-MODIFIED:20250922T092238Z
UID:7035-1770298200-1770307200@www.gemeinde-petting.de
SUMMARY:Pfarrcafe
DESCRIPTION:Wir laden herzlich ein zum geselligen beisammensein bei Kaffee und Kuchen für Jung und Alt. \nVortrag mit Elisabeth Gröbner mit dem Thema: \n„Paulus und das frühe Christentum in Syrien“ mit Bilder und Erzählen von einer faszinierenden Reise von 2008. \n 
URL:https://www.gemeinde-petting.de/veranstaltung/pfarrcafe-13/
LOCATION:Pfarrheim\, Haupstr. 5\, Pertting\, 83367
CATEGORIES:Veranstaltung
END:VEVENT
BEGIN:VEVENT
DTSTART;TZID=Europe/Berlin:20260205T190000
DTEND;TZID=Europe/Berlin:20260205T190000
DTSTAMP:20260422T014449
CREATED:20251104T083747Z
LAST-MODIFIED:20251104T083747Z
UID:7306-1770318000-1770318000@www.gemeinde-petting.de
SUMMARY:Strick- und Häkeltreff
DESCRIPTION:
URL:https://www.gemeinde-petting.de/veranstaltung/strick-und-haekeltreff-2/
LOCATION:Raum Bürgerhilfe
CATEGORIES:Bürgerhilfe,Veranstaltung
END:VEVENT
BEGIN:VEVENT
DTSTART;TZID=Europe/Berlin:20260206T140000
DTEND;TZID=Europe/Berlin:20260206T170000
DTSTAMP:20260422T014449
CREATED:20251104T083835Z
LAST-MODIFIED:20251118T100256Z
UID:7308-1770386400-1770397200@www.gemeinde-petting.de
SUMMARY:Spielenachmittag für Erwachsene
DESCRIPTION:Mit Trixi Stadler. Wir spielen miteinander und gegeneinander. \nKeine Anmeldung erforderlich. \nAuf euer Kommen freut sich Trixi 🤗
URL:https://www.gemeinde-petting.de/veranstaltung/spielenachmittag-fuer-erwachsene-20/
LOCATION:Raum Bürgerhilfe
CATEGORIES:Bürgerhilfe,Veranstaltung
END:VEVENT
BEGIN:VEVENT
DTSTART;TZID=Europe/Berlin:20260206T183000
DTEND;TZID=Europe/Berlin:20260206T183000
DTSTAMP:20260422T014449
CREATED:20251107T083923Z
LAST-MODIFIED:20251117T101607Z
UID:7553-1770402600-1770402600@www.gemeinde-petting.de
SUMMARY:JHV Bienenzuchtverein Petting
DESCRIPTION:
URL:https://www.gemeinde-petting.de/veranstaltung/jhv-bienenzuchtverein-petting/
LOCATION:Café Götzinger\, Seestr. 43\, Petting\, 83367\, Deutschland
CATEGORIES:Veranstaltung
END:VEVENT
BEGIN:VEVENT
DTSTART;TZID=Europe/Berlin:20260207T120000
DTEND;TZID=Europe/Berlin:20260207T120000
DTSTAMP:20260422T014449
CREATED:20251107T074108Z
LAST-MODIFIED:20251107T074108Z
UID:7502-1770465600-1770465600@www.gemeinde-petting.de
SUMMARY:Rupertigaupreisschnalzen in Kirchanschöring Jugend
DESCRIPTION:
URL:https://www.gemeinde-petting.de/veranstaltung/rupertigaupreisschnalzen-in-kirchanschoering-jugend/
CATEGORIES:Veranstaltung
END:VEVENT
BEGIN:VEVENT
DTSTART;TZID=Europe/Berlin:20260208T110000
DTEND;TZID=Europe/Berlin:20260208T110000
DTSTAMP:20260422T014449
CREATED:20251107T074304Z
LAST-MODIFIED:20251107T074304Z
UID:7504-1770548400-1770548400@www.gemeinde-petting.de
SUMMARY:Rupertigaupreisschnalzen Kirchanschöring Erwachsene
DESCRIPTION:
URL:https://www.gemeinde-petting.de/veranstaltung/rupertigaupreisschnalzen-kirchanschoering-erwachsene/
CATEGORIES:Veranstaltung
END:VEVENT
BEGIN:VEVENT
DTSTART;TZID=Europe/Berlin:20260210T180000
DTEND;TZID=Europe/Berlin:20260210T210000
DTSTAMP:20260422T014449
CREATED:20251104T085112Z
LAST-MODIFIED:20251119T072510Z
UID:7310-1770746400-1770757200@www.gemeinde-petting.de
SUMMARY:Erste Hilfe Kurs am Kind Teil 2
DESCRIPTION:In diesem Kurs erlernen Sie\, welche Erste-Hilfe-Maßnahmen bei einem Kindernotfall \n\nvom Säugling bis zum Jugendlichen – anzuwenden sind.\n\nBeispiele hierfür sind u.a. Atem- und Kreislaufstillstand\, Vergiftungen\, Verbrennungen\, Fieber- und Infektionskrämpfe. \nAußerdem gibt´s wichtige Tipps zum Thema Wundversorgung. \nDer Kurs ist besonders geeignet für Eltern\, werdende Eltern\, Großeltern\, Erzieher*innen und Babysitter. \n  \nGesamtkosten: 65\,00 Euro \nAnmeldung in der Gemeinde Petting bei Regina Junger \nE-Mail: regina.junger@gmeinde-petting.de
URL:https://www.gemeinde-petting.de/veranstaltung/erste-hilfe-kurs-am-kind-teil-2/
LOCATION:Raum Bürgerhilfe
CATEGORIES:Bürgerhilfe,Veranstaltung
END:VEVENT
BEGIN:VEVENT
DTSTART;TZID=Europe/Berlin:20260210T190000
DTEND;TZID=Europe/Berlin:20260210T200000
DTSTAMP:20260422T014449
CREATED:20251029T104636Z
LAST-MODIFIED:20251029T104636Z
UID:7202-1770750000-1770753600@www.gemeinde-petting.de
SUMMARY:Musikalische Andacht mit Brass Compo Petting
DESCRIPTION:
URL:https://www.gemeinde-petting.de/veranstaltung/musikalische-andacht-mit-brass-compo-petting/
LOCATION:Pfarrkirche
CATEGORIES:Veranstaltung
END:VEVENT
BEGIN:VEVENT
DTSTART;TZID=Europe/Berlin:20260211T191500
DTEND;TZID=Europe/Berlin:20260211T220000
DTSTAMP:20260422T014449
CREATED:20251203T074826Z
LAST-MODIFIED:20251203T074826Z
UID:7755-1770837300-1770847200@www.gemeinde-petting.de
SUMMARY:Schafkopfrunde
DESCRIPTION:Es sind alle herzlich eingeladen. \nDie Grundregeln sollten bekannt sein. \nOrganisiert wird das Ganze über unsere WhatsApp Gruppe. \nFragen gerne an Karin Strohmeyer unter Tel. 0151-12151041
URL:https://www.gemeinde-petting.de/veranstaltung/schafkopfrunde-12/
LOCATION:Raum Bürgerhilfe
CATEGORIES:Bürgerhilfe,Veranstaltung
END:VEVENT
BEGIN:VEVENT
DTSTART;TZID=Europe/Berlin:20260213T143000
DTEND;TZID=Europe/Berlin:20260213T173000
DTSTAMP:20260422T014449
CREATED:20251107T074527Z
LAST-MODIFIED:20260129T085506Z
UID:7506-1770993000-1771003800@www.gemeinde-petting.de
SUMMARY:Kinderfasching Schönram
DESCRIPTION:
URL:https://www.gemeinde-petting.de/veranstaltung/kinderfasching-trachtenverein/
LOCATION:Haus der Vereine Schönram
CATEGORIES:Veranstaltung
END:VEVENT
BEGIN:VEVENT
DTSTART;TZID=Europe/Berlin:20260214T140000
DTEND;TZID=Europe/Berlin:20260214T180000
DTSTAMP:20260422T014449
CREATED:20251107T073558Z
LAST-MODIFIED:20260126T084216Z
UID:7496-1771077600-1771092000@www.gemeinde-petting.de
SUMMARY:Kinderfasching Petting
DESCRIPTION:
URL:https://www.gemeinde-petting.de/veranstaltung/kinderfasching-3/
LOCATION:Turnhalle Petting
CATEGORIES:Veranstaltung
ORGANIZER;CN="Faschingsverein":MAILTO:sohaggepetting@gmail.com
END:VEVENT
BEGIN:VEVENT
DTSTART;TZID=Europe/Berlin:20260215T083000
DTEND;TZID=Europe/Berlin:20260215T110000
DTSTAMP:20260422T014449
CREATED:20251016T083731Z
LAST-MODIFIED:20251016T083914Z
UID:7076-1771144200-1771153200@www.gemeinde-petting.de
SUMMARY:Kleintiermarkt
DESCRIPTION:Für den An- und Verkauf von Geflügel und Kleintieren veranstalten wir jeden 3. Sonntag im Monat von 8:30 Uhr bis 11:00 Uhr einen Markt in Schönram direkt neben der Brauerei. \nZum Verkauf stehen Hasen\, Kaninchen und andere Kleintiere\, Tauben\, Hühner\, Enten\, Gänse\, Wachteln und Ziervögel. \nIn den Sommermonaten ist bei den Märkten auch ein gewerblicher Tierhändler vor Ort\, der von Eintagsküken über Legehennen bis hin zu Enten verschiedene Geflügel im Angebot hat. \n 
URL:https://www.gemeinde-petting.de/veranstaltung/kleintiermarkt-24/
LOCATION:Kellerhaus Schönram\, Salzburger Str.\, Petting\, Deutschland\, 83367
CATEGORIES:Veranstaltung
ORGANIZER;CN="Rassegefl%C3%BCgelzuchtverein":MAILTO:vorstand@rgzv-petting.de
END:VEVENT
BEGIN:VEVENT
DTSTART;TZID=Europe/Berlin:20260215T130000
DTEND;TZID=Europe/Berlin:20260215T200000
DTSTAMP:20260422T014449
CREATED:20251107T073248Z
LAST-MODIFIED:20260123T075504Z
UID:7493-1771160400-1771185600@www.gemeinde-petting.de
SUMMARY:Faschingszug in Petting
DESCRIPTION:  \n 
URL:https://www.gemeinde-petting.de/veranstaltung/faschingszug-in-petting-2/
LOCATION:Turnhalle Petting
CATEGORIES:Veranstaltung
ORGANIZER;CN="Faschingsverein":MAILTO:sohaggepetting@gmail.com
END:VEVENT
BEGIN:VEVENT
DTSTART;TZID=Europe/Berlin:20260218T190000
DTEND;TZID=Europe/Berlin:20260218T200000
DTSTAMP:20260422T014449
CREATED:20251029T104746Z
LAST-MODIFIED:20251029T104746Z
UID:7204-1771441200-1771444800@www.gemeinde-petting.de
SUMMARY:Gottesdienst zum Aschermittwoch
DESCRIPTION:
URL:https://www.gemeinde-petting.de/veranstaltung/gottesdienst-zum-aschermittwoch-3/
LOCATION:Pfarrkirche
CATEGORIES:Veranstaltung
END:VEVENT
BEGIN:VEVENT
DTSTART;TZID=Europe/Berlin:20260219T150000
DTEND;TZID=Europe/Berlin:20260219T170000
DTSTAMP:20260422T014449
CREATED:20251118T103337Z
LAST-MODIFIED:20251118T103500Z
UID:7647-1771513200-1771520400@www.gemeinde-petting.de
SUMMARY:Spielenachmittag für Kinder
DESCRIPTION:Mit Trixi Stadler. \nKeine Anmeldung erforderlich. \nHier kommt der Spaß garantiert nicht zu kurz. \nLieblingsspiele können gern mitgebracht werden. \nWir freuen uns auf Euch 🤗
URL:https://www.gemeinde-petting.de/veranstaltung/spielenachmittag-fuer-kinder-18/
LOCATION:Raum Bürgerhilfe
CATEGORIES:Bürgerhilfe,Veranstaltung
END:VEVENT
BEGIN:VEVENT
DTSTART;TZID=Europe/Berlin:20260219T193000
DTEND;TZID=Europe/Berlin:20260219T213000
DTSTAMP:20260422T014449
CREATED:20251105T092538Z
LAST-MODIFIED:20260206T090227Z
UID:7440-1771529400-1771536600@www.gemeinde-petting.de
SUMMARY:JHV Gartenbau
DESCRIPTION:
URL:https://www.gemeinde-petting.de/veranstaltung/jhv-gartenbau/
LOCATION:Gasthaus Riedler\, Haupstr. 36\, Petting\, 83367
CATEGORIES:Veranstaltung
ORGANIZER;CN="Gartenbauverein":MAILTO:mail@gartenbauverein-petting.de
END:VEVENT
BEGIN:VEVENT
DTSTART;VALUE=DATE:20260220
DTEND;VALUE=DATE:20260223
DTSTAMP:20260422T014449
CREATED:20251105T081113Z
LAST-MODIFIED:20260119T082707Z
UID:7416-1771545600-1771804799@www.gemeinde-petting.de
SUMMARY:Jugendfußball-Turnier
DESCRIPTION:Freitag von 14:00 bis Sonntag  19:00 Uhr
URL:https://www.gemeinde-petting.de/veranstaltung/jugendfussball-turnier-2/
LOCATION:Turnhalle Petting
CATEGORIES:Veranstaltung
END:VEVENT
BEGIN:VEVENT
DTSTART;TZID=Europe/Berlin:20260220T193000
DTEND;TZID=Europe/Berlin:20260220T193000
DTSTAMP:20260422T014449
CREATED:20251107T080315Z
LAST-MODIFIED:20251107T080315Z
UID:7524-1771615800-1771615800@www.gemeinde-petting.de
SUMMARY:JHV Fischer
DESCRIPTION:Veranstaltungsort steht noch nicht fest
URL:https://www.gemeinde-petting.de/veranstaltung/jhv-fischer/
CATEGORIES:Veranstaltung
ORGANIZER;CN="Fischereiverein":MAILTO:fischereivereinpetting@t-online.de
END:VEVENT
BEGIN:VEVENT
DTSTART;VALUE=DATE:20260222
DTEND;VALUE=DATE:20260223
DTSTAMP:20260422T014449
CREATED:20251106T103705Z
LAST-MODIFIED:20251106T103705Z
UID:7471-1771718400-1771804799@www.gemeinde-petting.de
SUMMARY:JHV Musikverein
DESCRIPTION:
URL:https://www.gemeinde-petting.de/veranstaltung/jhv-musikverein/
LOCATION:Gasthaus Riedler\, Haupstr. 36\, Petting\, 83367
CATEGORIES:Veranstaltung
ORGANIZER;CN="Musikkapelle Ringham-Petting":MAILTO:Mk-ringham-petting@web.de
END:VEVENT
BEGIN:VEVENT
DTSTART;TZID=Europe/Berlin:20260225T200000
DTEND;TZID=Europe/Berlin:20260225T210000
DTSTAMP:20260422T014449
CREATED:20251029T104902Z
LAST-MODIFIED:20251029T104902Z
UID:7206-1772049600-1772053200@www.gemeinde-petting.de
SUMMARY:2. Elternabend zur Erstkommunion
DESCRIPTION:
URL:https://www.gemeinde-petting.de/veranstaltung/2-elternabend-zur-erstkommunion-2/
LOCATION:Pfarrheim\, Haupstr. 5\, Pertting\, 83367
CATEGORIES:Veranstaltung
END:VEVENT
BEGIN:VEVENT
DTSTART;VALUE=DATE:20260228
DTEND;VALUE=DATE:20260301
DTSTAMP:20260422T014449
CREATED:20251103T092832Z
LAST-MODIFIED:20251103T093024Z
UID:7212-1772236800-1772323199@www.gemeinde-petting.de
SUMMARY:Pfarrgemeinderatswahl
DESCRIPTION:
URL:https://www.gemeinde-petting.de/veranstaltung/pgr-wahl/
LOCATION:Pfarrheim\, Haupstr. 5\, Pertting\, 83367
CATEGORIES:Veranstaltung
END:VEVENT
BEGIN:VEVENT
DTSTART;TZID=Europe/Berlin:20260228T093000
DTEND;TZID=Europe/Berlin:20260228T133000
DTSTAMP:20260422T014449
CREATED:20251105T084224Z
LAST-MODIFIED:20251119T073522Z
UID:7422-1772271000-1772285400@www.gemeinde-petting.de
SUMMARY:Dinkelbrötchen Backen Erwachsene
DESCRIPTION:Entdecke\, wie einfach es ist\, köstliches Brot und Dinkelbrötchen selbst zu backen! \nGemeinsam kneten\, formen und backen wir aus natürlichen Zutaten duftende Backwaren – mit Tipps\, die du leicht zuhause umsetzen kannst. \nIdeal für Einsteiger und Hobbybäcker. \nInklusive Rezeptmappe\, Verkostung und kleiner Überraschung. \n  \nTeilnehmerzahl: max. 12 Personen \nKosten: 20\,00 € \nAnmeldung unter: Sigrid@labella-gmbh.de   oder    Handy : 01712680955
URL:https://www.gemeinde-petting.de/veranstaltung/dinkelbroetchen-backen-erwachsene/
LOCATION:Kinderkrippe Petting\, Haupstr. 2a\, Petting\, 83367
CATEGORIES:Bürgerhilfe,Veranstaltung
ORGANIZER;CN="Sigrid Hinterreiter":MAILTO:Sigrid@labella-gmbh.de
END:VEVENT
END:VCALENDAR