BEGIN:VCALENDAR
VERSION:2.0
PRODID:-//Gemeinde Petting - ECPv6.15.20//NONSGML v1.0//EN
CALSCALE:GREGORIAN
METHOD:PUBLISH
X-WR-CALNAME:Gemeinde Petting
X-ORIGINAL-URL:https://www.gemeinde-petting.de
X-WR-CALDESC:Veranstaltungen für Gemeinde Petting
REFRESH-INTERVAL;VALUE=DURATION:PT1H
X-Robots-Tag:noindex
X-PUBLISHED-TTL:PT1H
BEGIN:VTIMEZONE
TZID:Europe/Paris
BEGIN:DAYLIGHT
TZOFFSETFROM:+0100
TZOFFSETTO:+0200
TZNAME:CEST
DTSTART:20240331T010000
END:DAYLIGHT
BEGIN:STANDARD
TZOFFSETFROM:+0200
TZOFFSETTO:+0100
TZNAME:CET
DTSTART:20241027T010000
END:STANDARD
BEGIN:DAYLIGHT
TZOFFSETFROM:+0100
TZOFFSETTO:+0200
TZNAME:CEST
DTSTART:20250330T010000
END:DAYLIGHT
BEGIN:STANDARD
TZOFFSETFROM:+0200
TZOFFSETTO:+0100
TZNAME:CET
DTSTART:20251026T010000
END:STANDARD
BEGIN:DAYLIGHT
TZOFFSETFROM:+0100
TZOFFSETTO:+0200
TZNAME:CEST
DTSTART:20260329T010000
END:DAYLIGHT
BEGIN:STANDARD
TZOFFSETFROM:+0200
TZOFFSETTO:+0100
TZNAME:CET
DTSTART:20261025T010000
END:STANDARD
BEGIN:DAYLIGHT
TZOFFSETFROM:+0100
TZOFFSETTO:+0200
TZNAME:CEST
DTSTART:20270328T010000
END:DAYLIGHT
BEGIN:STANDARD
TZOFFSETFROM:+0200
TZOFFSETTO:+0100
TZNAME:CET
DTSTART:20271031T010000
END:STANDARD
END:VTIMEZONE
BEGIN:VTIMEZONE
TZID:Europe/Berlin
BEGIN:DAYLIGHT
TZOFFSETFROM:+0100
TZOFFSETTO:+0200
TZNAME:CEST
DTSTART:20250330T010000
END:DAYLIGHT
BEGIN:STANDARD
TZOFFSETFROM:+0200
TZOFFSETTO:+0100
TZNAME:CET
DTSTART:20251026T010000
END:STANDARD
BEGIN:DAYLIGHT
TZOFFSETFROM:+0100
TZOFFSETTO:+0200
TZNAME:CEST
DTSTART:20260329T010000
END:DAYLIGHT
BEGIN:STANDARD
TZOFFSETFROM:+0200
TZOFFSETTO:+0100
TZNAME:CET
DTSTART:20261025T010000
END:STANDARD
BEGIN:DAYLIGHT
TZOFFSETFROM:+0100
TZOFFSETTO:+0200
TZNAME:CEST
DTSTART:20270328T010000
END:DAYLIGHT
BEGIN:STANDARD
TZOFFSETFROM:+0200
TZOFFSETTO:+0100
TZNAME:CET
DTSTART:20271031T010000
END:STANDARD
END:VTIMEZONE
BEGIN:VEVENT
DTSTART;VALUE=DATE:20250217
DTEND;VALUE=DATE:20270101
DTSTAMP:20260422T031228
CREATED:20250117T094539Z
LAST-MODIFIED:20251014T070542Z
UID:6119-1739750400-1798761599@www.gemeinde-petting.de
SUMMARY:Kinderglück und Ponyzeit
DESCRIPTION:Kinderglück und Ponyzeit 🐴❤️🍀 auf dem Höglerhof \nAlles rund ums Pony. \nWechselnde Programme z.B. geführtes Ponyreiten\, Bildersuchritte\, Pacours Einheiten mit pädagogischen Förderungen wie Motorische\, Kognitive \, Kreative\, Soziale Kompetenzen. Bastelspaß \nZeiten und Programme bitte erfragen unter 0160 / 476 52 59 Sabine \n0173 / 636 92 70 Isabel \n  \nWir freuen uns auf Euch🌿🌸 \nSabine und Isabel mit \nCarlos und Felino🐴 \n 
URL:https://www.gemeinde-petting.de/veranstaltung/kinderglueck-und-ponyzeit/
LOCATION:Höglerhof\, Brandhofen 4\, Petting\, Deutschland\, 83367
CATEGORIES:Veranstaltung
END:VEVENT
BEGIN:VEVENT
DTSTART;TZID=Europe/Berlin:20260102T190000
DTEND;TZID=Europe/Berlin:20260102T190000
DTSTAMP:20260422T031228
CREATED:20251107T081153Z
LAST-MODIFIED:20251107T081153Z
UID:7534-1767380400-1767380400@www.gemeinde-petting.de
SUMMARY:JHV Wasserwacht
DESCRIPTION:
URL:https://www.gemeinde-petting.de/veranstaltung/jhv-wasserwacht-3/
LOCATION:Gasthaus Rothlerwirt\, Rother Str. 38\, Kirchanschöring\, 83417
CATEGORIES:Veranstaltung
END:VEVENT
BEGIN:VEVENT
DTSTART;TZID=Europe/Berlin:20260106T084500
DTEND;TZID=Europe/Berlin:20260106T170000
DTSTAMP:20260422T031228
CREATED:20251029T101449Z
LAST-MODIFIED:20251029T101449Z
UID:7173-1767689100-1767718800@www.gemeinde-petting.de
SUMMARY:Gottesdienst anschl. Sternsingeraktion
DESCRIPTION:
URL:https://www.gemeinde-petting.de/veranstaltung/gottesdienst-anschl-sternsingeraktion-3/
LOCATION:Pfarrkirche
CATEGORIES:Veranstaltung
END:VEVENT
BEGIN:VEVENT
DTSTART;TZID=Europe/Berlin:20260108T133000
DTEND;TZID=Europe/Berlin:20260108T160000
DTSTAMP:20260422T031228
CREATED:20251029T101817Z
LAST-MODIFIED:20251029T101817Z
UID:7175-1767879000-1767888000@www.gemeinde-petting.de
SUMMARY:Pfarrcafe "Neujahrsempfang"
DESCRIPTION:Wir laden herzlich ein zum geselligen beisammensein bei Kaffee und Kuchen für Jung und Alt.
URL:https://www.gemeinde-petting.de/veranstaltung/pfarrcafe-neujahrsempfang-3/
LOCATION:Pfarrheim\, Haupstr. 5\, Pertting\, 83367
CATEGORIES:Veranstaltung
END:VEVENT
BEGIN:VEVENT
DTSTART;TZID=Europe/Berlin:20260108T190000
DTEND;TZID=Europe/Berlin:20260108T190000
DTSTAMP:20260422T031228
CREATED:20251104T081757Z
LAST-MODIFIED:20251118T094907Z
UID:7296-1767898800-1767898800@www.gemeinde-petting.de
SUMMARY:Strick-und Häkeltreff
DESCRIPTION:
URL:https://www.gemeinde-petting.de/veranstaltung/strick-und-haekeltreff/
LOCATION:Raum Bürgerhilfe
CATEGORIES:Bürgerhilfe,Veranstaltung
END:VEVENT
BEGIN:VEVENT
DTSTART;TZID=Europe/Berlin:20260109T140000
DTEND;TZID=Europe/Berlin:20260109T170000
DTSTAMP:20260422T031228
CREATED:20251104T082119Z
LAST-MODIFIED:20251118T100213Z
UID:7298-1767967200-1767978000@www.gemeinde-petting.de
SUMMARY:Spielenachmittag für Erwachsene
DESCRIPTION:Mit Trixi Stadler. Wir spielen miteinander und gegeneinander. \nKeine Anmeldung erforderlich. \nAuf euer Kommen freut sich Trixi 🤗
URL:https://www.gemeinde-petting.de/veranstaltung/spielenachmittag-fuer-erwachsene-13/
LOCATION:Raum Bürgerhilfe
CATEGORIES:Bürgerhilfe,Veranstaltung
END:VEVENT
BEGIN:VEVENT
DTSTART;TZID=Europe/Berlin:20260110T130000
DTEND;TZID=Europe/Berlin:20260110T170000
DTSTAMP:20260422T031228
CREATED:20251105T080626Z
LAST-MODIFIED:20251127T070634Z
UID:7412-1768050000-1768064400@www.gemeinde-petting.de
SUMMARY:Gauturnier TSV
DESCRIPTION:
URL:https://www.gemeinde-petting.de/veranstaltung/gauturnier-tsv/
LOCATION:Turnhalle Petting
CATEGORIES:Veranstaltung
END:VEVENT
BEGIN:VEVENT
DTSTART;TZID=Europe/Berlin:20260110T150000
DTEND;TZID=Europe/Berlin:20260110T170000
DTSTAMP:20260422T031228
CREATED:20251029T103449Z
LAST-MODIFIED:20251029T103449Z
UID:7191-1768057200-1768064400@www.gemeinde-petting.de
SUMMARY:Firmintensivtag
DESCRIPTION:
URL:https://www.gemeinde-petting.de/veranstaltung/firmintensivtag-5/
LOCATION:Pfarrheim Kirchanschöring\, Kirchplatz 6\, Kirchanschöring\, 83417\, Deutschland
CATEGORIES:Veranstaltung
END:VEVENT
BEGIN:VEVENT
DTSTART;TZID=Europe/Berlin:20260115T190000
DTEND;TZID=Europe/Berlin:20260115T220000
DTSTAMP:20260422T031228
CREATED:20251203T074324Z
LAST-MODIFIED:20251203T074324Z
UID:7753-1768503600-1768514400@www.gemeinde-petting.de
SUMMARY:Schafkopfrunde
DESCRIPTION:Es sind alle herzlich eingeladen. \nDie Grundregeln sollten bekannt sein. \nOrganisiert wird das Ganze über unsere WhatsApp Gruppe. \nFragen gerne an Karin Strohmeyer unter Tel. 0151-12151041
URL:https://www.gemeinde-petting.de/veranstaltung/schafkopfrunde-11/
LOCATION:Raum Bürgerhilfe
CATEGORIES:Bürgerhilfe,Veranstaltung
END:VEVENT
BEGIN:VEVENT
DTSTART;TZID=Europe/Berlin:20260117T080000
DTEND;TZID=Europe/Berlin:20260221T170000
DTSTAMP:20260422T031228
CREATED:20251029T103951Z
LAST-MODIFIED:20251029T103951Z
UID:7195-1768636800-1771693200@www.gemeinde-petting.de
SUMMARY:Bibelausstellung
DESCRIPTION:Ausstellung von 17.01.2026 bis 21.02.2026 im Pfarrheim Kirchanschöring
URL:https://www.gemeinde-petting.de/veranstaltung/bibelausstellung/
LOCATION:Pfarrheim Kirchanschöring\, Kirchplatz 6\, Kirchanschöring\, 83417\, Deutschland
CATEGORIES:Veranstaltung
END:VEVENT
BEGIN:VEVENT
DTSTART;TZID=Europe/Berlin:20260117T093000
DTEND;TZID=Europe/Berlin:20260117T133000
DTSTAMP:20260422T031228
CREATED:20251105T084136Z
LAST-MODIFIED:20251118T091021Z
UID:7420-1768642200-1768656600@www.gemeinde-petting.de
SUMMARY:Pizza backen & Kekse gestalten 6-14 Jahre
DESCRIPTION:Mit Sigrid Hinterreiter für Kinder von 6 bis 14 Jahren \nTeilnehmerzahl: max. 8 Kinder \nWir backen gemeinsam eine Pizza mit verschiedenen Belägen. Während der Wartezeit gesalten wir liebevoll Kekse. \nIch freue mich auf Euch 🤗
URL:https://www.gemeinde-petting.de/veranstaltung/pizza-backen-kinder-6-14/
LOCATION:Kinderkrippe Petting\, Haupstr. 2a\, Petting\, 83367
CATEGORIES:Bürgerhilfe,Veranstaltung
END:VEVENT
BEGIN:VEVENT
DTSTART;TZID=Europe/Berlin:20260117T150000
DTEND;TZID=Europe/Berlin:20260117T170000
DTSTAMP:20260422T031228
CREATED:20251029T103610Z
LAST-MODIFIED:20251029T103659Z
UID:7193-1768662000-1768669200@www.gemeinde-petting.de
SUMMARY:Firmintensivtag
DESCRIPTION:
URL:https://www.gemeinde-petting.de/veranstaltung/firmintensivtag-6/
LOCATION:Pfarreim Fridolfing\, Marienstr. 4\, Fridolfing\, 83413\, Deutschland
CATEGORIES:Veranstaltung
END:VEVENT
BEGIN:VEVENT
DTSTART;TZID=Europe/Berlin:20260118T083000
DTEND;TZID=Europe/Berlin:20260118T110000
DTSTAMP:20260422T031228
CREATED:20251016T083307Z
LAST-MODIFIED:20251016T083307Z
UID:7074-1768725000-1768734000@www.gemeinde-petting.de
SUMMARY:Kleintiermarkt
DESCRIPTION:Für den An- und Verkauf von Geflügel und Kleintieren veranstalten wir jeden 3. Sonntag im Monat von 8:30 Uhr bis 11:00 Uhr einen Markt in Schönram direkt neben der Brauerei. \nZum Verkauf stehen Hasen\, Kaninchen und andere Kleintiere\, Tauben\, Hühner\, Enten\, Gänse\, Wachteln und Ziervögel. \nIn den Sommermonaten ist bei den Märkten auch ein gewerblicher Tierhändler vor Ort\, der von Eintagsküken über Legehennen bis hin zu Enten verschiedene Geflügel im Angebot hat. \n 
URL:https://www.gemeinde-petting.de/veranstaltung/kleintiermarkt-23/
LOCATION:Kellerhaus Schönram\, Salzburger Str.\, Petting\, Deutschland\, 83367
CATEGORIES:Veranstaltung
ORGANIZER;CN="Rassegefl%C3%BCgelzuchtverein":MAILTO:vorstand@rgzv-petting.de
END:VEVENT
BEGIN:VEVENT
DTSTART;TZID=Europe/Berlin:20260120T143000
DTEND;TZID=Europe/Berlin:20260120T163000
DTSTAMP:20260422T031228
CREATED:20251104T082629Z
LAST-MODIFIED:20251118T092435Z
UID:7300-1768919400-1768926600@www.gemeinde-petting.de
SUMMARY:Basteln für die Kleinen 4-5 Jahre
DESCRIPTION:mit Vroni Allerberger\, Martina Öllerer & Karin Breinbauer \nTeilnehmerzahl: 6 -15 Kinder \nAnmeldung: Vroni Allerberger Tel: 0176-72911923 \nWir gestalten je nach Jahreszeit passende\, krative Kunstwerke. \nFür den kleinen Hunger zwischendurch wird gesorgt. \nBitte Malkittel mitnehmen oder Kleidung anziehen\, die bunt werden darf. \nWir freuen uns auf Euch 🤗
URL:https://www.gemeinde-petting.de/veranstaltung/basteln-fuer-die-kleinen-4-5-jahre-4/
LOCATION:Raum Bürgerhilfe
CATEGORIES:Bürgerhilfe,Veranstaltung
END:VEVENT
BEGIN:VEVENT
DTSTART;TZID=Europe/Berlin:20260120T190000
DTEND;TZID=Europe/Berlin:20260120T200000
DTSTAMP:20260422T031228
CREATED:20250922T091741Z
LAST-MODIFIED:20250922T091741Z
UID:7033-1768935600-1768939200@www.gemeinde-petting.de
SUMMARY:Musikalische Andacht
DESCRIPTION:„Leben in Gegensätzen – Vergangenheit und Zukunft\, dazwischen das Heute“ \nMit der Saitenmusik: „d`Signoras“
URL:https://www.gemeinde-petting.de/veranstaltung/musikalische-andacht-7/
LOCATION:Pfarrkirche
CATEGORIES:Veranstaltung
END:VEVENT
BEGIN:VEVENT
DTSTART;TZID=Europe/Berlin:20260123T150000
DTEND;TZID=Europe/Berlin:20260123T170000
DTSTAMP:20260422T031228
CREATED:20251104T083347Z
LAST-MODIFIED:20251118T102537Z
UID:7302-1769180400-1769187600@www.gemeinde-petting.de
SUMMARY:Spielenachmittag für die Kinder
DESCRIPTION:Mit Trixi Stadler. \nKeine Anmeldung erforderlich. \nHier kommt der Spaß garantiert nicht zu kurz. \nLieblingsspiele können gern mitgebracht werden. \nWir freuen uns auf Euch 🤗
URL:https://www.gemeinde-petting.de/veranstaltung/spielenachmittag-fuer-die-kinder/
LOCATION:Raum Bürgerhilfe
CATEGORIES:Bürgerhilfe,Veranstaltung
END:VEVENT
BEGIN:VEVENT
DTSTART;TZID=Europe/Berlin:20260125T084500
DTEND;TZID=Europe/Berlin:20260125T100000
DTSTAMP:20260422T031228
CREATED:20251029T104308Z
LAST-MODIFIED:20251029T104308Z
UID:7197-1769330700-1769335200@www.gemeinde-petting.de
SUMMARY:Vorstellungsgottesdienst Erstkommunionkinder
DESCRIPTION:
URL:https://www.gemeinde-petting.de/veranstaltung/vorstellungsgottesdienst-erstkommunionkinder/
LOCATION:Pfarrkirche
CATEGORIES:Veranstaltung
END:VEVENT
BEGIN:VEVENT
DTSTART;TZID=Europe/Berlin:20260128T190000
DTEND;TZID=Europe/Berlin:20260128T190000
DTSTAMP:20260422T031228
CREATED:20251107T084816Z
LAST-MODIFIED:20251107T084816Z
UID:7567-1769626800-1769626800@www.gemeinde-petting.de
SUMMARY:Monatsstammtisch Historischer Verein
DESCRIPTION:
URL:https://www.gemeinde-petting.de/veranstaltung/monatsstammtisch-historischer-verein/
LOCATION:Gasthaus Riedler\, Haupstr. 36\, Petting\, 83367
CATEGORIES:Veranstaltung
ORGANIZER;CN="Historischer Verein":MAILTO:st.hans@live.de
END:VEVENT
BEGIN:VEVENT
DTSTART;TZID=Europe/Berlin:20260130T173000
DTEND;TZID=Europe/Berlin:20260130T173000
DTSTAMP:20260422T031228
CREATED:20251105T080730Z
LAST-MODIFIED:20251105T080730Z
UID:7414-1769794200-1769794200@www.gemeinde-petting.de
SUMMARY:AH Turnier TSV
DESCRIPTION:
URL:https://www.gemeinde-petting.de/veranstaltung/ah-turnier-tsv/
LOCATION:Turnhalle Petting
CATEGORIES:Veranstaltung
END:VEVENT
BEGIN:VEVENT
DTSTART;TZID=Europe/Berlin:20260130T193000
DTEND;TZID=Europe/Berlin:20260130T193000
DTSTAMP:20260422T031228
CREATED:20251105T092745Z
LAST-MODIFIED:20251105T092745Z
UID:7442-1769801400-1769801400@www.gemeinde-petting.de
SUMMARY:Frauenfasching "Frauengemeinschaft"
DESCRIPTION:
URL:https://www.gemeinde-petting.de/veranstaltung/frauenfasching-frauengemeinschaft/
LOCATION:Gasthaus Riedler\, Haupstr. 36\, Petting\, 83367
CATEGORIES:Veranstaltung
END:VEVENT
BEGIN:VEVENT
DTSTART;TZID=Europe/Berlin:20260131T200000
DTEND;TZID=Europe/Berlin:20260131T200000
DTSTAMP:20260422T031228
CREATED:20251107T072446Z
LAST-MODIFIED:20251107T072446Z
UID:7489-1769889600-1769889600@www.gemeinde-petting.de
SUMMARY:JHV Freiwillige Feuerwehr
DESCRIPTION:
URL:https://www.gemeinde-petting.de/veranstaltung/jhv-freiwillige-feuerwehr/
LOCATION:Gasthaus Riedler\, Haupstr. 36\, Petting\, 83367
CATEGORIES:Veranstaltung
END:VEVENT
END:VCALENDAR