BEGIN:VCALENDAR
VERSION:2.0
PRODID:-//Gemeinde Petting - ECPv6.15.20//NONSGML v1.0//EN
CALSCALE:GREGORIAN
METHOD:PUBLISH
X-ORIGINAL-URL:https://www.gemeinde-petting.de
X-WR-CALDESC:Veranstaltungen für Gemeinde Petting
REFRESH-INTERVAL;VALUE=DURATION:PT1H
X-Robots-Tag:noindex
X-PUBLISHED-TTL:PT1H
BEGIN:VTIMEZONE
TZID:Europe/Paris
BEGIN:DAYLIGHT
TZOFFSETFROM:+0100
TZOFFSETTO:+0200
TZNAME:CEST
DTSTART:20240331T010000
END:DAYLIGHT
BEGIN:STANDARD
TZOFFSETFROM:+0200
TZOFFSETTO:+0100
TZNAME:CET
DTSTART:20241027T010000
END:STANDARD
BEGIN:DAYLIGHT
TZOFFSETFROM:+0100
TZOFFSETTO:+0200
TZNAME:CEST
DTSTART:20250330T010000
END:DAYLIGHT
BEGIN:STANDARD
TZOFFSETFROM:+0200
TZOFFSETTO:+0100
TZNAME:CET
DTSTART:20251026T010000
END:STANDARD
BEGIN:DAYLIGHT
TZOFFSETFROM:+0100
TZOFFSETTO:+0200
TZNAME:CEST
DTSTART:20260329T010000
END:DAYLIGHT
BEGIN:STANDARD
TZOFFSETFROM:+0200
TZOFFSETTO:+0100
TZNAME:CET
DTSTART:20261025T010000
END:STANDARD
BEGIN:DAYLIGHT
TZOFFSETFROM:+0100
TZOFFSETTO:+0200
TZNAME:CEST
DTSTART:20270328T010000
END:DAYLIGHT
BEGIN:STANDARD
TZOFFSETFROM:+0200
TZOFFSETTO:+0100
TZNAME:CET
DTSTART:20271031T010000
END:STANDARD
END:VTIMEZONE
BEGIN:VTIMEZONE
TZID:Europe/Berlin
BEGIN:DAYLIGHT
TZOFFSETFROM:+0100
TZOFFSETTO:+0200
TZNAME:CEST
DTSTART:20240331T010000
END:DAYLIGHT
BEGIN:STANDARD
TZOFFSETFROM:+0200
TZOFFSETTO:+0100
TZNAME:CET
DTSTART:20241027T010000
END:STANDARD
BEGIN:DAYLIGHT
TZOFFSETFROM:+0100
TZOFFSETTO:+0200
TZNAME:CEST
DTSTART:20250330T010000
END:DAYLIGHT
BEGIN:STANDARD
TZOFFSETFROM:+0200
TZOFFSETTO:+0100
TZNAME:CET
DTSTART:20251026T010000
END:STANDARD
BEGIN:DAYLIGHT
TZOFFSETFROM:+0100
TZOFFSETTO:+0200
TZNAME:CEST
DTSTART:20260329T010000
END:DAYLIGHT
BEGIN:STANDARD
TZOFFSETFROM:+0200
TZOFFSETTO:+0100
TZNAME:CET
DTSTART:20261025T010000
END:STANDARD
END:VTIMEZONE
BEGIN:VEVENT
DTSTART;VALUE=DATE:20250217
DTEND;VALUE=DATE:20270101
DTSTAMP:20260422T044039
CREATED:20250117T094539Z
LAST-MODIFIED:20251014T070542Z
UID:6119-1739750400-1798761599@www.gemeinde-petting.de
SUMMARY:Kinderglück und Ponyzeit
DESCRIPTION:Kinderglück und Ponyzeit 🐴❤️🍀 auf dem Höglerhof \nAlles rund ums Pony. \nWechselnde Programme z.B. geführtes Ponyreiten\, Bildersuchritte\, Pacours Einheiten mit pädagogischen Förderungen wie Motorische\, Kognitive \, Kreative\, Soziale Kompetenzen. Bastelspaß \nZeiten und Programme bitte erfragen unter 0160 / 476 52 59 Sabine \n0173 / 636 92 70 Isabel \n  \nWir freuen uns auf Euch🌿🌸 \nSabine und Isabel mit \nCarlos und Felino🐴 \n 
URL:https://www.gemeinde-petting.de/veranstaltung/kinderglueck-und-ponyzeit/
LOCATION:Höglerhof\, Brandhofen 4\, Petting\, Deutschland\, 83367
CATEGORIES:Veranstaltung
END:VEVENT
BEGIN:VEVENT
DTSTART;TZID=Europe/Berlin:20251202T143000
DTEND;TZID=Europe/Berlin:20251202T163000
DTSTAMP:20260422T044039
CREATED:20251202T084637Z
LAST-MODIFIED:20251202T084818Z
UID:7749-1764685800-1764693000@www.gemeinde-petting.de
SUMMARY:Lebkuchen backen verschoben auf den 09.12.2025
DESCRIPTION:Leider müssen wir wegen Krankheit das Lebkuchen backen für Kinder auf den 09.12.2025 verschieben.
URL:https://www.gemeinde-petting.de/veranstaltung/lebkuchen-backen-verschoben-auf-den-09-12-2025/
CATEGORIES:Veranstaltung
END:VEVENT
BEGIN:VEVENT
DTSTART;TZID=Europe/Paris:20251204T133000
DTEND;TZID=Europe/Paris:20251204T160000
DTSTAMP:20260422T044039
CREATED:20241029T094740Z
LAST-MODIFIED:20241029T102647Z
UID:5364-1764855000-1764864000@www.gemeinde-petting.de
SUMMARY:Pfarrcafe
DESCRIPTION:Wir laden herzlich ein zum geselligen beisammensein  bei Kaffee und Kuchen für Jung und Alt.
URL:https://www.gemeinde-petting.de/veranstaltung/pfarrcafe-11/
LOCATION:Pfarrheim\, Haupstr. 5\, Pertting\, 83367
CATEGORIES:Veranstaltung
END:VEVENT
BEGIN:VEVENT
DTSTART;TZID=Europe/Paris:20251204T190000
DTEND;TZID=Europe/Paris:20251204T190000
DTSTAMP:20260422T044039
CREATED:20241108T102937Z
LAST-MODIFIED:20241108T102937Z
UID:5774-1764874800-1764874800@www.gemeinde-petting.de
SUMMARY:Stricktreff
DESCRIPTION:
URL:https://www.gemeinde-petting.de/veranstaltung/stricktreff-34/
LOCATION:Raum Bürgerhilfe
CATEGORIES:Bürgerhilfe,Veranstaltung
END:VEVENT
BEGIN:VEVENT
DTSTART;TZID=Europe/Berlin:20251205T080000
DTEND;TZID=Europe/Berlin:20251205T110000
DTSTAMP:20260422T044039
CREATED:20251029T095855Z
LAST-MODIFIED:20251029T100125Z
UID:7159-1764921600-1764932400@www.gemeinde-petting.de
SUMMARY:Festgottesdienst mit anschl. Frühstück Frauengemeinschaft
DESCRIPTION:im Anschluß Frühstück im Pfarrheim
URL:https://www.gemeinde-petting.de/veranstaltung/festgottesdienst-mit-anschl-fruehstueck-frauengemeinschaft/
LOCATION:Pfarrkirche
CATEGORIES:Veranstaltung
END:VEVENT
BEGIN:VEVENT
DTSTART;TZID=Europe/Paris:20251206T090000
DTEND;TZID=Europe/Paris:20251206T120000
DTSTAMP:20260422T044039
CREATED:20241029T095105Z
LAST-MODIFIED:20251031T074845Z
UID:5366-1765011600-1765022400@www.gemeinde-petting.de
SUMMARY:Aktion "Junge Leute helfen"
DESCRIPTION:
URL:https://www.gemeinde-petting.de/veranstaltung/aktion-junge-leute-helfen-2/
LOCATION:Pfarrheim\, Haupstr. 5\, Pertting\, 83367
CATEGORIES:Veranstaltung
END:VEVENT
BEGIN:VEVENT
DTSTART;TZID=Europe/Berlin:20251207T101500
DTEND;TZID=Europe/Berlin:20251207T110000
DTSTAMP:20260422T044039
CREATED:20251029T100541Z
LAST-MODIFIED:20251029T100541Z
UID:7163-1765102500-1765105200@www.gemeinde-petting.de
SUMMARY:Familiengottesdienst 2. Advent
DESCRIPTION:
URL:https://www.gemeinde-petting.de/veranstaltung/familiengottesdienst-2-advent-3/
LOCATION:Pfarrkirche
CATEGORIES:Veranstaltung
END:VEVENT
BEGIN:VEVENT
DTSTART;TZID=Europe/Paris:20251207T140000
DTEND;TZID=Europe/Paris:20251207T140000
DTSTAMP:20260422T044039
CREATED:20241108T082544Z
LAST-MODIFIED:20241108T082544Z
UID:5634-1765116000-1765116000@www.gemeinde-petting.de
SUMMARY:VdK Weihnachtsfeier
DESCRIPTION:
URL:https://www.gemeinde-petting.de/veranstaltung/vdk-weihnachtsfeier/
LOCATION:Café Götzinger\, Seestr. 43\, Petting\, 83367\, Deutschland
CATEGORIES:Veranstaltung
END:VEVENT
BEGIN:VEVENT
DTSTART;TZID=Europe/Berlin:20251209T143000
DTEND;TZID=Europe/Berlin:20251209T163000
DTSTAMP:20260422T044039
CREATED:20251021T092629Z
LAST-MODIFIED:20251202T084451Z
UID:7114-1765290600-1765297800@www.gemeinde-petting.de
SUMMARY:Lebkuchen backen für Kinder von 4-7 Jahre
DESCRIPTION:Einladung zum Lebkuchen backen für Kinder von 4 – 7 Jahre. \nAn diesem Vormittag werden wir zusammen Lebkuchen 🍪 ausstechen\, formen\, backen und anschließend nach Lust und Laune verzieren. \nAnmeldung unter: anna.resch@gemeinde-petting.de \nTeilnehmerzahl: max. 8 Kinder \nWir freuen uns auf Euer kommen 🤗. \nVERSCHOBEN von 02.12. auf den 09.12.2025
URL:https://www.gemeinde-petting.de/veranstaltung/lebkuchen-backen-fuer-kinder-von-4-7-jahre/
LOCATION:Raum Bürgerhilfe
CATEGORIES:Bürgerhilfe,Veranstaltung
END:VEVENT
BEGIN:VEVENT
DTSTART;TZID=Europe/Berlin:20251209T190000
DTEND;TZID=Europe/Berlin:20251209T200000
DTSTAMP:20260422T044039
CREATED:20250922T085536Z
LAST-MODIFIED:20250922T090136Z
UID:7029-1765306800-1765310400@www.gemeinde-petting.de
SUMMARY:Musikalische Andacht
DESCRIPTION:Thema „Leben in Gegensätzen – Stille und Lärm“ \nEs singt der Frauenchor Petting mit adventlichen Liedern
URL:https://www.gemeinde-petting.de/veranstaltung/musikalische-andacht-6/
LOCATION:Pfarrkirche
CATEGORIES:Veranstaltung
END:VEVENT
BEGIN:VEVENT
DTSTART;TZID=Europe/Paris:20251210T190000
DTEND;TZID=Europe/Paris:20251210T200000
DTSTAMP:20260422T044039
CREATED:20250417T075431Z
LAST-MODIFIED:20250417T075431Z
UID:6636-1765393200-1765396800@www.gemeinde-petting.de
SUMMARY:Einladung zum Lobpreisabend
DESCRIPTION:ein jeder ist willkommen zum gemeinsamen Singen.
URL:https://www.gemeinde-petting.de/veranstaltung/einladung-zum-lobpreisabend-4/
LOCATION:Grundschule\, Schulstraße 6\, Petting\, Bayern\, 83367\, Deutschland
CATEGORIES:Veranstaltung
ORGANIZER;CN="Hans Steinma%C3%9Fl":MAILTO:st.hans@live.de
END:VEVENT
BEGIN:VEVENT
DTSTART;TZID=Europe/Paris:20251210T190000
DTEND;TZID=Europe/Paris:20251210T220000
DTSTAMP:20260422T044039
CREATED:20250116T083747Z
LAST-MODIFIED:20250207T080301Z
UID:6114-1765393200-1765404000@www.gemeinde-petting.de
SUMMARY:Schafkopfrunde
DESCRIPTION:Es sind alle herzlich eingeladen. \nDie Grundregeln sollten bekannt sein. \nOrganisiert wird das Ganze über unsere WhatsApp Gruppe. \nFragen gerne an Karin Strohmeyer unter Tel. 0151-12151041
URL:https://www.gemeinde-petting.de/veranstaltung/schafkopfrunde-10/
LOCATION:Raum Bürgerhilfe
CATEGORIES:Bürgerhilfe,Veranstaltung
END:VEVENT
BEGIN:VEVENT
DTSTART;TZID=Europe/Paris:20251211T160000
DTEND;TZID=Europe/Paris:20251211T173000
DTSTAMP:20260422T044039
CREATED:20241108T103152Z
LAST-MODIFIED:20251209T094448Z
UID:5778-1765468800-1765474200@www.gemeinde-petting.de
SUMMARY:Basteln mit Kinder ab 10 Jahre
DESCRIPTION:Basteln mit Petra Schlagbauer \nTeilnehmerzahl 15 Kinder \nWir machen wundervolle Bilder für Weihnachten. \nErst zeichnen wir mit Tusche und dann vergolden wir mit Schlagmetall.
URL:https://www.gemeinde-petting.de/veranstaltung/basteln-mit-kinder-ab-10-jahre/
LOCATION:Raum Bürgerhilfe
CATEGORIES:Bürgerhilfe,Veranstaltung
END:VEVENT
BEGIN:VEVENT
DTSTART;TZID=Europe/Berlin:20251211T180000
DTEND;TZID=Europe/Berlin:20251211T230000
DTSTAMP:20260422T044039
CREATED:20251127T091843Z
LAST-MODIFIED:20251127T104628Z
UID:7717-1765476000-1765494000@www.gemeinde-petting.de
SUMMARY:Weihnachtsmarkt der Country Freunde Schönram
DESCRIPTION:
URL:https://www.gemeinde-petting.de/veranstaltung/weihnachtsmarkt-der-country-freunde-schoenram/
LOCATION:Bräustüberl Schönram
CATEGORIES:Veranstaltung
END:VEVENT
BEGIN:VEVENT
DTSTART;TZID=Europe/Berlin:20251211T190000
DTEND;TZID=Europe/Berlin:20251211T210000
DTSTAMP:20260422T044039
CREATED:20251029T100746Z
LAST-MODIFIED:20251029T100746Z
UID:7165-1765479600-1765486800@www.gemeinde-petting.de
SUMMARY:Rorate Kirchhof
DESCRIPTION:im Anschluß gibt es Punsch\,Glühwein mit Lebkuchen und Plätzchen
URL:https://www.gemeinde-petting.de/veranstaltung/rorate-kirchhof/
LOCATION:Kirchhof\, Petting\, 83367
CATEGORIES:Veranstaltung
END:VEVENT
BEGIN:VEVENT
DTSTART;TZID=Europe/Paris:20251212T140000
DTEND;TZID=Europe/Paris:20251212T170000
DTSTAMP:20260422T044039
CREATED:20241108T103019Z
LAST-MODIFIED:20250207T082047Z
UID:5776-1765548000-1765558800@www.gemeinde-petting.de
SUMMARY:Spielenachmittag für Erwachsene
DESCRIPTION:Keine Anmeldung erforderlich. \nAuf euer Kommen freut sich Trixi Stadler
URL:https://www.gemeinde-petting.de/veranstaltung/spielenachmittag-fuer-erwachsene-18/
LOCATION:Raum Bürgerhilfe
CATEGORIES:Bürgerhilfe,Veranstaltung
END:VEVENT
BEGIN:VEVENT
DTSTART;TZID=Europe/Berlin:20251213T100000
DTEND;TZID=Europe/Berlin:20251213T100000
DTSTAMP:20260422T044039
CREATED:20251119T091048Z
LAST-MODIFIED:20251119T091259Z
UID:7708-1765620000-1765620000@www.gemeinde-petting.de
SUMMARY:Mädchencup TSV Petting
DESCRIPTION:
URL:https://www.gemeinde-petting.de/veranstaltung/maedchencup-tsv-petting/
LOCATION:Turnhalle Petting
CATEGORIES:Veranstaltung
END:VEVENT
BEGIN:VEVENT
DTSTART;TZID=Europe/Berlin:20251213T140000
DTEND;TZID=Europe/Berlin:20251213T180000
DTSTAMP:20260422T044039
CREATED:20251204T085632Z
LAST-MODIFIED:20251204T085632Z
UID:7793-1765634400-1765648800@www.gemeinde-petting.de
SUMMARY:Seeberger Weihnachtszauber
DESCRIPTION:
URL:https://www.gemeinde-petting.de/veranstaltung/seeberger-weihnachtszauber/
LOCATION:Seeberg\, Seeberg 1\, Petting\, Deutschland\, 83367
CATEGORIES:Veranstaltung
END:VEVENT
BEGIN:VEVENT
DTSTART;TZID=Europe/Paris:20251213T170000
DTEND;TZID=Europe/Paris:20251213T210000
DTSTAMP:20260422T044039
CREATED:20241107T101919Z
LAST-MODIFIED:20241107T102024Z
UID:5574-1765645200-1765659600@www.gemeinde-petting.de
SUMMARY:Christbaumtauchen
DESCRIPTION:Um 18 Uhr und um 19.30 Uhr steigt Neptun aus den Tiefen des Waginger Sees mit kleinen Geschenken für Kinder. \nFür das leibliche Wohl wird gesorgt. \nEintritt: ein Holzscheit oder freiwillige Spende. \nFindet bei jeder Witterung statt.
URL:https://www.gemeinde-petting.de/veranstaltung/christbaumtauchen-4/
LOCATION:Campingplatz Stadler\, Strandbadstr. 11\, Petting\, 83367\, Deutschland
CATEGORIES:Veranstaltung
END:VEVENT
BEGIN:VEVENT
DTSTART;TZID=Europe/Berlin:20251214T160000
DTEND;TZID=Europe/Berlin:20251214T230000
DTSTAMP:20260422T044039
CREATED:20251127T092102Z
LAST-MODIFIED:20251127T104548Z
UID:7719-1765728000-1765753200@www.gemeinde-petting.de
SUMMARY:Weihnachtsmarkt der Country Freunde Schönram
DESCRIPTION:
URL:https://www.gemeinde-petting.de/veranstaltung/weihnachtsmarkt-der-country-freunde-schoenram-2/
LOCATION:Bräustüberl Schönram
CATEGORIES:Veranstaltung
END:VEVENT
BEGIN:VEVENT
DTSTART;TZID=Europe/Berlin:20251217T180000
DTEND;TZID=Europe/Berlin:20251217T230000
DTSTAMP:20260422T044039
CREATED:20251127T092211Z
LAST-MODIFIED:20251127T104503Z
UID:7721-1765994400-1766012400@www.gemeinde-petting.de
SUMMARY:Weihnachtsmarkt der Country Freunde Schönram
DESCRIPTION:
URL:https://www.gemeinde-petting.de/veranstaltung/weihnachtsmarkt-der-country-freunde-schoenram-3/
LOCATION:Bräustüberl Schönram
CATEGORIES:Veranstaltung
END:VEVENT
BEGIN:VEVENT
DTSTART;TZID=Europe/Paris:20251217T190000
DTEND;TZID=Europe/Paris:20251217T200000
DTSTAMP:20260422T044039
CREATED:20241029T095234Z
LAST-MODIFIED:20241029T095234Z
UID:5368-1765998000-1766001600@www.gemeinde-petting.de
SUMMARY:Bußgottesdienst
DESCRIPTION:
URL:https://www.gemeinde-petting.de/veranstaltung/bussgottesdienst-4/
LOCATION:Pfarrkirche
CATEGORIES:Veranstaltung
END:VEVENT
BEGIN:VEVENT
DTSTART;TZID=Europe/Paris:20251219T150000
DTEND;TZID=Europe/Paris:20251219T170000
DTSTAMP:20260422T044039
CREATED:20241108T103234Z
LAST-MODIFIED:20251219T071616Z
UID:5780-1766156400-1766163600@www.gemeinde-petting.de
SUMMARY:Spielenachmittag für Kinder - FÄLLT KRANKHEITSBEDINGT AUS
DESCRIPTION:FÄLLT KRANKHEITSBEDINGT AUS
URL:https://www.gemeinde-petting.de/veranstaltung/spielenachmittag-fuer-kinder-10/
LOCATION:Raum Bürgerhilfe
CATEGORIES:Bürgerhilfe,Veranstaltung
END:VEVENT
BEGIN:VEVENT
DTSTART;TZID=Europe/Paris:20251220T093000
DTEND;TZID=Europe/Paris:20251220T133000
DTSTAMP:20260422T044039
CREATED:20241108T103423Z
LAST-MODIFIED:20250210T092850Z
UID:5782-1766223000-1766237400@www.gemeinde-petting.de
SUMMARY:Plätzchen backen für Kinder 6-14 Jahre
DESCRIPTION:Plätzchen backen für Kinder von 6-14 Jahren mit Sigrid Hinterreiter. \nIch freue mich auf euch!
URL:https://www.gemeinde-petting.de/veranstaltung/plaetzchen-backen-fuer-kinder-6-14-jahre/
LOCATION:Raum Bürgerhilfe
CATEGORIES:Bürgerhilfe,Veranstaltung
END:VEVENT
BEGIN:VEVENT
DTSTART;TZID=Europe/Paris:20251220T200000
DTEND;TZID=Europe/Paris:20251220T200000
DTSTAMP:20260422T044039
CREATED:20241107T093614Z
LAST-MODIFIED:20241107T093614Z
UID:5542-1766260800-1766260800@www.gemeinde-petting.de
SUMMARY:Weihnachtsfeier Schützengesellschaft
DESCRIPTION:
URL:https://www.gemeinde-petting.de/veranstaltung/weihnachtsfeier-schuetzengesellschaft/
LOCATION:Schönram\, Schönram\, 83367\, Deutschland
CATEGORIES:Veranstaltung
END:VEVENT
BEGIN:VEVENT
DTSTART;TZID=Europe/Paris:20251221T083000
DTEND;TZID=Europe/Paris:20251221T110000
DTSTAMP:20260422T044039
CREATED:20241105T084103Z
LAST-MODIFIED:20241105T084103Z
UID:5466-1766305800-1766314800@www.gemeinde-petting.de
SUMMARY:Kleintiermarkt
DESCRIPTION:Für den An- und Verkauf von Geflügel und Kleintieren veranstalten wir jeden 3. Sonntag im Monat von 8:30 Uhr bis 11:00 Uhr einen Markt in Schönram direkt neben der Brauerei. \nZum Verkauf stehen Hasen\, Kaninchen und andere Kleintiere\, Tauben\, Hühner\, Enten\, Gänse\, Wachteln und Ziervögel. \nIn den Sommermonaten ist bei den Märkten auch ein gewerblicher Tierhändler vor Ort\, der von Eintagsküken über Legehennen bis hin zu Enten verschiedene Geflügel im Angebot hat. \n 
URL:https://www.gemeinde-petting.de/veranstaltung/kleintiermarkt-22/
LOCATION:Kellerhaus Schönram\, Salzburger Str.\, Petting\, Deutschland\, 83367
CATEGORIES:Veranstaltung
ORGANIZER;CN="Rassegefl%C3%BCgelzuchtverein":MAILTO:vorstand@rgzv-petting.de
END:VEVENT
BEGIN:VEVENT
DTSTART;TZID=Europe/Berlin:20251221T160000
DTEND;TZID=Europe/Berlin:20251221T230000
DTSTAMP:20260422T044039
CREATED:20251127T092738Z
LAST-MODIFIED:20251127T104413Z
UID:7723-1766332800-1766358000@www.gemeinde-petting.de
SUMMARY:Weihnachtsmarkt der Country Freunde Schönram
DESCRIPTION:Heute mit der Life-Band „DOREECE & ARNO“
URL:https://www.gemeinde-petting.de/veranstaltung/weihnachtsmarkt-der-country-freunde-schoenram-4/
CATEGORIES:Veranstaltung
END:VEVENT
BEGIN:VEVENT
DTSTART;TZID=Europe/Paris:20251224T120000
DTEND;TZID=Europe/Paris:20251224T140000
DTSTAMP:20260422T044039
CREATED:20241029T095418Z
LAST-MODIFIED:20241030T083707Z
UID:5370-1766577600-1766584800@www.gemeinde-petting.de
SUMMARY:Wir warten auf`s Christkind
DESCRIPTION:Wir warten auf´s Christkind für Kinder ab 4 Jahren mit Eva-Maria Heigermooser. \nEs wird gebastelt\, gesungen uvm….. \nBitte mitbringen: Hausschuhe\,Stifte\,Kleber und Getränk mitbringen. \n 
URL:https://www.gemeinde-petting.de/veranstaltung/wir-warten-aufs-christkind-2/
LOCATION:Pfarrheim\, Haupstr. 5\, Pertting\, 83367
CATEGORIES:Veranstaltung
END:VEVENT
BEGIN:VEVENT
DTSTART;TZID=Europe/Paris:20251224T143000
DTEND;TZID=Europe/Paris:20251224T153000
DTSTAMP:20260422T044039
CREATED:20241029T095525Z
LAST-MODIFIED:20241029T095525Z
UID:5372-1766586600-1766590200@www.gemeinde-petting.de
SUMMARY:Kinderchristfeier
DESCRIPTION:
URL:https://www.gemeinde-petting.de/veranstaltung/kinderchristfeier-3/
LOCATION:Pfarrkirche
CATEGORIES:Veranstaltung
END:VEVENT
BEGIN:VEVENT
DTSTART;TZID=Europe/Paris:20251224T200000
DTEND;TZID=Europe/Paris:20251224T210000
DTSTAMP:20260422T044039
CREATED:20241029T095915Z
LAST-MODIFIED:20241029T095915Z
UID:5374-1766606400-1766610000@www.gemeinde-petting.de
SUMMARY:Christmette
DESCRIPTION:
URL:https://www.gemeinde-petting.de/veranstaltung/christmette-3/
LOCATION:Pfarrkirche
CATEGORIES:Veranstaltung
END:VEVENT
END:VCALENDAR