BEGIN:VCALENDAR
VERSION:2.0
PRODID:-//Gemeinde Petting - ECPv6.15.20//NONSGML v1.0//EN
CALSCALE:GREGORIAN
METHOD:PUBLISH
X-ORIGINAL-URL:https://www.gemeinde-petting.de
X-WR-CALDESC:Veranstaltungen für Gemeinde Petting
REFRESH-INTERVAL;VALUE=DURATION:PT1H
X-Robots-Tag:noindex
X-PUBLISHED-TTL:PT1H
BEGIN:VTIMEZONE
TZID:Europe/Berlin
BEGIN:DAYLIGHT
TZOFFSETFROM:+0100
TZOFFSETTO:+0200
TZNAME:CEST
DTSTART:20250330T010000
END:DAYLIGHT
BEGIN:STANDARD
TZOFFSETFROM:+0200
TZOFFSETTO:+0100
TZNAME:CET
DTSTART:20251026T010000
END:STANDARD
BEGIN:DAYLIGHT
TZOFFSETFROM:+0100
TZOFFSETTO:+0200
TZNAME:CEST
DTSTART:20260329T010000
END:DAYLIGHT
BEGIN:STANDARD
TZOFFSETFROM:+0200
TZOFFSETTO:+0100
TZNAME:CET
DTSTART:20261025T010000
END:STANDARD
BEGIN:DAYLIGHT
TZOFFSETFROM:+0100
TZOFFSETTO:+0200
TZNAME:CEST
DTSTART:20270328T010000
END:DAYLIGHT
BEGIN:STANDARD
TZOFFSETFROM:+0200
TZOFFSETTO:+0100
TZNAME:CET
DTSTART:20271031T010000
END:STANDARD
END:VTIMEZONE
BEGIN:VEVENT
DTSTART;TZID=Europe/Berlin:20260422T190000
DTEND;TZID=Europe/Berlin:20260422T190000
DTSTAMP:20260423T042033
CREATED:20251107T085135Z
LAST-MODIFIED:20251107T085135Z
UID:7569-1776884400-1776884400@www.gemeinde-petting.de
SUMMARY:JHV Historischer Verein
DESCRIPTION:
URL:https://www.gemeinde-petting.de/veranstaltung/jhv-historischer-verein-3/
LOCATION:Gasthaus Riedler\, Haupstr. 36\, Petting\, 83367
CATEGORIES:Veranstaltung
ORGANIZER;CN="Historischer Verein":MAILTO:st.hans@live.de
END:VEVENT
BEGIN:VEVENT
DTSTART;TZID=Europe/Berlin:20260421T143000
DTEND;TZID=Europe/Berlin:20260421T170000
DTSTAMP:20260423T042033
CREATED:20251104T091734Z
LAST-MODIFIED:20251118T093821Z
UID:7333-1776781800-1776790800@www.gemeinde-petting.de
SUMMARY:"Naturerlebnis Wald" für Kinder 4-8 Jahre
DESCRIPTION:mit Martina Öllerer\, Karin Breinbauer & Vroni Allerberger. \nTeilnehmerzahl: max. 15 Kinder \nAnmeldung unter: Vroni Allerberger Tel. 0176-72911923 \nIm Wald gibt es viel zu entdecken. Wir erkunden versteckte Wege\, bauen einen Unterschlupf aus Ästen und vieles mehr. \nBitte witterungsgerechte Kleidung anziehen. \nBei starken Wind und Regen entfällt das Programm. \nBitte mitzubringen Brotzeit und Trinken. \nWir freuen uns auf Euch 🤗
URL:https://www.gemeinde-petting.de/veranstaltung/naturerlebnis-wald/
CATEGORIES:Bürgerhilfe,Veranstaltung
END:VEVENT
BEGIN:VEVENT
DTSTART;TZID=Europe/Berlin:20260419T094500
DTEND;TZID=Europe/Berlin:20260419T094500
DTSTAMP:20260423T042033
CREATED:20251107T075031Z
LAST-MODIFIED:20251107T075031Z
UID:7512-1776591900-1776591900@www.gemeinde-petting.de
SUMMARY:Trachtenjahrtag mit Frühjahrsversammlung
DESCRIPTION:
URL:https://www.gemeinde-petting.de/veranstaltung/trachtenjahrtag-mit-fruehjahrsversammlung-3/
LOCATION:Haus der Vereine Schönram
CATEGORIES:Veranstaltung
END:VEVENT
BEGIN:VEVENT
DTSTART;TZID=Europe/Berlin:20260419T090000
DTEND;TZID=Europe/Berlin:20260419T130000
DTSTAMP:20260423T042033
CREATED:20260226T102638Z
LAST-MODIFIED:20260226T102727Z
UID:8118-1776589200-1776603600@www.gemeinde-petting.de
SUMMARY:Reiterflohmarkt Seehof
DESCRIPTION:
URL:https://www.gemeinde-petting.de/veranstaltung/reiterflohmarkt/
LOCATION:Seehof\, Seehof 1\, Petting\, 83367
CATEGORIES:Veranstaltung
END:VEVENT
BEGIN:VEVENT
DTSTART;TZID=Europe/Berlin:20260419T083000
DTEND;TZID=Europe/Berlin:20260419T110000
DTSTAMP:20260423T042033
CREATED:20251016T084652Z
LAST-MODIFIED:20251016T084652Z
UID:7080-1776587400-1776596400@www.gemeinde-petting.de
SUMMARY:Kleintiermarkt
DESCRIPTION:Für den An- und Verkauf von Geflügel und Kleintieren veranstalten wir jeden 3. Sonntag im Monat von 8:30 Uhr bis 11:00 Uhr einen Markt in Schönram direkt neben der Brauerei. \nZum Verkauf stehen Hasen\, Kaninchen und andere Kleintiere\, Tauben\, Hühner\, Enten\, Gänse\, Wachteln und Ziervögel. \nIn den Sommermonaten ist bei den Märkten auch ein gewerblicher Tierhändler vor Ort\, der von Eintagsküken über Legehennen bis hin zu Enten verschiedene Geflügel im Angebot hat. \n 
URL:https://www.gemeinde-petting.de/veranstaltung/kleintiermarkt-26/
LOCATION:Kellerhaus Schönram\, Salzburger Str.\, Petting\, Deutschland\, 83367
CATEGORIES:Veranstaltung
ORGANIZER;CN="Rassegefl%C3%BCgelzuchtverein":MAILTO:vorstand@rgzv-petting.de
END:VEVENT
BEGIN:VEVENT
DTSTART;TZID=Europe/Berlin:20260418T200000
DTEND;TZID=Europe/Berlin:20260418T200000
DTSTAMP:20260423T042033
CREATED:20260317T093613Z
LAST-MODIFIED:20260327T082447Z
UID:8208-1776542400-1776542400@www.gemeinde-petting.de
SUMMARY:Boarisch Party
DESCRIPTION:Für die richtige Stimmung sorgt die Liveband Brandbox aus Bayern mit ordentlich Energie und bester Partymusik. Dazu gibt’s guads Schönramer Bier\, eine eigene Weißbierbar und natürlich Barbetrieb den ganzen Abend. \n Wichtig: Die Veranstaltung findet direkt in der Brauerei in Schönram statt – NICHT im Wasserbrenner! \n Dresscode: Wir feiern in Tracht – also Dirndl und Lederhose raus und mitfeiern! \n Eintritt: 6 €\n Einlass: ab 16 Jahren \nKommt vorbei und erlebt eine unvergessliche boarische Partynacht!
URL:https://www.gemeinde-petting.de/veranstaltung/boarisch-party-2/
LOCATION:Brauerei Schönram\, Salzburgerstr. 17\, Petting\, 83367\, Deutschland
CATEGORIES:Veranstaltung
END:VEVENT
BEGIN:VEVENT
DTSTART;TZID=Europe/Berlin:20260417T190000
DTEND;TZID=Europe/Berlin:20260417T210000
DTSTAMP:20260423T042033
CREATED:20251017T082525Z
LAST-MODIFIED:20251017T082525Z
UID:7100-1776452400-1776459600@www.gemeinde-petting.de
SUMMARY:Musikantenstammtisch
DESCRIPTION:jeden 3. Freitag im Monat von März bis September lädt das Gasthaus „Riedler“ beim Unterwirt herzlich zu einem Musikantenstammtisch ein. \nAuf Euer kommen freut sich Familie Zettl.
URL:https://www.gemeinde-petting.de/veranstaltung/musikantenstammtisch-15/
LOCATION:Gasthaus Riedler\, Haupstr. 36\, Petting\, 83367
CATEGORIES:Veranstaltung
END:VEVENT
BEGIN:VEVENT
DTSTART;TZID=Europe/Berlin:20260417T180000
DTEND;TZID=Europe/Berlin:20260417T180000
DTSTAMP:20260423T042033
CREATED:20251104T091626Z
LAST-MODIFIED:20260414T081913Z
UID:7331-1776448800-1776448800@www.gemeinde-petting.de
SUMMARY:"Männerkochkurs" mit Friedl Schuster
DESCRIPTION:Erleben Sie hautnah\, wie unter fachkundiger Anleitung ein köstliches Menü entsteht. \nVon der mediterranen Vorspeise bis zum süßen Finale ist alles dabei: \nZur Vorspeise wird ein frischer Tomaten-Mozzarellini-Cocktail vorbereitet \nAls Hauptgericht gibt es zartes Schweinefilet in Paprika-Senf-Soße und Schönramer-Weißbier-Brezenknödl \nDen Abschluss bildet ein feines Erdbeerdessert. \nEin Abend für Genießer\, Neugierige und alle\, die Spaß am guten Essen haben. \nVeranstaltungsort in der Schulküche der Grundschule \nTeilnehmer: mind.10 Personen – max. 15 Personen \n 
URL:https://www.gemeinde-petting.de/veranstaltung/maennerkochkurs-mit-friedl-schuster/
LOCATION:Grundschule\, Schulstraße 6\, Petting\, Bayern\, 83367\, Deutschland
CATEGORIES:Bürgerhilfe,Veranstaltung
END:VEVENT
BEGIN:VEVENT
DTSTART;TZID=Europe/Berlin:20260415T191500
DTEND;TZID=Europe/Berlin:20260415T220000
DTSTAMP:20260423T042033
CREATED:20251203T075102Z
LAST-MODIFIED:20251203T075102Z
UID:7759-1776280500-1776290400@www.gemeinde-petting.de
SUMMARY:Schafkopfrunde
DESCRIPTION:Es sind alle herzlich eingeladen. \nDie Grundregeln sollten bekannt sein. \nOrganisiert wird das Ganze über unsere WhatsApp Gruppe. \nFragen gerne an Karin Strohmeyer unter Tel. 0151-12151041
URL:https://www.gemeinde-petting.de/veranstaltung/schafkopfrunde-14/
LOCATION:Raum Bürgerhilfe
CATEGORIES:Bürgerhilfe,Veranstaltung
END:VEVENT
BEGIN:VEVENT
DTSTART;TZID=Europe/Berlin:20260415T133000
DTEND;TZID=Europe/Berlin:20260415T133000
DTSTAMP:20260423T042033
CREATED:20251103T095415Z
LAST-MODIFIED:20251103T095620Z
UID:7246-1776259800-1776259800@www.gemeinde-petting.de
SUMMARY:JHV der Frauengemeinschaft
DESCRIPTION:
URL:https://www.gemeinde-petting.de/veranstaltung/jhv-der-frauengemeinschaft/
LOCATION:Pfarrheim\, Haupstr. 5\, Pertting\, 83367
CATEGORIES:Veranstaltung
END:VEVENT
BEGIN:VEVENT
DTSTART;TZID=Europe/Berlin:20260410T140000
DTEND;TZID=Europe/Berlin:20260410T170000
DTSTAMP:20260423T042033
CREATED:20251104T091315Z
LAST-MODIFIED:20251118T100900Z
UID:7329-1775829600-1775840400@www.gemeinde-petting.de
SUMMARY:Spielenachmittag für Erwachsene
DESCRIPTION:Mit Trixi Stadler. Wir spielen miteinander und gegeneinander. \nKeine Anmeldung erforderlich. \nAuf euer Kommen freut sich Trixi 🤗
URL:https://www.gemeinde-petting.de/veranstaltung/spielenachmittag-fuer-erwachsene-22/
LOCATION:Raum Bürgerhilfe
CATEGORIES:Bürgerhilfe,Veranstaltung
END:VEVENT
BEGIN:VEVENT
DTSTART;TZID=Europe/Berlin:20260409T133000
DTEND;TZID=Europe/Berlin:20260409T160000
DTSTAMP:20260423T042033
CREATED:20251029T102246Z
LAST-MODIFIED:20251029T102246Z
UID:7179-1775741400-1775750400@www.gemeinde-petting.de
SUMMARY:Pfarrcafe
DESCRIPTION:Wir laden herzlich ein zum geselligen beisammensein bei Kaffee und Kuchen für Jung und Alt.
URL:https://www.gemeinde-petting.de/veranstaltung/pfarrcafe-15/
LOCATION:Pfarrheim\, Haupstr. 5\, Pertting\, 83367
CATEGORIES:Veranstaltung
END:VEVENT
BEGIN:VEVENT
DTSTART;TZID=Europe/Berlin:20260405T053000
DTEND;TZID=Europe/Berlin:20260405T053000
DTSTAMP:20260423T042033
CREATED:20251103T095252Z
LAST-MODIFIED:20251103T095252Z
UID:7244-1775367000-1775367000@www.gemeinde-petting.de
SUMMARY:Osternacht
DESCRIPTION:
URL:https://www.gemeinde-petting.de/veranstaltung/osternacht-4/
LOCATION:Pfarrkirche
CATEGORIES:Veranstaltung
END:VEVENT
BEGIN:VEVENT
DTSTART;TZID=Europe/Berlin:20260403T093000
DTEND;TZID=Europe/Berlin:20260403T093000
DTSTAMP:20260423T042033
CREATED:20251103T095135Z
LAST-MODIFIED:20251103T095135Z
UID:7242-1775208600-1775208600@www.gemeinde-petting.de
SUMMARY:Karfreitagsfeier für Kinder
DESCRIPTION:
URL:https://www.gemeinde-petting.de/veranstaltung/karfreitagsfeier-fuer-kinder/
LOCATION:Pfarrkirche
CATEGORIES:Veranstaltung
END:VEVENT
BEGIN:VEVENT
DTSTART;TZID=Europe/Berlin:20260403T090000
DTEND;TZID=Europe/Berlin:20260403T090000
DTSTAMP:20260423T042033
CREATED:20260317T095517Z
LAST-MODIFIED:20260318T074642Z
UID:8211-1775206800-1775206800@www.gemeinde-petting.de
SUMMARY:Fische räuchern in Spöck
DESCRIPTION: 
URL:https://www.gemeinde-petting.de/veranstaltung/fische-raeuchern-in-spoeck/
LOCATION:Fischerhütte Spöck\, Petting/Spöck\, 83367\, Deutschland
CATEGORIES:Veranstaltung
ORGANIZER;CN="Fischereiverein":MAILTO:fischereivereinpetting@t-online.de
END:VEVENT
BEGIN:VEVENT
DTSTART;TZID=Europe/Berlin:20260401T190000
DTEND;TZID=Europe/Berlin:20260401T203000
DTSTAMP:20260423T042033
CREATED:20251119T075107Z
LAST-MODIFIED:20260331T065128Z
UID:7674-1775070000-1775075400@www.gemeinde-petting.de
SUMMARY:Unterwasseraufnahmen von und mit Peter Gromann
DESCRIPTION:Peter Gromann zeigt Unterwasseraufnahmen vom Korallendreieck in Südostasien\,aus dem Roten Meer sowie aus dem Indischen Ozean. \nAußerdem teilt er mit uns sein Wissen zur Artenvielfalt. \nLasst euch verzaubern \nVon der geheimnisvollen Unterwasserwelt! \nTeilnehmerzahl: max. 8 Personen \nAnmeldung unter: regina.junger@gemeinde-petting.de oder: 08686/ 809980
URL:https://www.gemeinde-petting.de/veranstaltung/unterwasseraufnahmen-von-und-mit-peter-gromann/
LOCATION:Peter Gromann\, Mühlwiesenweg 25\, Petting\, Deutschland\, 83367\, Germany
CATEGORIES:Bürgerhilfe,Veranstaltung
END:VEVENT
BEGIN:VEVENT
DTSTART;TZID=Europe/Berlin:20260329T084500
DTEND;TZID=Europe/Berlin:20260329T084500
DTSTAMP:20260423T042033
CREATED:20251103T094753Z
LAST-MODIFIED:20251103T095011Z
UID:7237-1774773900-1774773900@www.gemeinde-petting.de
SUMMARY:Palmweihe mit Gottesdienst
DESCRIPTION:Palmweihe am Schulplatz\, im Anschluss Palmsonntaggottesdienst in der Kirche und für die Kinder gibt es einen Kindergottesdienst im Pfarrheim.
URL:https://www.gemeinde-petting.de/veranstaltung/palmweihe-mit-gottesdienst/
LOCATION:Dorfplatz/Schule\, Schulstr. 2\, Petting\, 83367\, Deutschland
CATEGORIES:Veranstaltung
END:VEVENT
BEGIN:VEVENT
DTSTART;TZID=Europe/Berlin:20260328T200000
DTEND;TZID=Europe/Berlin:20260328T213000
DTSTAMP:20260423T042033
CREATED:20260205T092937Z
LAST-MODIFIED:20260205T092937Z
UID:8018-1774728000-1774733400@www.gemeinde-petting.de
SUMMARY:Theater in Schönram
DESCRIPTION:
URL:https://www.gemeinde-petting.de/veranstaltung/theater-in-schoenram-15/
LOCATION:Haus der Vereine Schönram
CATEGORIES:Veranstaltung
END:VEVENT
BEGIN:VEVENT
DTSTART;TZID=Europe/Berlin:20260328T130000
DTEND;TZID=Europe/Berlin:20260328T130000
DTSTAMP:20260423T042033
CREATED:20251107T080502Z
LAST-MODIFIED:20251107T080502Z
UID:7526-1774702800-1774702800@www.gemeinde-petting.de
SUMMARY:Umweltschutztag Fischereiverein
DESCRIPTION:
URL:https://www.gemeinde-petting.de/veranstaltung/umweltschutztag-fischereiverein/
LOCATION:Gasthaus Riedler\, Haupstr. 36\, Petting\, 83367
CATEGORIES:Veranstaltung
ORGANIZER;CN="Fischereiverein":MAILTO:fischereivereinpetting@t-online.de
END:VEVENT
BEGIN:VEVENT
DTSTART;TZID=Europe/Berlin:20260328T090000
DTEND;TZID=Europe/Berlin:20260328T130000
DTSTAMP:20260423T042033
CREATED:20260218T080521Z
LAST-MODIFIED:20260218T080521Z
UID:8074-1774688400-1774702800@www.gemeinde-petting.de
SUMMARY:Palmbuschenaktion Trachtenverein
DESCRIPTION:
URL:https://www.gemeinde-petting.de/veranstaltung/palmbuschenaktion-trachtenverein-2/
LOCATION:Haus der Vereine Schönram
CATEGORIES:Veranstaltung
END:VEVENT
BEGIN:VEVENT
DTSTART;TZID=Europe/Berlin:20260327T193000
DTEND;TZID=Europe/Berlin:20260327T210000
DTSTAMP:20260423T042033
CREATED:20260303T092519Z
LAST-MODIFIED:20260305T083245Z
UID:8128-1774639800-1774645200@www.gemeinde-petting.de
SUMMARY:Bürgerversammlung Petting
DESCRIPTION:Die Gemeinde Petting lädt herzlich alle Bürger und Bürgerinnen zur Bürgerversammlung auf der Galerie in der Sporthalle ein. \nTagesordnung: \n\nBegrüßung durch den 1. Bürgermeister\nKassenbericht\, Jahresabschluss\nKommunale Wärmeplanung Petting\nJahresrückblick des 1. Bürgermeisters und kurzer Abriss über das Geschehen 2025 sowie Vorschau 2026\nAktuelle Gemeindeangelegenheiten\, Bekanntmachungen\nDiskussion\, Verschiedenes\n\nWir freuen uns auf Euer kommen.
URL:https://www.gemeinde-petting.de/veranstaltung/buergerversammlung-5/
LOCATION:Turnhalle Petting
CATEGORIES:Veranstaltung
END:VEVENT
BEGIN:VEVENT
DTSTART;TZID=Europe/Berlin:20260327T190000
DTEND;TZID=Europe/Berlin:20260327T190000
DTSTAMP:20260423T042033
CREATED:20251103T104253Z
LAST-MODIFIED:20251103T104253Z
UID:7284-1774638000-1774638000@www.gemeinde-petting.de
SUMMARY:Kreuzweg in der Pfarrkirche
DESCRIPTION:
URL:https://www.gemeinde-petting.de/veranstaltung/kreuzweg-in-der-pfarrkirche/
LOCATION:Pfarrkirche
CATEGORIES:Veranstaltung
END:VEVENT
BEGIN:VEVENT
DTSTART;TZID=Europe/Berlin:20260327T180000
DTEND;TZID=Europe/Berlin:20260327T200000
DTSTAMP:20260423T042033
CREATED:20260126T084429Z
LAST-MODIFIED:20260126T084429Z
UID:7936-1774634400-1774641600@www.gemeinde-petting.de
SUMMARY:Probenstart Kinder & Jugendgruppe
DESCRIPTION:
URL:https://www.gemeinde-petting.de/veranstaltung/probenstart-kinder-jugendgruppe/
LOCATION:Haus der Vereine Schönram
CATEGORIES:Veranstaltung
END:VEVENT
BEGIN:VEVENT
DTSTART;TZID=Europe/Berlin:20260327T173000
DTEND;TZID=Europe/Berlin:20260327T200000
DTSTAMP:20260423T042033
CREATED:20251107T074900Z
LAST-MODIFIED:20260218T080325Z
UID:7510-1774632600-1774641600@www.gemeinde-petting.de
SUMMARY:Palmbuschenaktion Trachtenverein
DESCRIPTION:
URL:https://www.gemeinde-petting.de/veranstaltung/palmbuschenaktion-trachtenverein/
LOCATION:Haus der Vereine Schönram
CATEGORIES:Veranstaltung
END:VEVENT
BEGIN:VEVENT
DTSTART;TZID=Europe/Berlin:20260327T100000
DTEND;TZID=Europe/Berlin:20260327T100000
DTSTAMP:20260423T042033
CREATED:20251103T094530Z
LAST-MODIFIED:20251103T094530Z
UID:7235-1774605600-1774605600@www.gemeinde-petting.de
SUMMARY:Firmung
DESCRIPTION:Firmung des ganzen Pfarrverbandes
URL:https://www.gemeinde-petting.de/veranstaltung/firmung-4/
LOCATION:Pfarrkirche Fridolfing\, Marienstr. 7\, Fridolfing\, 83413\, Deutschland
CATEGORIES:Veranstaltung
END:VEVENT
BEGIN:VEVENT
DTSTART;TZID=Europe/Berlin:20260326T200000
DTEND;TZID=Europe/Berlin:20260326T220000
DTSTAMP:20260423T042033
CREATED:20251106T104002Z
LAST-MODIFIED:20260316T080204Z
UID:7473-1774555200-1774562400@www.gemeinde-petting.de
SUMMARY:JHV Radsportverein "Radl Power Petting"
DESCRIPTION: 
URL:https://www.gemeinde-petting.de/veranstaltung/jhv-radsportverein-radl-power-petting/
LOCATION:Gasthaus Riedler\, Haupstr. 36\, Petting\, 83367
CATEGORIES:Veranstaltung
END:VEVENT
BEGIN:VEVENT
DTSTART;TZID=Europe/Berlin:20260326T200000
DTEND;TZID=Europe/Berlin:20260326T213000
DTSTAMP:20260423T042033
CREATED:20260205T092818Z
LAST-MODIFIED:20260205T092818Z
UID:8015-1774555200-1774560600@www.gemeinde-petting.de
SUMMARY:Theater in Schönram
DESCRIPTION:
URL:https://www.gemeinde-petting.de/veranstaltung/theater-in-schoenram-14/
LOCATION:Haus der Vereine Schönram
CATEGORIES:Veranstaltung
END:VEVENT
BEGIN:VEVENT
DTSTART;TZID=Europe/Berlin:20260325T190000
DTEND;TZID=Europe/Berlin:20260325T190000
DTSTAMP:20260423T042033
CREATED:20251103T094407Z
LAST-MODIFIED:20251103T094407Z
UID:7233-1774465200-1774465200@www.gemeinde-petting.de
SUMMARY:Bußgottesdienst
DESCRIPTION:
URL:https://www.gemeinde-petting.de/veranstaltung/bussgottesdienst-5/
LOCATION:Pfarrkirche
CATEGORIES:Veranstaltung
END:VEVENT
BEGIN:VEVENT
DTSTART;TZID=Europe/Berlin:20260324T200000
DTEND;TZID=Europe/Berlin:20260324T213000
DTSTAMP:20260423T042033
CREATED:20260205T092710Z
LAST-MODIFIED:20260205T092710Z
UID:8012-1774382400-1774387800@www.gemeinde-petting.de
SUMMARY:Theater in Schönram
DESCRIPTION:
URL:https://www.gemeinde-petting.de/veranstaltung/theater-in-schoenram-13/
LOCATION:Haus der Vereine Schönram
CATEGORIES:Veranstaltung
END:VEVENT
BEGIN:VEVENT
DTSTART;TZID=Europe/Berlin:20260324T143000
DTEND;TZID=Europe/Berlin:20260324T163000
DTSTAMP:20260423T042033
CREATED:20251104T090102Z
LAST-MODIFIED:20251118T092627Z
UID:7325-1774362600-1774369800@www.gemeinde-petting.de
SUMMARY:Basteln für die Großen 6-8 Jahre
DESCRIPTION:mit Vroni Allerberger\, Martina Öllerer & Karin Breinbauer \nTeilnehmerzahl: 8 -15 Kinder \nAnmeldung: Vroni Allerberger Tel: 0176-72911923 \nWir gestalten je nach Jahreszeit passende\, krative Kunstwerke. \nFür den kleinen Hunger zwischendurch wird gesorgt. \nBitte Malkittel mitnehmen oder Kleidung anziehen\, die bunt werden darf. \nWir freuen uns auf Euch 🤗
URL:https://www.gemeinde-petting.de/veranstaltung/basteln-fuer-die-grossen-6-8-jahre/
LOCATION:Raum Bürgerhilfe
CATEGORIES:Bürgerhilfe,Veranstaltung
END:VEVENT
END:VCALENDAR